BEGIN:VCALENDAR
VERSION:2.0
PRODID:-//Healthy Minds Philly® - ECPv6.15.20//NONSGML v1.0//EN
CALSCALE:GREGORIAN
METHOD:PUBLISH
X-WR-CALNAME:Healthy Minds Philly®
X-ORIGINAL-URL:https://healthymindsphilly.org
X-WR-CALDESC:Events for Healthy Minds Philly®
REFRESH-INTERVAL;VALUE=DURATION:PT1H
X-Robots-Tag:noindex
X-PUBLISHED-TTL:PT1H
BEGIN:VTIMEZONE
TZID:America/New_York
BEGIN:DAYLIGHT
TZOFFSETFROM:-0500
TZOFFSETTO:-0400
TZNAME:EDT
DTSTART:20250309T070000
END:DAYLIGHT
BEGIN:STANDARD
TZOFFSETFROM:-0400
TZOFFSETTO:-0500
TZNAME:EST
DTSTART:20251102T060000
END:STANDARD
BEGIN:DAYLIGHT
TZOFFSETFROM:-0500
TZOFFSETTO:-0400
TZNAME:EDT
DTSTART:20260308T070000
END:DAYLIGHT
BEGIN:STANDARD
TZOFFSETFROM:-0400
TZOFFSETTO:-0500
TZNAME:EST
DTSTART:20261101T060000
END:STANDARD
BEGIN:DAYLIGHT
TZOFFSETFROM:-0500
TZOFFSETTO:-0400
TZNAME:EDT
DTSTART:20270314T070000
END:DAYLIGHT
BEGIN:STANDARD
TZOFFSETFROM:-0400
TZOFFSETTO:-0500
TZNAME:EST
DTSTART:20271107T060000
END:STANDARD
BEGIN:DAYLIGHT
TZOFFSETFROM:-0500
TZOFFSETTO:-0400
TZNAME:EDT
DTSTART:20280312T070000
END:DAYLIGHT
BEGIN:STANDARD
TZOFFSETFROM:-0400
TZOFFSETTO:-0500
TZNAME:EST
DTSTART:20281105T060000
END:STANDARD
BEGIN:DAYLIGHT
TZOFFSETFROM:-0500
TZOFFSETTO:-0400
TZNAME:EDT
DTSTART:20290311T070000
END:DAYLIGHT
BEGIN:STANDARD
TZOFFSETFROM:-0400
TZOFFSETTO:-0500
TZNAME:EST
DTSTART:20291104T060000
END:STANDARD
END:VTIMEZONE
BEGIN:VEVENT
DTSTART;TZID=America/New_York:20260514T183000
DTEND;TZID=America/New_York:20260514T200000
DTSTAMP:20260422T133942
CREATED:20250123T175044Z
LAST-MODIFIED:20251113T153527Z
UID:10006163-1778783400-1778788800@healthymindsphilly.org
SUMMARY:Sibling Support Group
DESCRIPTION:Support group for folks who lost a sibling from a drug-related loss. Sign up to receive Zoom Link
URL:https://healthymindsphilly.org/event/sibling-support-group/2026-05-14/
CATEGORIES:Addiction,Support Group
ATTACH;FMTTYPE=image/jpeg:https://healthymindsphilly.org/wp-content/uploads/2025/01/get-help-1.jpg
ORGANIZER;CN="Philly HEALs":MAILTO:rachel.essy@phila.gov
END:VEVENT
BEGIN:VEVENT
DTSTART;TZID=America/New_York:20260611T183000
DTEND;TZID=America/New_York:20260611T200000
DTSTAMP:20260422T133942
CREATED:20250123T175044Z
LAST-MODIFIED:20251113T153527Z
UID:10006164-1781202600-1781208000@healthymindsphilly.org
SUMMARY:Sibling Support Group
DESCRIPTION:Support group for folks who lost a sibling from a drug-related loss. Sign up to receive Zoom Link
URL:https://healthymindsphilly.org/event/sibling-support-group/2026-06-11/
CATEGORIES:Addiction,Support Group
ATTACH;FMTTYPE=image/jpeg:https://healthymindsphilly.org/wp-content/uploads/2025/01/get-help-1.jpg
ORGANIZER;CN="Philly HEALs":MAILTO:rachel.essy@phila.gov
END:VEVENT
BEGIN:VEVENT
DTSTART;TZID=America/New_York:20260709T183000
DTEND;TZID=America/New_York:20260709T200000
DTSTAMP:20260422T133942
CREATED:20250123T175044Z
LAST-MODIFIED:20251113T153527Z
UID:10006165-1783621800-1783627200@healthymindsphilly.org
SUMMARY:Sibling Support Group
DESCRIPTION:Support group for folks who lost a sibling from a drug-related loss. Sign up to receive Zoom Link
URL:https://healthymindsphilly.org/event/sibling-support-group/2026-07-09/
CATEGORIES:Addiction,Support Group
ATTACH;FMTTYPE=image/jpeg:https://healthymindsphilly.org/wp-content/uploads/2025/01/get-help-1.jpg
ORGANIZER;CN="Philly HEALs":MAILTO:rachel.essy@phila.gov
END:VEVENT
BEGIN:VEVENT
DTSTART;TZID=America/New_York:20260813T183000
DTEND;TZID=America/New_York:20260813T200000
DTSTAMP:20260422T133942
CREATED:20250123T175044Z
LAST-MODIFIED:20251113T153527Z
UID:10006166-1786645800-1786651200@healthymindsphilly.org
SUMMARY:Sibling Support Group
DESCRIPTION:Support group for folks who lost a sibling from a drug-related loss. Sign up to receive Zoom Link
URL:https://healthymindsphilly.org/event/sibling-support-group/2026-08-13/
CATEGORIES:Addiction,Support Group
ATTACH;FMTTYPE=image/jpeg:https://healthymindsphilly.org/wp-content/uploads/2025/01/get-help-1.jpg
ORGANIZER;CN="Philly HEALs":MAILTO:rachel.essy@phila.gov
END:VEVENT
BEGIN:VEVENT
DTSTART;TZID=America/New_York:20260910T183000
DTEND;TZID=America/New_York:20260910T200000
DTSTAMP:20260422T133942
CREATED:20250123T175044Z
LAST-MODIFIED:20251113T153527Z
UID:10006167-1789065000-1789070400@healthymindsphilly.org
SUMMARY:Sibling Support Group
DESCRIPTION:Support group for folks who lost a sibling from a drug-related loss. Sign up to receive Zoom Link
URL:https://healthymindsphilly.org/event/sibling-support-group/2026-09-10/
CATEGORIES:Addiction,Support Group
ATTACH;FMTTYPE=image/jpeg:https://healthymindsphilly.org/wp-content/uploads/2025/01/get-help-1.jpg
ORGANIZER;CN="Philly HEALs":MAILTO:rachel.essy@phila.gov
END:VEVENT
BEGIN:VEVENT
DTSTART;TZID=America/New_York:20261008T183000
DTEND;TZID=America/New_York:20261008T200000
DTSTAMP:20260422T133942
CREATED:20250123T175044Z
LAST-MODIFIED:20251113T153527Z
UID:10006168-1791484200-1791489600@healthymindsphilly.org
SUMMARY:Sibling Support Group
DESCRIPTION:Support group for folks who lost a sibling from a drug-related loss. Sign up to receive Zoom Link
URL:https://healthymindsphilly.org/event/sibling-support-group/2026-10-08/
CATEGORIES:Addiction,Support Group
ATTACH;FMTTYPE=image/jpeg:https://healthymindsphilly.org/wp-content/uploads/2025/01/get-help-1.jpg
ORGANIZER;CN="Philly HEALs":MAILTO:rachel.essy@phila.gov
END:VEVENT
BEGIN:VEVENT
DTSTART;TZID=America/New_York:20261112T183000
DTEND;TZID=America/New_York:20261112T200000
DTSTAMP:20260422T133942
CREATED:20250123T175044Z
LAST-MODIFIED:20251113T153527Z
UID:10006169-1794508200-1794513600@healthymindsphilly.org
SUMMARY:Sibling Support Group
DESCRIPTION:Support group for folks who lost a sibling from a drug-related loss. Sign up to receive Zoom Link
URL:https://healthymindsphilly.org/event/sibling-support-group/2026-11-12/
CATEGORIES:Addiction,Support Group
ATTACH;FMTTYPE=image/jpeg:https://healthymindsphilly.org/wp-content/uploads/2025/01/get-help-1.jpg
ORGANIZER;CN="Philly HEALs":MAILTO:rachel.essy@phila.gov
END:VEVENT
BEGIN:VEVENT
DTSTART;TZID=America/New_York:20261210T183000
DTEND;TZID=America/New_York:20261210T200000
DTSTAMP:20260422T133942
CREATED:20250123T175044Z
LAST-MODIFIED:20251113T153527Z
UID:10006170-1796927400-1796932800@healthymindsphilly.org
SUMMARY:Sibling Support Group
DESCRIPTION:Support group for folks who lost a sibling from a drug-related loss. Sign up to receive Zoom Link
URL:https://healthymindsphilly.org/event/sibling-support-group/2026-12-10/
CATEGORIES:Addiction,Support Group
ATTACH;FMTTYPE=image/jpeg:https://healthymindsphilly.org/wp-content/uploads/2025/01/get-help-1.jpg
ORGANIZER;CN="Philly HEALs":MAILTO:rachel.essy@phila.gov
END:VEVENT
BEGIN:VEVENT
DTSTART;TZID=America/New_York:20270114T183000
DTEND;TZID=America/New_York:20270114T200000
DTSTAMP:20260422T133942
CREATED:20250123T175044Z
LAST-MODIFIED:20251113T153527Z
UID:10006171-1799951400-1799956800@healthymindsphilly.org
SUMMARY:Sibling Support Group
DESCRIPTION:Support group for folks who lost a sibling from a drug-related loss. Sign up to receive Zoom Link
URL:https://healthymindsphilly.org/event/sibling-support-group/2027-01-14/
CATEGORIES:Addiction,Support Group
ATTACH;FMTTYPE=image/jpeg:https://healthymindsphilly.org/wp-content/uploads/2025/01/get-help-1.jpg
ORGANIZER;CN="Philly HEALs":MAILTO:rachel.essy@phila.gov
END:VEVENT
BEGIN:VEVENT
DTSTART;TZID=America/New_York:20270211T183000
DTEND;TZID=America/New_York:20270211T200000
DTSTAMP:20260422T133942
CREATED:20250123T175044Z
LAST-MODIFIED:20251113T153527Z
UID:10006172-1802370600-1802376000@healthymindsphilly.org
SUMMARY:Sibling Support Group
DESCRIPTION:Support group for folks who lost a sibling from a drug-related loss. Sign up to receive Zoom Link
URL:https://healthymindsphilly.org/event/sibling-support-group/2027-02-11/
CATEGORIES:Addiction,Support Group
ATTACH;FMTTYPE=image/jpeg:https://healthymindsphilly.org/wp-content/uploads/2025/01/get-help-1.jpg
ORGANIZER;CN="Philly HEALs":MAILTO:rachel.essy@phila.gov
END:VEVENT
BEGIN:VEVENT
DTSTART;TZID=America/New_York:20270311T183000
DTEND;TZID=America/New_York:20270311T200000
DTSTAMP:20260422T133942
CREATED:20250123T175044Z
LAST-MODIFIED:20251113T153527Z
UID:10006173-1804789800-1804795200@healthymindsphilly.org
SUMMARY:Sibling Support Group
DESCRIPTION:Support group for folks who lost a sibling from a drug-related loss. Sign up to receive Zoom Link
URL:https://healthymindsphilly.org/event/sibling-support-group/2027-03-11/
CATEGORIES:Addiction,Support Group
ATTACH;FMTTYPE=image/jpeg:https://healthymindsphilly.org/wp-content/uploads/2025/01/get-help-1.jpg
ORGANIZER;CN="Philly HEALs":MAILTO:rachel.essy@phila.gov
END:VEVENT
BEGIN:VEVENT
DTSTART;TZID=America/New_York:20270408T183000
DTEND;TZID=America/New_York:20270408T200000
DTSTAMP:20260422T133942
CREATED:20250123T175044Z
LAST-MODIFIED:20251113T153527Z
UID:10006174-1807209000-1807214400@healthymindsphilly.org
SUMMARY:Sibling Support Group
DESCRIPTION:Support group for folks who lost a sibling from a drug-related loss. Sign up to receive Zoom Link
URL:https://healthymindsphilly.org/event/sibling-support-group/2027-04-08/
CATEGORIES:Addiction,Support Group
ATTACH;FMTTYPE=image/jpeg:https://healthymindsphilly.org/wp-content/uploads/2025/01/get-help-1.jpg
ORGANIZER;CN="Philly HEALs":MAILTO:rachel.essy@phila.gov
END:VEVENT
BEGIN:VEVENT
DTSTART;TZID=America/New_York:20270513T183000
DTEND;TZID=America/New_York:20270513T200000
DTSTAMP:20260422T133942
CREATED:20250123T175044Z
LAST-MODIFIED:20251113T153527Z
UID:10006175-1810233000-1810238400@healthymindsphilly.org
SUMMARY:Sibling Support Group
DESCRIPTION:Support group for folks who lost a sibling from a drug-related loss. Sign up to receive Zoom Link
URL:https://healthymindsphilly.org/event/sibling-support-group/2027-05-13/
CATEGORIES:Addiction,Support Group
ATTACH;FMTTYPE=image/jpeg:https://healthymindsphilly.org/wp-content/uploads/2025/01/get-help-1.jpg
ORGANIZER;CN="Philly HEALs":MAILTO:rachel.essy@phila.gov
END:VEVENT
BEGIN:VEVENT
DTSTART;TZID=America/New_York:20270610T183000
DTEND;TZID=America/New_York:20270610T200000
DTSTAMP:20260422T133942
CREATED:20250123T175044Z
LAST-MODIFIED:20251113T153527Z
UID:10006176-1812652200-1812657600@healthymindsphilly.org
SUMMARY:Sibling Support Group
DESCRIPTION:Support group for folks who lost a sibling from a drug-related loss. Sign up to receive Zoom Link
URL:https://healthymindsphilly.org/event/sibling-support-group/2027-06-10/
CATEGORIES:Addiction,Support Group
ATTACH;FMTTYPE=image/jpeg:https://healthymindsphilly.org/wp-content/uploads/2025/01/get-help-1.jpg
ORGANIZER;CN="Philly HEALs":MAILTO:rachel.essy@phila.gov
END:VEVENT
BEGIN:VEVENT
DTSTART;TZID=America/New_York:20270708T183000
DTEND;TZID=America/New_York:20270708T200000
DTSTAMP:20260422T133942
CREATED:20250123T175044Z
LAST-MODIFIED:20251113T153527Z
UID:10006177-1815071400-1815076800@healthymindsphilly.org
SUMMARY:Sibling Support Group
DESCRIPTION:Support group for folks who lost a sibling from a drug-related loss. Sign up to receive Zoom Link
URL:https://healthymindsphilly.org/event/sibling-support-group/2027-07-08/
CATEGORIES:Addiction,Support Group
ATTACH;FMTTYPE=image/jpeg:https://healthymindsphilly.org/wp-content/uploads/2025/01/get-help-1.jpg
ORGANIZER;CN="Philly HEALs":MAILTO:rachel.essy@phila.gov
END:VEVENT
BEGIN:VEVENT
DTSTART;TZID=America/New_York:20270812T183000
DTEND;TZID=America/New_York:20270812T200000
DTSTAMP:20260422T133942
CREATED:20250123T175044Z
LAST-MODIFIED:20251113T153527Z
UID:10006178-1818095400-1818100800@healthymindsphilly.org
SUMMARY:Sibling Support Group
DESCRIPTION:Support group for folks who lost a sibling from a drug-related loss. Sign up to receive Zoom Link
URL:https://healthymindsphilly.org/event/sibling-support-group/2027-08-12/
CATEGORIES:Addiction,Support Group
ATTACH;FMTTYPE=image/jpeg:https://healthymindsphilly.org/wp-content/uploads/2025/01/get-help-1.jpg
ORGANIZER;CN="Philly HEALs":MAILTO:rachel.essy@phila.gov
END:VEVENT
BEGIN:VEVENT
DTSTART;TZID=America/New_York:20270909T183000
DTEND;TZID=America/New_York:20270909T200000
DTSTAMP:20260422T133942
CREATED:20250123T175044Z
LAST-MODIFIED:20251113T153527Z
UID:10006179-1820514600-1820520000@healthymindsphilly.org
SUMMARY:Sibling Support Group
DESCRIPTION:Support group for folks who lost a sibling from a drug-related loss. Sign up to receive Zoom Link
URL:https://healthymindsphilly.org/event/sibling-support-group/2027-09-09/
CATEGORIES:Addiction,Support Group
ATTACH;FMTTYPE=image/jpeg:https://healthymindsphilly.org/wp-content/uploads/2025/01/get-help-1.jpg
ORGANIZER;CN="Philly HEALs":MAILTO:rachel.essy@phila.gov
END:VEVENT
BEGIN:VEVENT
DTSTART;TZID=America/New_York:20271014T183000
DTEND;TZID=America/New_York:20271014T200000
DTSTAMP:20260422T133942
CREATED:20250123T175044Z
LAST-MODIFIED:20251113T153527Z
UID:10006180-1823538600-1823544000@healthymindsphilly.org
SUMMARY:Sibling Support Group
DESCRIPTION:Support group for folks who lost a sibling from a drug-related loss. Sign up to receive Zoom Link
URL:https://healthymindsphilly.org/event/sibling-support-group/2027-10-14/
CATEGORIES:Addiction,Support Group
ATTACH;FMTTYPE=image/jpeg:https://healthymindsphilly.org/wp-content/uploads/2025/01/get-help-1.jpg
ORGANIZER;CN="Philly HEALs":MAILTO:rachel.essy@phila.gov
END:VEVENT
BEGIN:VEVENT
DTSTART;TZID=America/New_York:20271111T183000
DTEND;TZID=America/New_York:20271111T200000
DTSTAMP:20260422T133942
CREATED:20250123T175044Z
LAST-MODIFIED:20251113T153527Z
UID:10006181-1825957800-1825963200@healthymindsphilly.org
SUMMARY:Sibling Support Group
DESCRIPTION:Support group for folks who lost a sibling from a drug-related loss. Sign up to receive Zoom Link
URL:https://healthymindsphilly.org/event/sibling-support-group/2027-11-11/
CATEGORIES:Addiction,Support Group
ATTACH;FMTTYPE=image/jpeg:https://healthymindsphilly.org/wp-content/uploads/2025/01/get-help-1.jpg
ORGANIZER;CN="Philly HEALs":MAILTO:rachel.essy@phila.gov
END:VEVENT
BEGIN:VEVENT
DTSTART;TZID=America/New_York:20271209T183000
DTEND;TZID=America/New_York:20271209T200000
DTSTAMP:20260422T133942
CREATED:20250123T175044Z
LAST-MODIFIED:20251113T153527Z
UID:10006182-1828377000-1828382400@healthymindsphilly.org
SUMMARY:Sibling Support Group
DESCRIPTION:Support group for folks who lost a sibling from a drug-related loss. Sign up to receive Zoom Link
URL:https://healthymindsphilly.org/event/sibling-support-group/2027-12-09/
CATEGORIES:Addiction,Support Group
ATTACH;FMTTYPE=image/jpeg:https://healthymindsphilly.org/wp-content/uploads/2025/01/get-help-1.jpg
ORGANIZER;CN="Philly HEALs":MAILTO:rachel.essy@phila.gov
END:VEVENT
BEGIN:VEVENT
DTSTART;TZID=America/New_York:20280113T183000
DTEND;TZID=America/New_York:20280113T200000
DTSTAMP:20260422T133942
CREATED:20250123T175044Z
LAST-MODIFIED:20251113T153527Z
UID:10006183-1831401000-1831406400@healthymindsphilly.org
SUMMARY:Sibling Support Group
DESCRIPTION:Support group for folks who lost a sibling from a drug-related loss. Sign up to receive Zoom Link
URL:https://healthymindsphilly.org/event/sibling-support-group/2028-01-13/
CATEGORIES:Addiction,Support Group
ATTACH;FMTTYPE=image/jpeg:https://healthymindsphilly.org/wp-content/uploads/2025/01/get-help-1.jpg
ORGANIZER;CN="Philly HEALs":MAILTO:rachel.essy@phila.gov
END:VEVENT
BEGIN:VEVENT
DTSTART;TZID=America/New_York:20280210T183000
DTEND;TZID=America/New_York:20280210T200000
DTSTAMP:20260422T133942
CREATED:20250123T175044Z
LAST-MODIFIED:20251113T153527Z
UID:10006184-1833820200-1833825600@healthymindsphilly.org
SUMMARY:Sibling Support Group
DESCRIPTION:Support group for folks who lost a sibling from a drug-related loss. Sign up to receive Zoom Link
URL:https://healthymindsphilly.org/event/sibling-support-group/2028-02-10/
CATEGORIES:Addiction,Support Group
ATTACH;FMTTYPE=image/jpeg:https://healthymindsphilly.org/wp-content/uploads/2025/01/get-help-1.jpg
ORGANIZER;CN="Philly HEALs":MAILTO:rachel.essy@phila.gov
END:VEVENT
BEGIN:VEVENT
DTSTART;TZID=America/New_York:20280309T183000
DTEND;TZID=America/New_York:20280309T200000
DTSTAMP:20260422T133942
CREATED:20250123T175044Z
LAST-MODIFIED:20251113T153527Z
UID:10006185-1836239400-1836244800@healthymindsphilly.org
SUMMARY:Sibling Support Group
DESCRIPTION:Support group for folks who lost a sibling from a drug-related loss. Sign up to receive Zoom Link
URL:https://healthymindsphilly.org/event/sibling-support-group/2028-03-09/
CATEGORIES:Addiction,Support Group
ATTACH;FMTTYPE=image/jpeg:https://healthymindsphilly.org/wp-content/uploads/2025/01/get-help-1.jpg
ORGANIZER;CN="Philly HEALs":MAILTO:rachel.essy@phila.gov
END:VEVENT
BEGIN:VEVENT
DTSTART;TZID=America/New_York:20280413T183000
DTEND;TZID=America/New_York:20280413T200000
DTSTAMP:20260422T133942
CREATED:20250123T175044Z
LAST-MODIFIED:20251113T153527Z
UID:10006186-1839263400-1839268800@healthymindsphilly.org
SUMMARY:Sibling Support Group
DESCRIPTION:Support group for folks who lost a sibling from a drug-related loss. Sign up to receive Zoom Link
URL:https://healthymindsphilly.org/event/sibling-support-group/2028-04-13/
CATEGORIES:Addiction,Support Group
ATTACH;FMTTYPE=image/jpeg:https://healthymindsphilly.org/wp-content/uploads/2025/01/get-help-1.jpg
ORGANIZER;CN="Philly HEALs":MAILTO:rachel.essy@phila.gov
END:VEVENT
BEGIN:VEVENT
DTSTART;TZID=America/New_York:20280511T183000
DTEND;TZID=America/New_York:20280511T200000
DTSTAMP:20260422T133942
CREATED:20250123T175044Z
LAST-MODIFIED:20251113T153527Z
UID:10006187-1841682600-1841688000@healthymindsphilly.org
SUMMARY:Sibling Support Group
DESCRIPTION:Support group for folks who lost a sibling from a drug-related loss. Sign up to receive Zoom Link
URL:https://healthymindsphilly.org/event/sibling-support-group/2028-05-11/
CATEGORIES:Addiction,Support Group
ATTACH;FMTTYPE=image/jpeg:https://healthymindsphilly.org/wp-content/uploads/2025/01/get-help-1.jpg
ORGANIZER;CN="Philly HEALs":MAILTO:rachel.essy@phila.gov
END:VEVENT
BEGIN:VEVENT
DTSTART;TZID=America/New_York:20280608T183000
DTEND;TZID=America/New_York:20280608T200000
DTSTAMP:20260422T133942
CREATED:20250123T175044Z
LAST-MODIFIED:20251113T153527Z
UID:10006188-1844101800-1844107200@healthymindsphilly.org
SUMMARY:Sibling Support Group
DESCRIPTION:Support group for folks who lost a sibling from a drug-related loss. Sign up to receive Zoom Link
URL:https://healthymindsphilly.org/event/sibling-support-group/2028-06-08/
CATEGORIES:Addiction,Support Group
ATTACH;FMTTYPE=image/jpeg:https://healthymindsphilly.org/wp-content/uploads/2025/01/get-help-1.jpg
ORGANIZER;CN="Philly HEALs":MAILTO:rachel.essy@phila.gov
END:VEVENT
BEGIN:VEVENT
DTSTART;TZID=America/New_York:20280713T183000
DTEND;TZID=America/New_York:20280713T200000
DTSTAMP:20260422T133942
CREATED:20250123T175044Z
LAST-MODIFIED:20251113T153527Z
UID:10006189-1847125800-1847131200@healthymindsphilly.org
SUMMARY:Sibling Support Group
DESCRIPTION:Support group for folks who lost a sibling from a drug-related loss. Sign up to receive Zoom Link
URL:https://healthymindsphilly.org/event/sibling-support-group/2028-07-13/
CATEGORIES:Addiction,Support Group
ATTACH;FMTTYPE=image/jpeg:https://healthymindsphilly.org/wp-content/uploads/2025/01/get-help-1.jpg
ORGANIZER;CN="Philly HEALs":MAILTO:rachel.essy@phila.gov
END:VEVENT
BEGIN:VEVENT
DTSTART;TZID=America/New_York:20280810T183000
DTEND;TZID=America/New_York:20280810T200000
DTSTAMP:20260422T133942
CREATED:20250123T175044Z
LAST-MODIFIED:20251113T153527Z
UID:10006190-1849545000-1849550400@healthymindsphilly.org
SUMMARY:Sibling Support Group
DESCRIPTION:Support group for folks who lost a sibling from a drug-related loss. Sign up to receive Zoom Link
URL:https://healthymindsphilly.org/event/sibling-support-group/2028-08-10/
CATEGORIES:Addiction,Support Group
ATTACH;FMTTYPE=image/jpeg:https://healthymindsphilly.org/wp-content/uploads/2025/01/get-help-1.jpg
ORGANIZER;CN="Philly HEALs":MAILTO:rachel.essy@phila.gov
END:VEVENT
BEGIN:VEVENT
DTSTART;TZID=America/New_York:20280914T183000
DTEND;TZID=America/New_York:20280914T200000
DTSTAMP:20260422T133942
CREATED:20250123T175044Z
LAST-MODIFIED:20251113T153527Z
UID:10006191-1852569000-1852574400@healthymindsphilly.org
SUMMARY:Sibling Support Group
DESCRIPTION:Support group for folks who lost a sibling from a drug-related loss. Sign up to receive Zoom Link
URL:https://healthymindsphilly.org/event/sibling-support-group/2028-09-14/
CATEGORIES:Addiction,Support Group
ATTACH;FMTTYPE=image/jpeg:https://healthymindsphilly.org/wp-content/uploads/2025/01/get-help-1.jpg
ORGANIZER;CN="Philly HEALs":MAILTO:rachel.essy@phila.gov
END:VEVENT
BEGIN:VEVENT
DTSTART;TZID=America/New_York:20281012T183000
DTEND;TZID=America/New_York:20281012T200000
DTSTAMP:20260422T133942
CREATED:20250123T175044Z
LAST-MODIFIED:20251113T153527Z
UID:10006192-1854988200-1854993600@healthymindsphilly.org
SUMMARY:Sibling Support Group
DESCRIPTION:Support group for folks who lost a sibling from a drug-related loss. Sign up to receive Zoom Link
URL:https://healthymindsphilly.org/event/sibling-support-group/2028-10-12/
CATEGORIES:Addiction,Support Group
ATTACH;FMTTYPE=image/jpeg:https://healthymindsphilly.org/wp-content/uploads/2025/01/get-help-1.jpg
ORGANIZER;CN="Philly HEALs":MAILTO:rachel.essy@phila.gov
END:VEVENT
END:VCALENDAR