BEGIN:VCALENDAR
VERSION:2.0
PRODID:-//Healthy Minds Philly® - ECPv6.15.20//NONSGML v1.0//EN
CALSCALE:GREGORIAN
METHOD:PUBLISH
X-WR-CALNAME:Healthy Minds Philly®
X-ORIGINAL-URL:https://healthymindsphilly.org
X-WR-CALDESC:Events for Healthy Minds Philly®
REFRESH-INTERVAL;VALUE=DURATION:PT1H
X-Robots-Tag:noindex
X-PUBLISHED-TTL:PT1H
BEGIN:VTIMEZONE
TZID:America/New_York
BEGIN:DAYLIGHT
TZOFFSETFROM:-0500
TZOFFSETTO:-0400
TZNAME:EDT
DTSTART:20250309T070000
END:DAYLIGHT
BEGIN:STANDARD
TZOFFSETFROM:-0400
TZOFFSETTO:-0500
TZNAME:EST
DTSTART:20251102T060000
END:STANDARD
BEGIN:DAYLIGHT
TZOFFSETFROM:-0500
TZOFFSETTO:-0400
TZNAME:EDT
DTSTART:20260308T070000
END:DAYLIGHT
BEGIN:STANDARD
TZOFFSETFROM:-0400
TZOFFSETTO:-0500
TZNAME:EST
DTSTART:20261101T060000
END:STANDARD
BEGIN:DAYLIGHT
TZOFFSETFROM:-0500
TZOFFSETTO:-0400
TZNAME:EDT
DTSTART:20270314T070000
END:DAYLIGHT
BEGIN:STANDARD
TZOFFSETFROM:-0400
TZOFFSETTO:-0500
TZNAME:EST
DTSTART:20271107T060000
END:STANDARD
END:VTIMEZONE
BEGIN:VEVENT
DTSTART;TZID=America/New_York:20260601T180000
DTEND;TZID=America/New_York:20260601T190000
DTSTAMP:20260421T160054
CREATED:20250904T194139Z
LAST-MODIFIED:20250904T194139Z
UID:10011417-1780336800-1780340400@healthymindsphilly.org
SUMMARY:Virtual Grief Support Group - All Arms Locked
DESCRIPTION:Philly HEALs will be hosting a virtual support group for men who are experiencing grief from stigmatized loss. While we recognize that all grief can be difficult\, when you lose a loved one in a stigmatized way\, it can further impede the grieving process. Examples of stigmatized loss are losses due to overdose\, addiction\, homicide\, or suicide. This group will assist in building community between men who have experienced similar losses as well as giving participants tools to deal with this type of grief. You can sign up for the group here: https://redcap.phila.gov/surveys/?s=A7FELKJWED
URL:https://healthymindsphilly.org/event/virtual-grief-support-group-all-arms-locked/2026-06-01/
LOCATION:PA
CATEGORIES:Grief,Support Group
ATTACH;FMTTYPE=image/png:https://healthymindsphilly.org/wp-content/uploads/2025/09/Philly-HEALs-Mens-Group-Flyer.png
ORGANIZER;CN="Philly HEALs":MAILTO:jonathan.arneman@phila.gov
END:VEVENT
BEGIN:VEVENT
DTSTART;TZID=America/New_York:20260603T183000
DTEND;TZID=America/New_York:20260603T200000
DTSTAMP:20260421T160054
CREATED:20250123T173720Z
LAST-MODIFIED:20250807T141632Z
UID:10006052-1780511400-1780516800@healthymindsphilly.org
SUMMARY:Parents Support Group
DESCRIPTION:Support Group for Parents who lost a child to a drug-related loss. Please sign up to get Zoom link
URL:https://healthymindsphilly.org/event/parents-support-group/2026-06-03/
LOCATION:PA
CATEGORIES:Addiction,Support Group
ATTACH;FMTTYPE=image/jpeg:https://healthymindsphilly.org/wp-content/uploads/2025/01/pexels-jack-sparrow-4046987-1-scaled.jpg
ORGANIZER;CN="Philly HEALs":MAILTO:rachel.essy@phila.gov
END:VEVENT
BEGIN:VEVENT
DTSTART;TZID=America/New_York:20260604T180000
DTEND;TZID=America/New_York:20260604T190000
DTSTAMP:20260421T160054
CREATED:20240509T151110Z
LAST-MODIFIED:20240509T151110Z
UID:10005348-1780596000-1780599600@healthymindsphilly.org
SUMMARY:Parent/Caregiver Support Group
DESCRIPTION:Support Group facilitated by a licensed therapist. This group is designed to meet the needs of Parents and Caregivers of those with mental health\, behavioral health and substance use challenges who are aged 14 and over. Meets the first Thursday of every month on Zoom.
URL:https://healthymindsphilly.org/event/parent-caregiver-support-group/2026-06-04/
LOCATION:PA
CATEGORIES:Support Group
ORGANIZER;CN="Lydia Cooper":MAILTO:tecinfo@mhphope.org
END:VEVENT
BEGIN:VEVENT
DTSTART;TZID=America/New_York:20260608T180000
DTEND;TZID=America/New_York:20260608T190000
DTSTAMP:20260421T160054
CREATED:20250904T194139Z
LAST-MODIFIED:20250904T194139Z
UID:10011418-1780941600-1780945200@healthymindsphilly.org
SUMMARY:Virtual Grief Support Group - All Arms Locked
DESCRIPTION:Philly HEALs will be hosting a virtual support group for men who are experiencing grief from stigmatized loss. While we recognize that all grief can be difficult\, when you lose a loved one in a stigmatized way\, it can further impede the grieving process. Examples of stigmatized loss are losses due to overdose\, addiction\, homicide\, or suicide. This group will assist in building community between men who have experienced similar losses as well as giving participants tools to deal with this type of grief. You can sign up for the group here: https://redcap.phila.gov/surveys/?s=A7FELKJWED
URL:https://healthymindsphilly.org/event/virtual-grief-support-group-all-arms-locked/2026-06-08/
LOCATION:PA
CATEGORIES:Grief,Support Group
ATTACH;FMTTYPE=image/png:https://healthymindsphilly.org/wp-content/uploads/2025/09/Philly-HEALs-Mens-Group-Flyer.png
ORGANIZER;CN="Philly HEALs":MAILTO:jonathan.arneman@phila.gov
END:VEVENT
BEGIN:VEVENT
DTSTART;TZID=America/New_York:20260610T190000
DTEND;TZID=America/New_York:20260610T200000
DTSTAMP:20260421T160054
CREATED:20241128T133159Z
LAST-MODIFIED:20260124T225333Z
UID:10011315-1781118000-1781121600@healthymindsphilly.org
SUMMARY:Survivors of Suicide Loss Support Group - 2nd Wednesday
DESCRIPTION:The Survivors of Suicide Loss Support Groups help loss survivors cope\, connect\, and work toward healing. Trained group facilitators are suicide loss survivors who know\, firsthand\, how difficult it can be to find your way after losing someone to suicide. The groups are open to anyone 18 years or older who is grieving a loss due to suicide. No pre-registration is required\, but you are welcome to send an email to let us know that you might attend. The groups are free and confidential. \nLearn more about the groups.
URL:https://healthymindsphilly.org/event/survivors-of-suicide-loss-support-group-2nd-wednesday/2026-06-10/
LOCATION:Virtual – Zoom\, United States
CATEGORIES:Suicide Prevention,Support Group
ORGANIZER;CN="Patrick Kessel":MAILTO:patrick.kessel@phila.gov
END:VEVENT
BEGIN:VEVENT
DTSTART;TZID=America/New_York:20260611T180000
DTEND;TZID=America/New_York:20260611T190000
DTSTAMP:20260421T160054
CREATED:20240509T151230Z
LAST-MODIFIED:20251113T153239Z
UID:10005408-1781200800-1781204400@healthymindsphilly.org
SUMMARY:Sibling/Family/Lone One Support
DESCRIPTION:If you are the adult sibling\, family member\, or relationship partner of an adult with mental/behavioral/substance challenges\, this group meets on Zoom the 2nd Thursday of every month. Facilitated by a licensed clinical therapist
URL:https://healthymindsphilly.org/event/sibling-family-lone-one-support/2026-06-11/
LOCATION:PA
CATEGORIES:Support Group
ATTACH;FMTTYPE=image/png:https://healthymindsphilly.org/wp-content/uploads/2025/11/grief-loss-resources.png
ORGANIZER;CN="Lydia Cooper":MAILTO:tecinfo@mhphope.org
END:VEVENT
BEGIN:VEVENT
DTSTART;TZID=America/New_York:20260611T183000
DTEND;TZID=America/New_York:20260611T200000
DTSTAMP:20260421T160054
CREATED:20250123T175044Z
LAST-MODIFIED:20251113T153527Z
UID:10006164-1781202600-1781208000@healthymindsphilly.org
SUMMARY:Sibling Support Group
DESCRIPTION:Support group for folks who lost a sibling from a drug-related loss. Sign up to receive Zoom Link
URL:https://healthymindsphilly.org/event/sibling-support-group/2026-06-11/
LOCATION:PA
CATEGORIES:Addiction,Support Group
ATTACH;FMTTYPE=image/jpeg:https://healthymindsphilly.org/wp-content/uploads/2025/01/get-help-1.jpg
ORGANIZER;CN="Philly HEALs":MAILTO:rachel.essy@phila.gov
END:VEVENT
BEGIN:VEVENT
DTSTART;TZID=America/New_York:20260615T180000
DTEND;TZID=America/New_York:20260615T190000
DTSTAMP:20260421T160054
CREATED:20250904T194139Z
LAST-MODIFIED:20250904T194139Z
UID:10011419-1781546400-1781550000@healthymindsphilly.org
SUMMARY:Virtual Grief Support Group - All Arms Locked
DESCRIPTION:Philly HEALs will be hosting a virtual support group for men who are experiencing grief from stigmatized loss. While we recognize that all grief can be difficult\, when you lose a loved one in a stigmatized way\, it can further impede the grieving process. Examples of stigmatized loss are losses due to overdose\, addiction\, homicide\, or suicide. This group will assist in building community between men who have experienced similar losses as well as giving participants tools to deal with this type of grief. You can sign up for the group here: https://redcap.phila.gov/surveys/?s=A7FELKJWED
URL:https://healthymindsphilly.org/event/virtual-grief-support-group-all-arms-locked/2026-06-15/
LOCATION:PA
CATEGORIES:Grief,Support Group
ATTACH;FMTTYPE=image/png:https://healthymindsphilly.org/wp-content/uploads/2025/09/Philly-HEALs-Mens-Group-Flyer.png
ORGANIZER;CN="Philly HEALs":MAILTO:jonathan.arneman@phila.gov
END:VEVENT
BEGIN:VEVENT
DTSTART;TZID=America/New_York:20260617T183000
DTEND;TZID=America/New_York:20260617T200000
DTSTAMP:20260421T160054
CREATED:20250123T173720Z
LAST-MODIFIED:20250807T141632Z
UID:10006053-1781721000-1781726400@healthymindsphilly.org
SUMMARY:Parents Support Group
DESCRIPTION:Support Group for Parents who lost a child to a drug-related loss. Please sign up to get Zoom link
URL:https://healthymindsphilly.org/event/parents-support-group/2026-06-17/
LOCATION:PA
CATEGORIES:Addiction,Support Group
ATTACH;FMTTYPE=image/jpeg:https://healthymindsphilly.org/wp-content/uploads/2025/01/pexels-jack-sparrow-4046987-1-scaled.jpg
ORGANIZER;CN="Philly HEALs":MAILTO:rachel.essy@phila.gov
END:VEVENT
BEGIN:VEVENT
DTSTART;TZID=America/New_York:20260620T100000
DTEND;TZID=America/New_York:20260620T200000
DTSTAMP:20260421T160054
CREATED:20260408T185639Z
LAST-MODIFIED:20260408T185639Z
UID:10015724-1781949600-1781985600@healthymindsphilly.org
SUMMARY:The Coalition of Non-Profits Community Health and Help Expo
DESCRIPTION:The Coalition of Non-Profits Community Health & Help Expo is a citywide movement designed to connect individuals and families to real resources\, in real time. We bring together nonprofits\, agencies\, and community leaders under one roof to provide direct access to vital services that support mental health\, physical wellness\, stability\, and safety. \nThis Expo is intentionally built to break down barriers\, eliminate silos\, and create one powerful space where the community can find help\, hope\, and opportunity\,all in one place. \nMore than an event\, it is a call to action\,restoring the true meaning of community by ensuring no one has to struggle in silence and everyone knows where to turn when they need support.
URL:https://healthymindsphilly.org/event/the-coalition-of-non-profits-community-health-and-help-expo/
LOCATION:PA Convention Center\, 1101 Arch Street\, Philadelphia\, PA\, PA\, 19107\, United States
CATEGORIES:Addiction,Autism,Caregiving,Community,Entertainment,Event Registration,Family,Grief,Intellectual Disabilities,LGBTQ,Men's Health,Mental Health,MHFA,Older Adults,Peer Specialists,Racial Equality,Screening,Self Care,Services Request,Sexual Assault Awareness,Storytelling,Suicide Prevention,Support Group,Training,Trauma,Webinar,wellness,Women's Health,Workplace Health,Youth
ATTACH;FMTTYPE=image/png:https://healthymindsphilly.org/wp-content/uploads/2026/04/CNP-Sq-logo.png
ORGANIZER;CN="Latanya":MAILTO:lmorrison@ahmadbutler.org
END:VEVENT
BEGIN:VEVENT
DTSTART;TZID=America/New_York:20260622T180000
DTEND;TZID=America/New_York:20260622T190000
DTSTAMP:20260421T160054
CREATED:20250904T194139Z
LAST-MODIFIED:20250904T194139Z
UID:10011420-1782151200-1782154800@healthymindsphilly.org
SUMMARY:Virtual Grief Support Group - All Arms Locked
DESCRIPTION:Philly HEALs will be hosting a virtual support group for men who are experiencing grief from stigmatized loss. While we recognize that all grief can be difficult\, when you lose a loved one in a stigmatized way\, it can further impede the grieving process. Examples of stigmatized loss are losses due to overdose\, addiction\, homicide\, or suicide. This group will assist in building community between men who have experienced similar losses as well as giving participants tools to deal with this type of grief. You can sign up for the group here: https://redcap.phila.gov/surveys/?s=A7FELKJWED
URL:https://healthymindsphilly.org/event/virtual-grief-support-group-all-arms-locked/2026-06-22/
LOCATION:PA
CATEGORIES:Grief,Support Group
ATTACH;FMTTYPE=image/png:https://healthymindsphilly.org/wp-content/uploads/2025/09/Philly-HEALs-Mens-Group-Flyer.png
ORGANIZER;CN="Philly HEALs":MAILTO:jonathan.arneman@phila.gov
END:VEVENT
BEGIN:VEVENT
DTSTART;TZID=America/New_York:20260623T190000
DTEND;TZID=America/New_York:20260623T200000
DTSTAMP:20260421T160054
CREATED:20241128T133123Z
LAST-MODIFIED:20250815T135127Z
UID:10005862-1782241200-1782244800@healthymindsphilly.org
SUMMARY:Survivors of Suicide Loss Support Group - 4th Tuesday
DESCRIPTION:The Survivors of Suicide Loss Support Groups help loss survivors cope\, connect\, and work toward healing. Trained group facilitators are suicide loss survivors who know\, firsthand\, how difficult it can be to find your way after losing someone to suicide. The groups are open to anyone 18 years or older who is grieving a loss due to suicide. No pre-registration is required\, but you are welcome to send an email to let us know that you might attend. The groups are free and confidential.
URL:https://healthymindsphilly.org/event/survivors-of-suicide-loss-support-group-4th-tuesday/2026-06-23/
LOCATION:Virtual – Zoom\, United States
CATEGORIES:Suicide Prevention,Support Group
ATTACH;FMTTYPE=image/jpeg:https://healthymindsphilly.org/wp-content/uploads/2024/11/suicide-loss-e1755265860600.jpg
ORGANIZER;CN="Patrick Kessel":MAILTO:patrick.kessel@phila.gov
END:VEVENT
BEGIN:VEVENT
DTSTART;TZID=America/New_York:20260629T180000
DTEND;TZID=America/New_York:20260629T190000
DTSTAMP:20260421T160054
CREATED:20250904T194139Z
LAST-MODIFIED:20250904T194139Z
UID:10011421-1782756000-1782759600@healthymindsphilly.org
SUMMARY:Virtual Grief Support Group - All Arms Locked
DESCRIPTION:Philly HEALs will be hosting a virtual support group for men who are experiencing grief from stigmatized loss. While we recognize that all grief can be difficult\, when you lose a loved one in a stigmatized way\, it can further impede the grieving process. Examples of stigmatized loss are losses due to overdose\, addiction\, homicide\, or suicide. This group will assist in building community between men who have experienced similar losses as well as giving participants tools to deal with this type of grief. You can sign up for the group here: https://redcap.phila.gov/surveys/?s=A7FELKJWED
URL:https://healthymindsphilly.org/event/virtual-grief-support-group-all-arms-locked/2026-06-29/
LOCATION:PA
CATEGORIES:Grief,Support Group
ATTACH;FMTTYPE=image/png:https://healthymindsphilly.org/wp-content/uploads/2025/09/Philly-HEALs-Mens-Group-Flyer.png
ORGANIZER;CN="Philly HEALs":MAILTO:jonathan.arneman@phila.gov
END:VEVENT
END:VCALENDAR