BEGIN:VCALENDAR
VERSION:2.0
PRODID:-//Healthy Minds Philly® - ECPv6.15.20//NONSGML v1.0//EN
CALSCALE:GREGORIAN
METHOD:PUBLISH
X-ORIGINAL-URL:https://healthymindsphilly.org
X-WR-CALDESC:Events for Healthy Minds Philly®
REFRESH-INTERVAL;VALUE=DURATION:PT1H
X-Robots-Tag:noindex
X-PUBLISHED-TTL:PT1H
BEGIN:VTIMEZONE
TZID:America/New_York
BEGIN:DAYLIGHT
TZOFFSETFROM:-0500
TZOFFSETTO:-0400
TZNAME:EDT
DTSTART:20250309T070000
END:DAYLIGHT
BEGIN:STANDARD
TZOFFSETFROM:-0400
TZOFFSETTO:-0500
TZNAME:EST
DTSTART:20251102T060000
END:STANDARD
BEGIN:DAYLIGHT
TZOFFSETFROM:-0500
TZOFFSETTO:-0400
TZNAME:EDT
DTSTART:20260308T070000
END:DAYLIGHT
BEGIN:STANDARD
TZOFFSETFROM:-0400
TZOFFSETTO:-0500
TZNAME:EST
DTSTART:20261101T060000
END:STANDARD
BEGIN:DAYLIGHT
TZOFFSETFROM:-0500
TZOFFSETTO:-0400
TZNAME:EDT
DTSTART:20270314T070000
END:DAYLIGHT
BEGIN:STANDARD
TZOFFSETFROM:-0400
TZOFFSETTO:-0500
TZNAME:EST
DTSTART:20271107T060000
END:STANDARD
END:VTIMEZONE
BEGIN:VEVENT
DTSTART;TZID=America/New_York:20260606T060000
DTEND;TZID=America/New_York:20260606T130000
DTSTAMP:20260421T170738
CREATED:20260105T155250Z
LAST-MODIFIED:20260105T155250Z
UID:10013104-1780725600-1780750800@healthymindsphilly.org
SUMMARY:Black Men's Wellness Day
DESCRIPTION:Black Men’s Wellness Day in Philadelphia is a transformative community event dedicated to improving the health and empowerment of Black men and their families. Taking place on Saturday\, June 6\, 2026\, at Temple University\, this day offers free health screenings\, mental health resources\, fitness and nutrition education\, and family-friendly activities designed to promote holistic well-being. \nAttendees can enjoy interactive sessions\, cultural celebrations\, and special highlights like the Proud Dad Cookout and Sports with Fathers\, all while connecting with local organizations committed to reducing health disparities. More than just an event\, Black Men’s Wellness Day is a movement toward health equity and community resilience—join us as we celebrate life\, build connections\, and create a healthier future for African American men and their families in Philadelphia.
URL:https://healthymindsphilly.org/event/black-mens-wellness-day/
LOCATION:Star Aramark Complex (Temple University)\, 1816 North 15th Street\,\, Philadelphia\, PA\, 19121\, United States
CATEGORIES:Community,Family,Men's Health
ATTACH;FMTTYPE=image/jpeg:https://healthymindsphilly.org/wp-content/uploads/2026/01/2026-Philly-Save-the-date-copy-2-scaled.jpg
ORGANIZER;CN="AAMWA":MAILTO:dfinch@ncusolutions.com
END:VEVENT
END:VCALENDAR