BEGIN:VCALENDAR
VERSION:2.0
PRODID:-//Healthy Minds Philly® - ECPv6.15.20//NONSGML v1.0//EN
CALSCALE:GREGORIAN
METHOD:PUBLISH
X-ORIGINAL-URL:https://healthymindsphilly.org
X-WR-CALDESC:Events for Healthy Minds Philly®
REFRESH-INTERVAL;VALUE=DURATION:PT1H
X-Robots-Tag:noindex
X-PUBLISHED-TTL:PT1H
BEGIN:VTIMEZONE
TZID:America/New_York
BEGIN:DAYLIGHT
TZOFFSETFROM:-0500
TZOFFSETTO:-0400
TZNAME:EDT
DTSTART:20250309T070000
END:DAYLIGHT
BEGIN:STANDARD
TZOFFSETFROM:-0400
TZOFFSETTO:-0500
TZNAME:EST
DTSTART:20251102T060000
END:STANDARD
BEGIN:DAYLIGHT
TZOFFSETFROM:-0500
TZOFFSETTO:-0400
TZNAME:EDT
DTSTART:20260308T070000
END:DAYLIGHT
BEGIN:STANDARD
TZOFFSETFROM:-0400
TZOFFSETTO:-0500
TZNAME:EST
DTSTART:20261101T060000
END:STANDARD
BEGIN:DAYLIGHT
TZOFFSETFROM:-0500
TZOFFSETTO:-0400
TZNAME:EDT
DTSTART:20270314T070000
END:DAYLIGHT
BEGIN:STANDARD
TZOFFSETFROM:-0400
TZOFFSETTO:-0500
TZNAME:EST
DTSTART:20271107T060000
END:STANDARD
END:VTIMEZONE
BEGIN:VEVENT
DTSTART;TZID=America/New_York:20260521T100000
DTEND;TZID=America/New_York:20260521T120000
DTSTAMP:20260421T182801
CREATED:20260416T154042Z
LAST-MODIFIED:20260416T154042Z
UID:10015757-1779357600-1779364800@healthymindsphilly.org
SUMMARY:Health Screenings – Cedar Food Market – Jefferson Community Health Collaborative
DESCRIPTION:Jefferson Health provides FREE A1C\, total cholesterol and blood pressure screenings within the Philadelphia area. Come out for a free screening!
URL:https://healthymindsphilly.org/event/health-screenings-cedar-food-market-jefferson-community-health-collaborative-2/2026-05-21/
LOCATION:Food Trust- Cedar Food Market\, 600 S 52nd St\, Philadelphia\, 19143\, United States
CATEGORIES:Screening
ORGANIZER;CN="Jefferson Health":MAILTO:brittany.stewart5@jefferson.edu
END:VEVENT
END:VCALENDAR