BEGIN:VCALENDAR
VERSION:2.0
PRODID:-//Healthy Minds Philly® - ECPv6.15.20//NONSGML v1.0//EN
CALSCALE:GREGORIAN
METHOD:PUBLISH
X-WR-CALNAME:Healthy Minds Philly®
X-ORIGINAL-URL:https://healthymindsphilly.org
X-WR-CALDESC:Events for Healthy Minds Philly®
REFRESH-INTERVAL;VALUE=DURATION:PT1H
X-Robots-Tag:noindex
X-PUBLISHED-TTL:PT1H
BEGIN:VTIMEZONE
TZID:America/New_York
BEGIN:DAYLIGHT
TZOFFSETFROM:-0500
TZOFFSETTO:-0400
TZNAME:EDT
DTSTART:20250309T070000
END:DAYLIGHT
BEGIN:STANDARD
TZOFFSETFROM:-0400
TZOFFSETTO:-0500
TZNAME:EST
DTSTART:20251102T060000
END:STANDARD
BEGIN:DAYLIGHT
TZOFFSETFROM:-0500
TZOFFSETTO:-0400
TZNAME:EDT
DTSTART:20260308T070000
END:DAYLIGHT
BEGIN:STANDARD
TZOFFSETFROM:-0400
TZOFFSETTO:-0500
TZNAME:EST
DTSTART:20261101T060000
END:STANDARD
BEGIN:DAYLIGHT
TZOFFSETFROM:-0500
TZOFFSETTO:-0400
TZNAME:EDT
DTSTART:20270314T070000
END:DAYLIGHT
BEGIN:STANDARD
TZOFFSETFROM:-0400
TZOFFSETTO:-0500
TZNAME:EST
DTSTART:20271107T060000
END:STANDARD
END:VTIMEZONE
BEGIN:VEVENT
DTSTART;TZID=America/New_York:20260514T100000
DTEND;TZID=America/New_York:20260514T130000
DTSTAMP:20260422T000630
CREATED:20260413T155758Z
LAST-MODIFIED:20260413T155758Z
UID:10015732-1778752800-1778763600@healthymindsphilly.org
SUMMARY:PCA 2026 Men's Wellness Event
DESCRIPTION:The event will be covering mental health\, chronic pain management\, and varies nutrition information
URL:https://healthymindsphilly.org/event/pca-2026-mens-wellness-event/
LOCATION:Philadelphia Corporation for Aging\, 642 N Broad St\, Philadelphia\, 19130\, United States
CATEGORIES:Men's Health
END:VEVENT
BEGIN:VEVENT
DTSTART;TZID=America/New_York:20260514T130000
DTEND;TZID=America/New_York:20260514T160000
DTSTAMP:20260422T000630
CREATED:20260416T171039Z
LAST-MODIFIED:20260416T171039Z
UID:10015790-1778763600-1778774400@healthymindsphilly.org
SUMMARY:Health Screenings – Community Wellness Center – Jefferson Community Health Collaborative
DESCRIPTION:Jefferson Health provides FREE A1C\, total cholesterol and blood pressure screenings within the Philadelphia area. Come out to receive a free screening!
URL:https://healthymindsphilly.org/event/health-screenings-community-wellness-center-jefferson-community-health-collaborative/2026-05-14/
LOCATION:Jefferson Community Wellness Center\, 6232 Market St.\, Philadelphia\, 19139\, United States
CATEGORIES:Screening
ORGANIZER;CN="Jefferson Health":MAILTO:brittany.stewart5@jefferson.edu
END:VEVENT
BEGIN:VEVENT
DTSTART;TZID=America/New_York:20260514T180000
DTEND;TZID=America/New_York:20260514T190000
DTSTAMP:20260422T000630
CREATED:20240509T151230Z
LAST-MODIFIED:20251113T153239Z
UID:10005407-1778781600-1778785200@healthymindsphilly.org
SUMMARY:Sibling/Family/Lone One Support
DESCRIPTION:If you are the adult sibling\, family member\, or relationship partner of an adult with mental/behavioral/substance challenges\, this group meets on Zoom the 2nd Thursday of every month. Facilitated by a licensed clinical therapist
URL:https://healthymindsphilly.org/event/sibling-family-lone-one-support/2026-05-14/
CATEGORIES:Support Group
ATTACH;FMTTYPE=image/png:https://healthymindsphilly.org/wp-content/uploads/2025/11/grief-loss-resources.png
ORGANIZER;CN="Lydia Cooper":MAILTO:tecinfo@mhphope.org
END:VEVENT
BEGIN:VEVENT
DTSTART;TZID=America/New_York:20260514T183000
DTEND;TZID=America/New_York:20260514T200000
DTSTAMP:20260422T000630
CREATED:20250123T175044Z
LAST-MODIFIED:20251113T153527Z
UID:10006163-1778783400-1778788800@healthymindsphilly.org
SUMMARY:Sibling Support Group
DESCRIPTION:Support group for folks who lost a sibling from a drug-related loss. Sign up to receive Zoom Link
URL:https://healthymindsphilly.org/event/sibling-support-group/2026-05-14/
CATEGORIES:Addiction,Support Group
ATTACH;FMTTYPE=image/jpeg:https://healthymindsphilly.org/wp-content/uploads/2025/01/get-help-1.jpg
ORGANIZER;CN="Philly HEALs":MAILTO:rachel.essy@phila.gov
END:VEVENT
END:VCALENDAR