BEGIN:VCALENDAR
VERSION:2.0
PRODID:-//Healthy Minds Philly® - ECPv6.15.20//NONSGML v1.0//EN
CALSCALE:GREGORIAN
METHOD:PUBLISH
X-WR-CALNAME:Healthy Minds Philly®
X-ORIGINAL-URL:https://healthymindsphilly.org
X-WR-CALDESC:Events for Healthy Minds Philly®
REFRESH-INTERVAL;VALUE=DURATION:PT1H
X-Robots-Tag:noindex
X-PUBLISHED-TTL:PT1H
BEGIN:VTIMEZONE
TZID:America/New_York
BEGIN:DAYLIGHT
TZOFFSETFROM:-0500
TZOFFSETTO:-0400
TZNAME:EDT
DTSTART:20250309T070000
END:DAYLIGHT
BEGIN:STANDARD
TZOFFSETFROM:-0400
TZOFFSETTO:-0500
TZNAME:EST
DTSTART:20251102T060000
END:STANDARD
BEGIN:DAYLIGHT
TZOFFSETFROM:-0500
TZOFFSETTO:-0400
TZNAME:EDT
DTSTART:20260308T070000
END:DAYLIGHT
BEGIN:STANDARD
TZOFFSETFROM:-0400
TZOFFSETTO:-0500
TZNAME:EST
DTSTART:20261101T060000
END:STANDARD
BEGIN:DAYLIGHT
TZOFFSETFROM:-0500
TZOFFSETTO:-0400
TZNAME:EDT
DTSTART:20270314T070000
END:DAYLIGHT
BEGIN:STANDARD
TZOFFSETFROM:-0400
TZOFFSETTO:-0500
TZNAME:EST
DTSTART:20271107T060000
END:STANDARD
END:VTIMEZONE
BEGIN:VEVENT
DTSTART;TZID=America/New_York:20260409T093000
DTEND;TZID=America/New_York:20260409T133000
DTSTAMP:20260425T155835
CREATED:20260310T183632Z
LAST-MODIFIED:20260310T183632Z
UID:10015383-1775727000-1775741400@healthymindsphilly.org
SUMMARY:Ur Storytellers Storytelling Training
DESCRIPTION:Storytelling is a training facilitated by Ur Storytellers in collaboration with the City of Philadelphia Department of Behavioral Health and Intellectual DisAbility Services (DBHIDS). This training is one of many that are approved as a required prerequisite for applicants who want to pursue the goal of becoming a Certified Peer Specialist. Our goal is to inform the recovery and faith-based communities on how to share their stories and the importance of sharing them in community settings. This training will be 4 hrs. in length\, delivered in a PowerPoint format\, and interactive activities enhance this training. After the conclusion of the training\, all participants will receive a certificate of completion.
URL:https://healthymindsphilly.org/event/ur-storytellers-storytelling-training-28/2026-04-09/
LOCATION:Pentecostal Faith Assembly Church\, 5347-53 Pulaski Ave\, Philadelphia\, 19144\, United States
CATEGORIES:Addiction,Community,Faith-Based,Family,Mental Health,Peer Specialists,Self Care,Storytelling,Training,Trauma,wellness
ATTACH;FMTTYPE=image/jpeg:https://healthymindsphilly.org/wp-content/uploads/2026/03/ur-story-tellers-blue-final-logo-100px.jpg
ORGANIZER;CN="Ur Storytellers Foundation Inc.":MAILTO:urstorytellers.info@gmail.com
END:VEVENT
BEGIN:VEVENT
DTSTART;TZID=America/New_York:20260409T130000
DTEND;TZID=America/New_York:20260409T133000
DTSTAMP:20260425T155835
CREATED:20260401T135840Z
LAST-MODIFIED:20260401T135840Z
UID:10015716-1775739600-1775741400@healthymindsphilly.org
SUMMARY:Philadelphia Teal Day Group Photo for Sexual Assault Awareness Month
DESCRIPTION:Join the Office of Domestic Violence Strategies\, WOAR\, and community partners to take a group photo to show solidarity with survivors of sexual assault. Wear teal and meet us in the park! The photo will be taken at 1:15 p.m. and will be shared on social media. If you want to participate from elsewhere: \n1. Wear your favorite teal outfit and take a selfie.\n2. Post your selfie and share resources about sexual assault or a supportive message with #TealDayPhilly. Here are some examples: “I believe survivors\,” “I support survivors\,” or “No one deserves sexual assault.”\n3. Tag @phillyodvs on Instagram to get your picture re-shared!
URL:https://healthymindsphilly.org/event/philadelphia-teal-day-group-photo-for-sexual-assault-awareness-month/
LOCATION:Love Park\, 15th Street and John F. Kennedy Boulevard\, Philadelphia\, United States
CATEGORIES:Community,Women's Health
ATTACH;FMTTYPE=image/png:https://healthymindsphilly.org/wp-content/uploads/2026/04/Teal-Day-Photo.png
ORGANIZER;CN="Office of Domestic Violence Strategies":MAILTO:DVinfo@phila.gov
END:VEVENT
BEGIN:VEVENT
DTSTART;TZID=America/New_York:20260409T180000
DTEND;TZID=America/New_York:20260409T190000
DTSTAMP:20260425T155835
CREATED:20240509T151230Z
LAST-MODIFIED:20251113T153239Z
UID:10005406-1775757600-1775761200@healthymindsphilly.org
SUMMARY:Sibling/Family/Lone One Support
DESCRIPTION:If you are the adult sibling\, family member\, or relationship partner of an adult with mental/behavioral/substance challenges\, this group meets on Zoom the 2nd Thursday of every month. Facilitated by a licensed clinical therapist
URL:https://healthymindsphilly.org/event/sibling-family-lone-one-support/2026-04-09/
LOCATION:PA
CATEGORIES:Support Group
ATTACH;FMTTYPE=image/png:https://healthymindsphilly.org/wp-content/uploads/2025/11/grief-loss-resources.png
ORGANIZER;CN="Lydia Cooper":MAILTO:tecinfo@mhphope.org
END:VEVENT
BEGIN:VEVENT
DTSTART;TZID=America/New_York:20260409T183000
DTEND;TZID=America/New_York:20260409T200000
DTSTAMP:20260425T155835
CREATED:20250123T175044Z
LAST-MODIFIED:20251113T153527Z
UID:10006162-1775759400-1775764800@healthymindsphilly.org
SUMMARY:Sibling Support Group
DESCRIPTION:Support group for folks who lost a sibling from a drug-related loss. Sign up to receive Zoom Link
URL:https://healthymindsphilly.org/event/sibling-support-group/2026-04-09/
LOCATION:PA
CATEGORIES:Addiction,Support Group
ATTACH;FMTTYPE=image/jpeg:https://healthymindsphilly.org/wp-content/uploads/2025/01/get-help-1.jpg
ORGANIZER;CN="Philly HEALs":MAILTO:rachel.essy@phila.gov
END:VEVENT
END:VCALENDAR