BEGIN:VCALENDAR
VERSION:2.0
PRODID:-//Healthy Minds Philly® - ECPv6.15.20//NONSGML v1.0//EN
CALSCALE:GREGORIAN
METHOD:PUBLISH
X-ORIGINAL-URL:https://healthymindsphilly.org
X-WR-CALDESC:Events for Healthy Minds Philly®
REFRESH-INTERVAL;VALUE=DURATION:PT1H
X-Robots-Tag:noindex
X-PUBLISHED-TTL:PT1H
BEGIN:VTIMEZONE
TZID:America/New_York
BEGIN:DAYLIGHT
TZOFFSETFROM:-0500
TZOFFSETTO:-0400
TZNAME:EDT
DTSTART:20250309T070000
END:DAYLIGHT
BEGIN:STANDARD
TZOFFSETFROM:-0400
TZOFFSETTO:-0500
TZNAME:EST
DTSTART:20251102T060000
END:STANDARD
BEGIN:DAYLIGHT
TZOFFSETFROM:-0500
TZOFFSETTO:-0400
TZNAME:EDT
DTSTART:20260308T070000
END:DAYLIGHT
BEGIN:STANDARD
TZOFFSETFROM:-0400
TZOFFSETTO:-0500
TZNAME:EST
DTSTART:20261101T060000
END:STANDARD
BEGIN:DAYLIGHT
TZOFFSETFROM:-0500
TZOFFSETTO:-0400
TZNAME:EDT
DTSTART:20270314T070000
END:DAYLIGHT
BEGIN:STANDARD
TZOFFSETFROM:-0400
TZOFFSETTO:-0500
TZNAME:EST
DTSTART:20271107T060000
END:STANDARD
END:VTIMEZONE
BEGIN:VEVENT
DTSTART;TZID=America/New_York:20260225T093000
DTEND;TZID=America/New_York:20260225T133000
DTSTAMP:20260422T180125
CREATED:20260106T135913Z
LAST-MODIFIED:20260106T135913Z
UID:10013108-1772011800-1772026200@healthymindsphilly.org
SUMMARY:Ur Storytellers Storytelling Training
DESCRIPTION:Storytelling is a training facilitated by Ur Storytellers in collaboration with the City of Philadelphia Department of Behavioral Health and Intellectual DisAbility Services (DBHIDS). This training is one of many that are approved as a required prerequisite for applicants who want to pursue the goal of becoming a Certified Peer Specialist. Our goal is to inform the recovery and faith-based communities on how to share their stories and the importance of sharing them in community settings. This training will be 4 hrs. in length\, delivered in a PowerPoint format\, and interactive activities will enhance this training. After the conclusion of the training\, all participants will receive a certificate of completion.
URL:https://healthymindsphilly.org/event/ur-storytellers-storytelling-training-27/
LOCATION:Zion Baptist Church\, 3600 N Broad Street\, Philadelphia\, 19150\, United States
CATEGORIES:Addiction,Community,Mental Health,Peer Specialists,Self Care,Storytelling,Trauma
ORGANIZER;CN="Ur Storytellers Foundation Inc":MAILTO:urstorytellers.info@gmail.com
GEO:40.0080438;-75.1520755
X-APPLE-STRUCTURED-LOCATION;VALUE=URI;X-ADDRESS=Zion Baptist Church 3600 N Broad Street Philadelphia 19150 United States;X-APPLE-RADIUS=500;X-TITLE=3600 N Broad Street:geo:-75.1520755,40.0080438
END:VEVENT
BEGIN:VEVENT
DTSTART;TZID=America/New_York:20260225T183000
DTEND;TZID=America/New_York:20260225T200000
DTSTAMP:20260422T180125
CREATED:20250123T173720Z
LAST-MODIFIED:20250807T141632Z
UID:10006045-1772044200-1772049600@healthymindsphilly.org
SUMMARY:Parents Support Group
DESCRIPTION:Support Group for Parents who lost a child to a drug-related loss. Please sign up to get Zoom link
URL:https://healthymindsphilly.org/event/parents-support-group/2026-02-25/
LOCATION:PA
CATEGORIES:Addiction,Support Group
ATTACH;FMTTYPE=image/jpeg:https://healthymindsphilly.org/wp-content/uploads/2025/01/pexels-jack-sparrow-4046987-1-scaled.jpg
ORGANIZER;CN="Philly HEALs":MAILTO:rachel.essy@phila.gov
END:VEVENT
END:VCALENDAR