BEGIN:VCALENDAR
VERSION:2.0
PRODID:-//Healthy Minds Philly® - ECPv6.15.20//NONSGML v1.0//EN
CALSCALE:GREGORIAN
METHOD:PUBLISH
X-WR-CALNAME:Healthy Minds Philly®
X-ORIGINAL-URL:https://healthymindsphilly.org
X-WR-CALDESC:Events for Healthy Minds Philly®
REFRESH-INTERVAL;VALUE=DURATION:PT1H
X-Robots-Tag:noindex
X-PUBLISHED-TTL:PT1H
BEGIN:VTIMEZONE
TZID:America/New_York
BEGIN:DAYLIGHT
TZOFFSETFROM:-0500
TZOFFSETTO:-0400
TZNAME:EDT
DTSTART:20240310T070000
END:DAYLIGHT
BEGIN:STANDARD
TZOFFSETFROM:-0400
TZOFFSETTO:-0500
TZNAME:EST
DTSTART:20241103T060000
END:STANDARD
BEGIN:DAYLIGHT
TZOFFSETFROM:-0500
TZOFFSETTO:-0400
TZNAME:EDT
DTSTART:20250309T070000
END:DAYLIGHT
BEGIN:STANDARD
TZOFFSETFROM:-0400
TZOFFSETTO:-0500
TZNAME:EST
DTSTART:20251102T060000
END:STANDARD
BEGIN:DAYLIGHT
TZOFFSETFROM:-0500
TZOFFSETTO:-0400
TZNAME:EDT
DTSTART:20260308T070000
END:DAYLIGHT
BEGIN:STANDARD
TZOFFSETFROM:-0400
TZOFFSETTO:-0500
TZNAME:EST
DTSTART:20261101T060000
END:STANDARD
END:VTIMEZONE
BEGIN:VEVENT
DTSTART;TZID=America/New_York:20251015T090000
DTEND;TZID=America/New_York:20251015T133000
DTSTAMP:20260420T062007
CREATED:20250916T152808Z
LAST-MODIFIED:20250916T152808Z
UID:10011831-1760518800-1760535000@healthymindsphilly.org
SUMMARY:Ur Storytellers Storytelling Training
DESCRIPTION:Storytelling is a training facilitated by UrStorytellers in collaboration with the City of Philadelphia Department of Behavioral Health and Intellectual DisAbility Services (DBHIDS). This training is one of many that are approved as a required prerequisite for applicants who want to pursue the goal of becoming a Certified Peer Specialist. Our goal is to inform the recovery and faith-based communities on how to share their stories and the importance of sharing them in community settings. This training will be 4 hrs. in length\, delivered in a PowerPoint format\, and interactive activities will enhance this training. After the conclusion of the training\, all participants will receive a certificate of completion.
URL:https://healthymindsphilly.org/event/ur-storytellers-storytelling-training-22/
LOCATION:Zion Baptist Church\, 3600 N Broad Street\, Philadelphia\, 19150\, United States
CATEGORIES:Addiction,Caregiving,Community,Faith-Based,Family,Mental Health,Peer Specialists,Self Care,Storytelling,Training,Trauma
ORGANIZER;CN="Ur Storytellers Foundation Inc":MAILTO:urstorytellers.info@gmail.com
GEO:40.0080438;-75.1520755
X-APPLE-STRUCTURED-LOCATION;VALUE=URI;X-ADDRESS=Zion Baptist Church 3600 N Broad Street Philadelphia 19150 United States;X-APPLE-RADIUS=500;X-TITLE=3600 N Broad Street:geo:-75.1520755,40.0080438
END:VEVENT
BEGIN:VEVENT
DTSTART;TZID=America/New_York:20251015T093000
DTEND;TZID=America/New_York:20251016T150000
DTSTAMP:20260420T062007
CREATED:20251001T134146Z
LAST-MODIFIED:20251001T134146Z
UID:10012630-1760520600-1760626800@healthymindsphilly.org
SUMMARY:Men\, Masculinities & Violence Prevention
DESCRIPTION:This 2-day free virtual summit (10/15\, 10/16) Men\, Masculinities & Violence Prevention will explore the impact of societal gender norms on efforts men and masculine people to prevent relational violence\, how gender norms impact men and masculine people themselves\, and where we need to go collectively to build communities without intimate partner and relational violence. \nAttendees can register for the two-day summit and attend any sessions they are interested in attending.
URL:https://healthymindsphilly.org/event/men-masculinities-violence-prevention/
CATEGORIES:Men's Health,Webinar
ATTACH;FMTTYPE=image/jpeg:https://healthymindsphilly.org/wp-content/uploads/2025/10/Masculinity-Summit-Poster-1.jpg
ORGANIZER;CN="Shared Safety Philadelphia":MAILTO:SharedSafety@phila.gov
END:VEVENT
BEGIN:VEVENT
DTSTART;TZID=America/New_York:20251015T120000
DTEND;TZID=America/New_York:20251015T140000
DTSTAMP:20260420T062007
CREATED:20250829T173647Z
LAST-MODIFIED:20250829T173647Z
UID:10011377-1760529600-1760536800@healthymindsphilly.org
SUMMARY:PCCI VIRTUAL JOB FAIR
DESCRIPTION:Job seekers will have the opportunity to hear from employers and formally interview. A portion of the job fair will be dedicated to questions\, resume submission\, interviews\, and scheduling of future interviews. This will facilitate access to employment without the barriers that can sometimes exist in the traditional process. \nFor more information\, email DBHIDS.PeerCulture@phila.gov or call 215-685-4989.\nVisit bit.ly/PCCI-Oct15
URL:https://healthymindsphilly.org/event/pcci-virtual-job-fair-4/
CATEGORIES:Peer Specialists
ORGANIZER;CN="adrian guilford":MAILTO:adrian.guilford@phila.gov
END:VEVENT
END:VCALENDAR