BEGIN:VCALENDAR
VERSION:2.0
PRODID:-//Healthy Minds Philly® - ECPv6.15.20//NONSGML v1.0//EN
CALSCALE:GREGORIAN
METHOD:PUBLISH
X-ORIGINAL-URL:https://healthymindsphilly.org
X-WR-CALDESC:Events for Healthy Minds Philly®
REFRESH-INTERVAL;VALUE=DURATION:PT1H
X-Robots-Tag:noindex
X-PUBLISHED-TTL:PT1H
BEGIN:VTIMEZONE
TZID:America/New_York
BEGIN:DAYLIGHT
TZOFFSETFROM:-0500
TZOFFSETTO:-0400
TZNAME:EDT
DTSTART:20240310T070000
END:DAYLIGHT
BEGIN:STANDARD
TZOFFSETFROM:-0400
TZOFFSETTO:-0500
TZNAME:EST
DTSTART:20241103T060000
END:STANDARD
BEGIN:DAYLIGHT
TZOFFSETFROM:-0500
TZOFFSETTO:-0400
TZNAME:EDT
DTSTART:20250309T070000
END:DAYLIGHT
BEGIN:STANDARD
TZOFFSETFROM:-0400
TZOFFSETTO:-0500
TZNAME:EST
DTSTART:20251102T060000
END:STANDARD
BEGIN:DAYLIGHT
TZOFFSETFROM:-0500
TZOFFSETTO:-0400
TZNAME:EDT
DTSTART:20260308T070000
END:DAYLIGHT
BEGIN:STANDARD
TZOFFSETFROM:-0400
TZOFFSETTO:-0500
TZNAME:EST
DTSTART:20261101T060000
END:STANDARD
END:VTIMEZONE
BEGIN:VEVENT
DTSTART;TZID=America/New_York:20250520T083000
DTEND;TZID=America/New_York:20250520T150000
DTSTAMP:20260421T090100
CREATED:20250520T125316Z
LAST-MODIFIED:20250520T125316Z
UID:10011154-1747729800-1747753200@healthymindsphilly.org
SUMMARY:Problem Gambling and Gaming Prevention Conference
DESCRIPTION:Problem Gambling Prevention Conference main goal is to bring awareness and education to the current state of gambling\, promote responsible gambling and provide resources for individual who may need help with gambling related problems. Prevention strategies often focus on identifying and addressing risk factors. This year’s theme of “nourish your wellbeing”\, promote overall health and wellbeing by strengthening protective factors and building resiliency. The breakout session allows attendees to practice and develop coping mechanisms and obtain other tools that will prevent gambling harms.
URL:https://healthymindsphilly.org/event/problem-gambling-and-gaming-prevention-conference-2/
LOCATION:Salvation Army’s Kroc Center\, 4200 Wissahickon Avenue\, Philadelphia\, PA\, 19129\, United States
CATEGORIES:Addiction,Community,Event Registration,Mental Health,Older Adults,Suicide Prevention
ORGANIZER;CN="Tien":MAILTO:tien.duong@phila.gov
END:VEVENT
END:VCALENDAR