BEGIN:VCALENDAR
VERSION:2.0
PRODID:-//Healthy Minds Philly® - ECPv6.15.20//NONSGML v1.0//EN
CALSCALE:GREGORIAN
METHOD:PUBLISH
X-ORIGINAL-URL:https://healthymindsphilly.org
X-WR-CALDESC:Events for Healthy Minds Philly®
REFRESH-INTERVAL;VALUE=DURATION:PT1H
X-Robots-Tag:noindex
X-PUBLISHED-TTL:PT1H
BEGIN:VTIMEZONE
TZID:America/New_York
BEGIN:DAYLIGHT
TZOFFSETFROM:-0500
TZOFFSETTO:-0400
TZNAME:EDT
DTSTART:20240310T070000
END:DAYLIGHT
BEGIN:STANDARD
TZOFFSETFROM:-0400
TZOFFSETTO:-0500
TZNAME:EST
DTSTART:20241103T060000
END:STANDARD
BEGIN:DAYLIGHT
TZOFFSETFROM:-0500
TZOFFSETTO:-0400
TZNAME:EDT
DTSTART:20250309T070000
END:DAYLIGHT
BEGIN:STANDARD
TZOFFSETFROM:-0400
TZOFFSETTO:-0500
TZNAME:EST
DTSTART:20251102T060000
END:STANDARD
BEGIN:DAYLIGHT
TZOFFSETFROM:-0500
TZOFFSETTO:-0400
TZNAME:EDT
DTSTART:20260308T070000
END:DAYLIGHT
BEGIN:STANDARD
TZOFFSETFROM:-0400
TZOFFSETTO:-0500
TZNAME:EST
DTSTART:20261101T060000
END:STANDARD
END:VTIMEZONE
BEGIN:VEVENT
DTSTART;TZID=America/New_York:20250407T120000
DTEND;TZID=America/New_York:20250407T130000
DTSTAMP:20260420T182526
CREATED:20250326T140733Z
LAST-MODIFIED:20250326T140733Z
UID:10010671-1744027200-1744030800@healthymindsphilly.org
SUMMARY:Unlocking Potential: Recognizing and Conquering Executive Function Challenges
DESCRIPTION:FREE Live Webinar. Learn evidence-based strategies to unlock the potential withing your brain’s Executive function center with evidence-based strategies. Be inspired by Nationally know women who have conquered their own Executive function challenges and succeeded!. Live Zoom webinar with with time for Q&A. Presented by Lydia D Cooper\, CPS\, ADHD-PC and Mental Health Partnerships. Mondays from 12:00pm – 1:00pm and thursday evenings from 6:30pm – 7:30pm
URL:https://healthymindsphilly.org/event/unlocking-potential-recognizing-and-conquering-executive-function-challenges/2025-04-07/
CATEGORIES:Event Registration,Mental Health,Self Care,Training,Webinar,Women's Health
ATTACH;FMTTYPE=image/png:https://healthymindsphilly.org/wp-content/uploads/2025/03/Unlocking-Webinar-Series.png
ORGANIZER;CN="Lydia D Cooper%2C CPS":MAILTO:lcooper@mhphope.org
END:VEVENT
END:VCALENDAR