BEGIN:VCALENDAR
VERSION:2.0
PRODID:-//Healthy Minds Philly® - ECPv6.15.20//NONSGML v1.0//EN
CALSCALE:GREGORIAN
METHOD:PUBLISH
X-ORIGINAL-URL:https://healthymindsphilly.org
X-WR-CALDESC:Events for Healthy Minds Philly®
REFRESH-INTERVAL;VALUE=DURATION:PT1H
X-Robots-Tag:noindex
X-PUBLISHED-TTL:PT1H
BEGIN:VTIMEZONE
TZID:America/New_York
BEGIN:DAYLIGHT
TZOFFSETFROM:-0500
TZOFFSETTO:-0400
TZNAME:EDT
DTSTART:20240310T070000
END:DAYLIGHT
BEGIN:STANDARD
TZOFFSETFROM:-0400
TZOFFSETTO:-0500
TZNAME:EST
DTSTART:20241103T060000
END:STANDARD
BEGIN:DAYLIGHT
TZOFFSETFROM:-0500
TZOFFSETTO:-0400
TZNAME:EDT
DTSTART:20250309T070000
END:DAYLIGHT
BEGIN:STANDARD
TZOFFSETFROM:-0400
TZOFFSETTO:-0500
TZNAME:EST
DTSTART:20251102T060000
END:STANDARD
BEGIN:DAYLIGHT
TZOFFSETFROM:-0500
TZOFFSETTO:-0400
TZNAME:EDT
DTSTART:20260308T070000
END:DAYLIGHT
BEGIN:STANDARD
TZOFFSETFROM:-0400
TZOFFSETTO:-0500
TZNAME:EST
DTSTART:20261101T060000
END:STANDARD
END:VTIMEZONE
BEGIN:VEVENT
DTSTART;TZID=America/New_York:20250329T080000
DTEND;TZID=America/New_York:20250329T180000
DTSTAMP:20260420T181831
CREATED:20250218T171023Z
LAST-MODIFIED:20250331T160847Z
UID:10010605-1743235200-1743271200@healthymindsphilly.org
SUMMARY:Know Your Numbers Health Event
DESCRIPTION:This is an annual event where we turn our church into a hospital and invite Women to health screenings\, health panel discussions and clinical trial opportunities with workshops. \nCognitive Behavioral Therapy will be participating in this event offering free and confidential behavioral health screening and resources for well-being.
URL:https://healthymindsphilly.org/event/know-your-numbers-health-event/
LOCATION:ENON Tabernacle Baptist Church\, 2800 W Cheltenham Ave\, Philadelphia\, 19150\, United States
CATEGORIES:Community,Women's Health
END:VEVENT
BEGIN:VEVENT
DTSTART;TZID=America/New_York:20250329T110000
DTEND;TZID=America/New_York:20250329T200000
DTSTAMP:20260420T181831
CREATED:20250311T133558Z
LAST-MODIFIED:20250311T133558Z
UID:10010643-1743246000-1743278400@healthymindsphilly.org
SUMMARY:Women About Change
DESCRIPTION:This event aims to ignite hope in our community and provide essential resources for everyone. Together\, we can create a brighter future! Join us!
URL:https://healthymindsphilly.org/event/women-about-change/
LOCATION:4700 Wissahickon Ave\, 4700 Wissahickon Ave\, Philadelphia\, PA\, 19144\, United States
CATEGORIES:Community,Women's Health
ATTACH;FMTTYPE=image/png:https://healthymindsphilly.org/wp-content/uploads/2025/03/Community-Resources.png
END:VEVENT
BEGIN:VEVENT
DTSTART;TZID=America/New_York:20250329T120000
DTEND;TZID=America/New_York:20250329T160000
DTSTAMP:20260420T181831
CREATED:20250325T152243Z
LAST-MODIFIED:20250325T152243Z
UID:10010667-1743249600-1743264000@healthymindsphilly.org
SUMMARY:Regional Day of Service Mental Health Screening Event
DESCRIPTION:Gemma Services will be partnering with the Philadelphia Alumnae Chapter Delta Sigma Theta Sorority to host a mental health screening at their mental health and wellness fair. This is a community service event dedicated to uncovering the unspoken truths about mental health while fostering psychological safety. \nAttendees will gain access to vital mental health resources\, including free mental health screenings\, book giveaways\, coping strategy workshops\, and tabling by local mental health professionals and organizations
URL:https://healthymindsphilly.org/event/regional-day-of-service-mental-health-screening-event/
LOCATION:Tustin Recreation Center\, 5901 W. Columbia Ave\, Philadelphia\, 19151\, United States
CATEGORIES:Community,Screening
ORGANIZER;CN="Nikita Peden":MAILTO:health@phillyalumnae-dst.org
END:VEVENT
BEGIN:VEVENT
DTSTART;TZID=America/New_York:20250329T123000
DTEND;TZID=America/New_York:20250329T150000
DTSTAMP:20260420T181831
CREATED:20250314T190917Z
LAST-MODIFIED:20250317T134637Z
UID:10010658-1743251400-1743260400@healthymindsphilly.org
SUMMARY:Community Check In
DESCRIPTION:NE area service providers are very aware of lingering and new concerns growing in the community and wish to provide free consultation opportunities for area residents. Those who have questions or concerns about ongoing reactions to the devastating plane crash on Cottman Avenue as well as the many other challenges we face living in our changing world are invited to this event. \nThe NESC agencies will have staff present to offer general information about:\n·parenting in turbulent times\n·stress management in daily living\n·substance use\n·services for adults\n·concerns about children and life in general. \nDetails about the services we offer will be available at each provider station.\nAgency members also will offer a safe place for people to discuss their individual concerns\nand can assist with access to resources if desired.\nThis event is free and open to the community\, with a special emphasis on the Castor\nGardens\, Rhawnhurst and Mayfair neighborhoods.\n**Spanish language services will be available and light refreshments will be served. \nOffered also will be free and confidential behavioral health screenings in English and Spanish
URL:https://healthymindsphilly.org/event/community-check-in/2025-03-29/
LOCATION:PATH\, INC\, 1919 Cottman Ave\, Philadelphia\, 19111\, United States
CATEGORIES:Family,Mental Health,Screening,Trauma,Youth
ATTACH;FMTTYPE=image/jpeg:https://healthymindsphilly.org/wp-content/uploads/2025/03/nesc.jpg
END:VEVENT
END:VCALENDAR