BEGIN:VCALENDAR
VERSION:2.0
PRODID:-//Healthy Minds Philly® - ECPv6.15.20//NONSGML v1.0//EN
CALSCALE:GREGORIAN
METHOD:PUBLISH
X-WR-CALNAME:Healthy Minds Philly®
X-ORIGINAL-URL:https://healthymindsphilly.org
X-WR-CALDESC:Events for Healthy Minds Philly®
REFRESH-INTERVAL;VALUE=DURATION:PT1H
X-Robots-Tag:noindex
X-PUBLISHED-TTL:PT1H
BEGIN:VTIMEZONE
TZID:America/New_York
BEGIN:DAYLIGHT
TZOFFSETFROM:-0500
TZOFFSETTO:-0400
TZNAME:EDT
DTSTART:20240310T070000
END:DAYLIGHT
BEGIN:STANDARD
TZOFFSETFROM:-0400
TZOFFSETTO:-0500
TZNAME:EST
DTSTART:20241103T060000
END:STANDARD
BEGIN:DAYLIGHT
TZOFFSETFROM:-0500
TZOFFSETTO:-0400
TZNAME:EDT
DTSTART:20250309T070000
END:DAYLIGHT
BEGIN:STANDARD
TZOFFSETFROM:-0400
TZOFFSETTO:-0500
TZNAME:EST
DTSTART:20251102T060000
END:STANDARD
BEGIN:DAYLIGHT
TZOFFSETFROM:-0500
TZOFFSETTO:-0400
TZNAME:EDT
DTSTART:20260308T070000
END:DAYLIGHT
BEGIN:STANDARD
TZOFFSETFROM:-0400
TZOFFSETTO:-0500
TZNAME:EST
DTSTART:20261101T060000
END:STANDARD
END:VTIMEZONE
BEGIN:VEVENT
DTSTART;TZID=America/New_York:20250315T100000
DTEND;TZID=America/New_York:20250315T160000
DTSTAMP:20260420T075856
CREATED:20250310T155907Z
LAST-MODIFIED:20250310T155907Z
UID:10010638-1742032800-1742054400@healthymindsphilly.org
SUMMARY:Planting with Purpose: A Gardening and Faith Journey
DESCRIPTION:Are you ready to cultivate both your garden and your spirit? We invite you to an enriching workshop where participants will dive into the world of seed starting! \nDiscover the fundamental techniques of nurturing seeds while exploring how gardening beautifully parallels our spiritual growth. Together\, we’ll draw powerful lessons from Scripture that will deepen your understanding of both planting and faith. \nDon’t miss this unique opportunity to connect with nature and grow in your spiritual journey! 🌼
URL:https://healthymindsphilly.org/event/planting-with-purpose-a-gardening-and-faith-journey/
LOCATION:Christ Haven Pentecostal Church\, 6800 Lindbergh Boulevard\, Philadelphia\, PA\, 19142\, United States
CATEGORIES:Community,Faith-Based
ATTACH;FMTTYPE=image/jpeg:https://healthymindsphilly.org/wp-content/uploads/2025/03/Planting-with-Purpose-A-Gardening-and-Faith-Journey.jpg
END:VEVENT
END:VCALENDAR