BEGIN:VCALENDAR
VERSION:2.0
PRODID:-//Healthy Minds Philly® - ECPv6.15.18//NONSGML v1.0//EN
CALSCALE:GREGORIAN
METHOD:PUBLISH
X-ORIGINAL-URL:https://healthymindsphilly.org/dev
X-WR-CALDESC:Events for Healthy Minds Philly®
REFRESH-INTERVAL;VALUE=DURATION:PT1H
X-Robots-Tag:noindex
X-PUBLISHED-TTL:PT1H
BEGIN:VTIMEZONE
TZID:America/New_York
BEGIN:DAYLIGHT
TZOFFSETFROM:-0500
TZOFFSETTO:-0400
TZNAME:EDT
DTSTART:20210314T070000
END:DAYLIGHT
BEGIN:STANDARD
TZOFFSETFROM:-0400
TZOFFSETTO:-0500
TZNAME:EST
DTSTART:20211107T060000
END:STANDARD
BEGIN:DAYLIGHT
TZOFFSETFROM:-0500
TZOFFSETTO:-0400
TZNAME:EDT
DTSTART:20220313T070000
END:DAYLIGHT
BEGIN:STANDARD
TZOFFSETFROM:-0400
TZOFFSETTO:-0500
TZNAME:EST
DTSTART:20221106T060000
END:STANDARD
BEGIN:DAYLIGHT
TZOFFSETFROM:-0500
TZOFFSETTO:-0400
TZNAME:EDT
DTSTART:20230312T070000
END:DAYLIGHT
BEGIN:STANDARD
TZOFFSETFROM:-0400
TZOFFSETTO:-0500
TZNAME:EST
DTSTART:20231105T060000
END:STANDARD
END:VTIMEZONE
BEGIN:VEVENT
DTSTART;TZID=America/New_York:20221001T190000
DTEND;TZID=America/New_York:20221001T230000
DTSTAMP:20260425T205857
CREATED:20230714T141313Z
LAST-MODIFIED:20230714T141313Z
UID:10002387-1664650800-1664665200@healthymindsphilly.org
SUMMARY:8th Annual Recovery Idol: Rockin’ the Dream
DESCRIPTION:Come join us for the hottest Recovery Event of the year!!! \n\nWatch Darron Shanks Philadelphia Recovery Idol’s winner perform for Wichita Kansas’ Recovery Idol on 10.1.2022 @7pm! This will be live streamed on Philadelphia Recovery Idol FB page!\n\nFacebook Live: facebook.com/PhillyRecoveryIdol
URL:https://healthymindsphilly.org/dev/event/8th-annual-recovery-idol-rockin-the-dream/
LOCATION:Century II Performing Arts &amp; Convention Center
CATEGORIES:Addiction,Entertainment
END:VEVENT
END:VCALENDAR