BEGIN:VCALENDAR
VERSION:2.0
PRODID:-//Healthy Minds Philly® - ECPv6.15.18//NONSGML v1.0//EN
CALSCALE:GREGORIAN
METHOD:PUBLISH
X-WR-CALNAME:Healthy Minds Philly®
X-ORIGINAL-URL:https://healthymindsphilly.org/dev
X-WR-CALDESC:Events for Healthy Minds Philly®
REFRESH-INTERVAL;VALUE=DURATION:PT1H
X-Robots-Tag:noindex
X-PUBLISHED-TTL:PT1H
BEGIN:VTIMEZONE
TZID:America/New_York
BEGIN:DAYLIGHT
TZOFFSETFROM:-0500
TZOFFSETTO:-0400
TZNAME:EDT
DTSTART:20210314T070000
END:DAYLIGHT
BEGIN:STANDARD
TZOFFSETFROM:-0400
TZOFFSETTO:-0500
TZNAME:EST
DTSTART:20211107T060000
END:STANDARD
BEGIN:DAYLIGHT
TZOFFSETFROM:-0500
TZOFFSETTO:-0400
TZNAME:EDT
DTSTART:20220313T070000
END:DAYLIGHT
BEGIN:STANDARD
TZOFFSETFROM:-0400
TZOFFSETTO:-0500
TZNAME:EST
DTSTART:20221106T060000
END:STANDARD
BEGIN:DAYLIGHT
TZOFFSETFROM:-0500
TZOFFSETTO:-0400
TZNAME:EDT
DTSTART:20230312T070000
END:DAYLIGHT
BEGIN:STANDARD
TZOFFSETFROM:-0400
TZOFFSETTO:-0500
TZNAME:EST
DTSTART:20231105T060000
END:STANDARD
END:VTIMEZONE
BEGIN:VEVENT
DTSTART;TZID=America/New_York:20220916T090000
DTEND;TZID=America/New_York:20220916T133000
DTSTAMP:20260421T200711
CREATED:20230714T161748Z
LAST-MODIFIED:20230714T161748Z
UID:10002412-1663318800-1663335000@healthymindsphilly.org
SUMMARY:Frankford Community Cleanup Day
DESCRIPTION:NET CUA\, Substance Abuse Services and Mental Health will be staging a community clean up day beginning at 4625 Frankford Avenue and ending at 4802 Frankford Avenue. We will also be giving away 200 stuffed back kids to kids returning to school.
URL:https://healthymindsphilly.org/dev/event/frankford-community-cleanup-day/
LOCATION:NET 4625 Frankford Avenue\, 4625 Frankford Avenue\, Philadelphia\, PA\, 19124\, United States
CATEGORIES:Community
ORGANIZER;CN="Northeast Treatment Centers":MAILTO:net-centers.org
END:VEVENT
END:VCALENDAR