BEGIN:VCALENDAR
VERSION:2.0
PRODID:-//Healthy Minds Philly® - ECPv6.15.18//NONSGML v1.0//EN
CALSCALE:GREGORIAN
METHOD:PUBLISH
X-ORIGINAL-URL:https://healthymindsphilly.org/dev
X-WR-CALDESC:Events for Healthy Minds Philly®
REFRESH-INTERVAL;VALUE=DURATION:PT1H
X-Robots-Tag:noindex
X-PUBLISHED-TTL:PT1H
BEGIN:VTIMEZONE
TZID:America/New_York
BEGIN:DAYLIGHT
TZOFFSETFROM:-0500
TZOFFSETTO:-0400
TZNAME:EDT
DTSTART:20220313T070000
END:DAYLIGHT
BEGIN:STANDARD
TZOFFSETFROM:-0400
TZOFFSETTO:-0500
TZNAME:EST
DTSTART:20221106T060000
END:STANDARD
BEGIN:DAYLIGHT
TZOFFSETFROM:-0500
TZOFFSETTO:-0400
TZNAME:EDT
DTSTART:20230312T070000
END:DAYLIGHT
BEGIN:STANDARD
TZOFFSETFROM:-0400
TZOFFSETTO:-0500
TZNAME:EST
DTSTART:20231105T060000
END:STANDARD
BEGIN:DAYLIGHT
TZOFFSETFROM:-0500
TZOFFSETTO:-0400
TZNAME:EDT
DTSTART:20240310T070000
END:DAYLIGHT
BEGIN:STANDARD
TZOFFSETFROM:-0400
TZOFFSETTO:-0500
TZNAME:EST
DTSTART:20241103T060000
END:STANDARD
END:VTIMEZONE
BEGIN:VEVENT
DTSTART;VALUE=DATE:20230313
DTEND;VALUE=DATE:20230316
DTSTAMP:20260422T090228
CREATED:20230713T151722Z
LAST-MODIFIED:20230713T151722Z
UID:10001536-1678665600-1678924799@healthymindsphilly.org
SUMMARY:Ruth Bader Ginsburg Virtual Documentary Screening
DESCRIPTION:Join the Philadelphia Commission for Women and Philadelphia NOW for a virtual screening of RBG\, a documentary exploring the life and career of Ruth Bader Ginsburg\, a pioneering advocate for women’s rights and gender equality. \nAt the age of 85\, U.S. Supreme Court Justice Ruth Bader Ginsburg developed a lengthy legal legacy while becoming an unexpected pop culture icon. But the unique personal journey of her rise to the nation’s highest court has been largely unknown\, even to some of her biggest fans – until now. RBG explores Ginsburg’s life and career. From Betsy West and Julie Cohen\, and co-produced by Storyville Films and CNN Films. \nTo Register or watch trailer\, click the following event: \n\nRBG Philadelphia Commission for Women \n\n 
URL:https://healthymindsphilly.org/dev/event/ruth-bader-ginsburg-virtual-documentary-screening/
LOCATION:Online\, United States
CATEGORIES:Community,Entertainment
ORGANIZER;CN="City of Philadelphia%3A Mayors Office of Public Engagement":MAILTO:public.engagement@phila.gov
END:VEVENT
END:VCALENDAR