BEGIN:VCALENDAR
VERSION:2.0
PRODID:-//Healthy Minds Philly® - ECPv6.15.18//NONSGML v1.0//EN
CALSCALE:GREGORIAN
METHOD:PUBLISH
X-ORIGINAL-URL:https://healthymindsphilly.org/dev
X-WR-CALDESC:Events for Healthy Minds Philly®
REFRESH-INTERVAL;VALUE=DURATION:PT1H
X-Robots-Tag:noindex
X-PUBLISHED-TTL:PT1H
BEGIN:VTIMEZONE
TZID:America/New_York
BEGIN:DAYLIGHT
TZOFFSETFROM:-0500
TZOFFSETTO:-0400
TZNAME:EDT
DTSTART:20220313T070000
END:DAYLIGHT
BEGIN:STANDARD
TZOFFSETFROM:-0400
TZOFFSETTO:-0500
TZNAME:EST
DTSTART:20221106T060000
END:STANDARD
BEGIN:DAYLIGHT
TZOFFSETFROM:-0500
TZOFFSETTO:-0400
TZNAME:EDT
DTSTART:20230312T070000
END:DAYLIGHT
BEGIN:STANDARD
TZOFFSETFROM:-0400
TZOFFSETTO:-0500
TZNAME:EST
DTSTART:20231105T060000
END:STANDARD
BEGIN:DAYLIGHT
TZOFFSETFROM:-0500
TZOFFSETTO:-0400
TZNAME:EDT
DTSTART:20240310T070000
END:DAYLIGHT
BEGIN:STANDARD
TZOFFSETFROM:-0400
TZOFFSETTO:-0500
TZNAME:EST
DTSTART:20241103T060000
END:STANDARD
END:VTIMEZONE
BEGIN:VEVENT
DTSTART;TZID=America/New_York:20230429T140000
DTEND;TZID=America/New_York:20230429T170000
DTSTAMP:20260422T070518
CREATED:20230319T141232Z
LAST-MODIFIED:20230319T141232Z
UID:10000021-1682776800-1682787600@healthymindsphilly.org
SUMMARY:10th Annual Sojourner Truth Walk: Growing Food Justice\, Honoring Those Who Feed Us
DESCRIPTION:This event is named in honor of Sojourner Truth\, an American abolitionist\, women’s rights and economic justice activist\, who escaped slavery and then fought to end it. She\, along with many others\, has served as an inspiration and role model for generations to come. We are walking in their footsteps! This year we are also lifting up Food Justice and the people who feed us\, as an important political movement in Philadelphia and beyond. \nPlease help build the leadership of Philly girls/youth by joining the 10th Annual Sojourner Truth Walk! All proceeds benefit Camp Sojourner\, Girls’ Leadership Camp\, and help to fund scholarships for summer camp and year-round leadership activities. \nHall Mercer will be providing behavioral health screenings.
URL:https://healthymindsphilly.org/dev/event/10th-annual-sojourner-truth-walk-growing-food-justice-honoring-those-who-feed-us/
LOCATION:Calvery Center for Community and Culture\, 801 S. 48th Street\, Philadelphia\, PA\, 19143\, United States
CATEGORIES:Community,Screening
ORGANIZER;CN="Camp Sojourner":MAILTO:walkinfo@girlsleadershipcamp.org
END:VEVENT
END:VCALENDAR