BEGIN:VCALENDAR
VERSION:2.0
PRODID:-//Healthy Minds Philly® - ECPv6.15.18//NONSGML v1.0//EN
CALSCALE:GREGORIAN
METHOD:PUBLISH
X-ORIGINAL-URL:https://healthymindsphilly.org/dev
X-WR-CALDESC:Events for Healthy Minds Philly®
REFRESH-INTERVAL;VALUE=DURATION:PT1H
X-Robots-Tag:noindex
X-PUBLISHED-TTL:PT1H
BEGIN:VTIMEZONE
TZID:America/New_York
BEGIN:DAYLIGHT
TZOFFSETFROM:-0500
TZOFFSETTO:-0400
TZNAME:EDT
DTSTART:20210314T070000
END:DAYLIGHT
BEGIN:STANDARD
TZOFFSETFROM:-0400
TZOFFSETTO:-0500
TZNAME:EST
DTSTART:20211107T060000
END:STANDARD
BEGIN:DAYLIGHT
TZOFFSETFROM:-0500
TZOFFSETTO:-0400
TZNAME:EDT
DTSTART:20220313T070000
END:DAYLIGHT
BEGIN:STANDARD
TZOFFSETFROM:-0400
TZOFFSETTO:-0500
TZNAME:EST
DTSTART:20221106T060000
END:STANDARD
BEGIN:DAYLIGHT
TZOFFSETFROM:-0500
TZOFFSETTO:-0400
TZNAME:EDT
DTSTART:20230312T070000
END:DAYLIGHT
BEGIN:STANDARD
TZOFFSETFROM:-0400
TZOFFSETTO:-0500
TZNAME:EST
DTSTART:20231105T060000
END:STANDARD
END:VTIMEZONE
BEGIN:VEVENT
DTSTART;TZID=America/New_York:20221213T123000
DTEND;TZID=America/New_York:20221213T143000
DTSTAMP:20260423T031426
CREATED:20230714T121107Z
LAST-MODIFIED:20230714T121107Z
UID:10001958-1670934600-1670941800@healthymindsphilly.org
SUMMARY:Community Support Program of Philadelphia Monthly Meeting - Hybrid (Online & In-Person)
DESCRIPTION:Join the Community Support Program of Philadelphia for the monthly meeting where we invite different agencies\, organizations\, companies\, and people within the community to discuss resources and information within the community. \nWe plan to meet every month on the second Tuesday from 12:30pm to 2:30pm. Refreshments will be provided at the in-person meetings. \nDue to the pandemic\, we are providing the meeting in both in-person and virtual. \nIf you are planning to attend in person\, the meeting will be held at 4200 Ridge Avenue\, Philadelphia\, PA 19129. It is at the United Peers office which is a part of Resources for Human Development. \nPlease contact Marvin White\, CSP Coordinator\, at marvin.white@rhd.org for more information.\nIf you are planning to attend virtually\, zoom information is below.\nJoin Zoom Meeting\nhttps://rhd.zoom.us/j/85819145721?pwd=RlEvdytBajdZMGxBY0QveGhzOGJSUT09 \nMeeting ID: 858 1914 5721\nPasscode: 414177\nOne tap mobile\n+13017158592\,\,85819145721#\,\,\,\,*414177# US (Washington DC)\n+13126266799\,\,85819145721#\,\,\,\,*414177# US (Chicago) \nDial by your location\n+1 301 715 8592 US (Washington DC)\n+1 312 626 6799 US (Chicago)\n+1 646 876 9923 US (New York)\n+1 669 900 6833 US (San Jose)\n+1 253 215 8782 US (Tacoma)\n+1 346 248 7799 US (Houston)\n+1 408 638 0968 US (San Jose)\nMeeting ID: 858 1914 5721\nPasscode: 414177\nFind your local number: https://rhd.zoom.us/u/keFXvJs0Wd
URL:https://healthymindsphilly.org/dev/event/community-support-program-of-philadelphia-monthly-meeting-hybrid-online-in-person/2022-12-13/
LOCATION:Online\, United States
CATEGORIES:Community
END:VEVENT
END:VCALENDAR