BEGIN:VCALENDAR
VERSION:2.0
PRODID:-//Healthy Minds Philly® - ECPv6.15.18//NONSGML v1.0//EN
CALSCALE:GREGORIAN
METHOD:PUBLISH
X-WR-CALNAME:Healthy Minds Philly®
X-ORIGINAL-URL:https://healthymindsphilly.org/dev
X-WR-CALDESC:Events for Healthy Minds Philly®
REFRESH-INTERVAL;VALUE=DURATION:PT1H
X-Robots-Tag:noindex
X-PUBLISHED-TTL:PT1H
BEGIN:VTIMEZONE
TZID:America/New_York
BEGIN:DAYLIGHT
TZOFFSETFROM:-0500
TZOFFSETTO:-0400
TZNAME:EDT
DTSTART:20220313T070000
END:DAYLIGHT
BEGIN:STANDARD
TZOFFSETFROM:-0400
TZOFFSETTO:-0500
TZNAME:EST
DTSTART:20221106T060000
END:STANDARD
BEGIN:DAYLIGHT
TZOFFSETFROM:-0500
TZOFFSETTO:-0400
TZNAME:EDT
DTSTART:20230312T070000
END:DAYLIGHT
BEGIN:STANDARD
TZOFFSETFROM:-0400
TZOFFSETTO:-0500
TZNAME:EST
DTSTART:20231105T060000
END:STANDARD
BEGIN:DAYLIGHT
TZOFFSETFROM:-0500
TZOFFSETTO:-0400
TZNAME:EDT
DTSTART:20240310T070000
END:DAYLIGHT
BEGIN:STANDARD
TZOFFSETFROM:-0400
TZOFFSETTO:-0500
TZNAME:EST
DTSTART:20241103T060000
END:STANDARD
END:VTIMEZONE
BEGIN:VEVENT
DTSTART;TZID=America/New_York:20230601T093000
DTEND;TZID=America/New_York:20230601T123000
DTSTAMP:20260421T204102
CREATED:20230713T132435Z
LAST-MODIFIED:20230713T132435Z
UID:10001369-1685611800-1685622600@healthymindsphilly.org
SUMMARY:UrStorytellers Online Storytelling Training
DESCRIPTION:Storytelling is a training facilitated by UrStorytellers in collaboration with the City of Department of Behavioral Health and Intellectual DisAbility Services (DBHIDS). This training is one of many trainings that is approved as a required prerequisite for applicants who want to pursue the goals of becoming a Certified Peer Specialist. Our goal is to inform the recovery and faith-based communities on how to share their stories and in addition to the importance of sharing them in community settings. This training will be 3 hrs. at length\, delivered in a power point format\, and interactive activities enhance this training. After the conclusion of the training\, all participants will receive a certificate of completion.
URL:https://healthymindsphilly.org/dev/event/urstorytellers-online-storytelling-training/2023-06-01/
LOCATION:Online\, United States
CATEGORIES:Storytelling,Training
ORGANIZER;CN="UrStorytellers Foundation Inc":MAILTO:sanders.urstorytellers@gmail.com
END:VEVENT
BEGIN:VEVENT
DTSTART;TZID=America/New_York:20230602T093000
DTEND;TZID=America/New_York:20230602T133000
DTSTAMP:20260421T204102
CREATED:20230713T132102Z
LAST-MODIFIED:20230713T132102Z
UID:10001365-1685698200-1685712600@healthymindsphilly.org
SUMMARY:UrStorytellers Story Telling Training
DESCRIPTION:Storytelling is a training facilitated by UrStorytellers in collaboration with the City of Department of Behavioral Health and Intellectual DisAbility Services (DBHIDS). This training is one of many that is approved as a required prerequisite for applicants who want to become a Certified Peer Specialists. Our goal is to inform the recovery and faith-based communities on how to share their stories in addition to the importance of sharing them in community settings. This training will be 4hrs. at length\, delivered in a power point format\, and interactive activities enhance this training. At the conclusion of the training\, all participants will receive a certificate of completion.
URL:https://healthymindsphilly.org/dev/event/urstorytellers-story-telling-training/2023-06-02/
LOCATION:Philadelphia Recovery Community Center (PRCC)\, 1701 W. Lehigh Ave.\, Philadelphia\, 19132\, United States
CATEGORIES:Storytelling,Training
ATTACH;FMTTYPE=image/png:https://healthymindsphilly.org/dev/wp-content/uploads/2023/06/UR-Facebook-image-2.png
ORGANIZER;CN="UrStorytellers Foundation Inc":MAILTO:sanders.urstorytellers@gmail.com
END:VEVENT
BEGIN:VEVENT
DTSTART;TZID=America/New_York:20230603T090000
DTEND;TZID=America/New_York:20230603T130000
DTSTAMP:20260421T204102
CREATED:20230504T132520Z
LAST-MODIFIED:20230504T134101Z
UID:10000059-1685782800-1685797200@healthymindsphilly.org
SUMMARY:Annual Health Expo 2023
DESCRIPTION:Free health screenings and family fun at Jefferson Methodist \nFREE Health Screenings: \n\nCholesterol and glucose (fasting recommended)\nBlood pressure and stroke\nHead and Neck Cancer\nOsteoporosis heel scans\nMammograms for uninsured and underinsured women\, sponsored by the Methodist Hospital Foundation\n\nFREE Health Information and Consultations include: \n\nNutrition Counseling\nNavy Yard Services\nObstetrics and Gynecology\n“Hands Only” CPR\nMulti-Specialty Services at 1300 Wolf St.\nWyss Wellness Center\nAsk the Pharmacist\n\nFamily Fun and More: \n\nFood and refreshments at no cost to attendees\nCartoon guests: Spiderman and Elsa\nFace painting\nBalloon artist\n\nCatch\, Inc. will be providing Behavioral Health Screenings at The Annual Health Expo 2023
URL:https://healthymindsphilly.org/dev/event/annual-health-expo-2023/
LOCATION:Jefferson Methodist Hospital\, 2301 S. Broad Street Broad Street Entrance of Jefferson Methodist Hospital\, Philadelphia\, PA\, 19148\, United States
CATEGORIES:Community,Screening
ATTACH;FMTTYPE=image/png:https://healthymindsphilly.org/dev/wp-content/uploads/2023/05/expo.png
ORGANIZER;CN="CATCH%2C Inc.":MAILTO:mantipuna@catchinc.com
END:VEVENT
BEGIN:VEVENT
DTSTART;TZID=America/New_York:20230603T120000
DTEND;TZID=America/New_York:20230603T170000
DTSTAMP:20260421T204102
CREATED:20230713T140650Z
LAST-MODIFIED:20230713T140650Z
UID:10001495-1685793600-1685811600@healthymindsphilly.org
SUMMARY:Saturday Afternoon Respite
DESCRIPTION:Caring for a child with behavioral health needs can be demanding. Take a break. Respite care is short-term care for children ages 6-17. Children with a behavioral health diagnosis are eligible for short-term care.
URL:https://healthymindsphilly.org/dev/event/saturday-afternoon-respite-2/2023-06-03/
LOCATION:Shane Victorino Nicetown Boys & Girls Club\, 1721 West Hunting Park Ave\, Philadelphia\, PA\, 19140\, United States
CATEGORIES:Caregiving,Community,Family,Youth
ATTACH;FMTTYPE=image/jpeg:https://healthymindsphilly.org/dev/wp-content/uploads/2023/07/respite.jpg
ORGANIZER;CN="DBHIDS":MAILTO:gabriel.bryant@phila.gov
END:VEVENT
BEGIN:VEVENT
DTSTART;TZID=America/New_York:20230604T110000
DTEND;TZID=America/New_York:20230604T160000
DTSTAMP:20260421T204102
CREATED:20230523T145705Z
LAST-MODIFIED:20230523T152131Z
UID:10000004-1685876400-1685894400@healthymindsphilly.org
SUMMARY:Mazzoni Center @ Pride Festival
DESCRIPTION:Mazzoni Center will be tabling throughout the Philadelphia Pride Festival. Therapist’s from Mazzoni Center’s Behavioral Health Department will be conducting free mental health screenings\, discussing services offered at Mazzoni Center\, and helping folks get connected to resources. Mental Health screenings will be offered from 11:00am – 4:00pm.
URL:https://healthymindsphilly.org/dev/event/mazzoni-center-pride-festival/
LOCATION:Gayborhood\, 12th and Locust Street\, Philadelphia\, PA\, 19107\, United States
CATEGORIES:LGBTQ,Screening
ORGANIZER;CN="Mazzoni Center":MAILTO:bjordan@mazzonicenter.org
END:VEVENT
BEGIN:VEVENT
DTSTART;TZID=America/New_York:20230606T093000
DTEND;TZID=America/New_York:20230606T170000
DTSTAMP:20260421T204102
CREATED:20230713T131757Z
LAST-MODIFIED:20230713T131757Z
UID:10001362-1686043800-1686070800@healthymindsphilly.org
SUMMARY:Supporting Youth Recovery CRS Training Program
DESCRIPTION:The Council of Southeast Pennsylvania\, Inc. (The Council) will offer the Supporting Youth Recovery: Peer Paraprofessional Certificate in Supporting Youth Recovery program. Unique to this program is the enhanced version of Pennsylvania Certification Board (PCB) approved standardized Recovery Specialist (RS) Training to prepare peer paraprofessionals to include addressing the unmet behavioral health needs of children\, adolescents\, and young adults with a substance use disorder (SUD) and their families to provide RS to youth and young adults in recovery from a SUD and their families.
URL:https://healthymindsphilly.org/dev/event/supporting-youth-recovery-crs-training-program/2023-06-06/
LOCATION:Philadelphia Recovery Training Center (PRTC)\, 520 N. Columbus Blvd.\, Philadelphia\, PA\, 19123-4229\, United States
CATEGORIES:Addiction,Training,Youth
ATTACH;FMTTYPE=image/jpeg:https://healthymindsphilly.org/dev/wp-content/uploads/2023/07/SYR-Flyer1024_1-768x995-1.jpg
ORGANIZER;CN="Pro-ACT":MAILTO:MWidmeier@councilsepa.org
END:VEVENT
BEGIN:VEVENT
DTSTART;TZID=America/New_York:20230610T120000
DTEND;TZID=America/New_York:20230610T160000
DTSTAMP:20260421T204102
CREATED:20230515T152449Z
LAST-MODIFIED:20230515T172851Z
UID:10000073-1686398400-1686412800@healthymindsphilly.org
SUMMARY:Sugar Cane Festival 2023
DESCRIPTION:The Festival honors the historic significance of the sugarcane crop for generations of Puerto Ricans and recognizes the sugarcane workers who migrated from the Island to Philadelphia to work in the refinery. We will again have pavas and sugarcane to hand out to Festival attendees. Come early to get yours! \nThe Festival is free and open to the public. \nAsociacion Puertorriquenos En Marcha\, Inc (APM)  will be providing Behavioral Health Screenings
URL:https://healthymindsphilly.org/dev/event/sugar-cane-festival-2023/
LOCATION:6th and Susquehanna\, 6th and Susquehanna\, Philadelphia\, 19122\, United States
CATEGORIES:Community
ATTACH;FMTTYPE=image/png:https://healthymindsphilly.org/dev/wp-content/uploads/2023/05/image003.png
ORGANIZER;CN="APM":MAILTO:wanda.ramirez@apmphila.org
END:VEVENT
BEGIN:VEVENT
DTSTART;TZID=America/New_York:20230610T120000
DTEND;TZID=America/New_York:20230610T170000
DTSTAMP:20260421T204102
CREATED:20230713T140650Z
LAST-MODIFIED:20230713T140650Z
UID:10001496-1686398400-1686416400@healthymindsphilly.org
SUMMARY:Saturday Afternoon Respite
DESCRIPTION:Caring for a child with behavioral health needs can be demanding. Take a break. Respite care is short-term care for children ages 6-17. Children with a behavioral health diagnosis are eligible for short-term care.
URL:https://healthymindsphilly.org/dev/event/saturday-afternoon-respite-2/2023-06-10/
LOCATION:Shane Victorino Nicetown Boys & Girls Club\, 1721 West Hunting Park Ave\, Philadelphia\, PA\, 19140\, United States
CATEGORIES:Caregiving,Community,Family,Youth
ATTACH;FMTTYPE=image/jpeg:https://healthymindsphilly.org/dev/wp-content/uploads/2023/07/respite.jpg
ORGANIZER;CN="DBHIDS":MAILTO:gabriel.bryant@phila.gov
END:VEVENT
BEGIN:VEVENT
DTSTART;TZID=America/New_York:20230613T093000
DTEND;TZID=America/New_York:20230613T170000
DTSTAMP:20260421T204102
CREATED:20230713T131757Z
LAST-MODIFIED:20230713T131757Z
UID:10001363-1686648600-1686675600@healthymindsphilly.org
SUMMARY:Supporting Youth Recovery CRS Training Program
DESCRIPTION:The Council of Southeast Pennsylvania\, Inc. (The Council) will offer the Supporting Youth Recovery: Peer Paraprofessional Certificate in Supporting Youth Recovery program. Unique to this program is the enhanced version of Pennsylvania Certification Board (PCB) approved standardized Recovery Specialist (RS) Training to prepare peer paraprofessionals to include addressing the unmet behavioral health needs of children\, adolescents\, and young adults with a substance use disorder (SUD) and their families to provide RS to youth and young adults in recovery from a SUD and their families.
URL:https://healthymindsphilly.org/dev/event/supporting-youth-recovery-crs-training-program/2023-06-13/
LOCATION:Philadelphia Recovery Training Center (PRTC)\, 520 N. Columbus Blvd.\, Philadelphia\, PA\, 19123-4229\, United States
CATEGORIES:Addiction,Training,Youth
ATTACH;FMTTYPE=image/jpeg:https://healthymindsphilly.org/dev/wp-content/uploads/2023/07/SYR-Flyer1024_1-768x995-1.jpg
ORGANIZER;CN="Pro-ACT":MAILTO:MWidmeier@councilsepa.org
END:VEVENT
BEGIN:VEVENT
DTSTART;TZID=America/New_York:20230614T110000
DTEND;TZID=America/New_York:20230614T160000
DTSTAMP:20260421T204102
CREATED:20230713T131150Z
LAST-MODIFIED:20230713T131150Z
UID:10001328-1686740400-1686758400@healthymindsphilly.org
SUMMARY:PHMC Day
DESCRIPTION:PHMC Day is a chance to enjoy time outdoors with your community and learn more about Public Health Management Corporation’s (PHMC’s) programs and services. Join us for a block par ty hosted by PHMC ’s New Pathways Project!
URL:https://healthymindsphilly.org/dev/event/phmc-day/
LOCATION:New Pathways Project\, 2539 Germantown Avenue\, Philadelphia\, PA\, 19133\, United States
CATEGORIES:Community
ATTACH;FMTTYPE=image/jpeg:https://healthymindsphilly.org/dev/wp-content/uploads/2023/06/PHMC-Day_New-Pathways-Flyer-2023-scaled.jpg
ORGANIZER;CN="PHMC Community Engagement":MAILTO:PHMCCommunityEngagement@phmc.org
END:VEVENT
BEGIN:VEVENT
DTSTART;TZID=America/New_York:20230614T140000
DTEND;TZID=America/New_York:20230614T160000
DTSTAMP:20260421T204102
CREATED:20230614T012643Z
LAST-MODIFIED:20230614T012643Z
UID:10000084-1686751200-1686758400@healthymindsphilly.org
SUMMARY:Comhar Art Exhibition and Auction
DESCRIPTION:Auction where we showcase the artwork of our members! This year’s theme is “America\, The Heart of a New Nation\,” in recognition of American Immigration Month. Art Exhibition and Auction will take place at COMHAR’s Latino Treatment Services Program located at 2600 N. American Street\, Philadelphia\, PA 19133
URL:https://healthymindsphilly.org/dev/event/comhar-art-exhibition-and-auction/
LOCATION:COMHAR’s Latino Treatment Services Program\, 2600 N American St\, Philadelphia\, 19133
CATEGORIES:Community,Entertainment,Mental Health
ORGANIZER;CN="COMHAR":MAILTO:jaithra.jayakrishnan@apmphila.org
END:VEVENT
BEGIN:VEVENT
DTSTART;TZID=America/New_York:20230614T140000
DTEND;TZID=America/New_York:20230614T170000
DTSTAMP:20260421T204102
CREATED:20230530T165947Z
LAST-MODIFIED:20230530T165947Z
UID:10000008-1686751200-1686762000@healthymindsphilly.org
SUMMARY:KIPP North Philadelphia Academy's Carnival
DESCRIPTION:JJPI will provide resources and behavioral health screenings at KIPP North Philadelphia Academy’s Carnival.
URL:https://healthymindsphilly.org/dev/event/kipp-north-philadelphia-academys-carnival/
LOCATION:KIPP North Philadelphia Academy\, 2539 N 16th Street\, Philadelphia\, PA\, 19132\, United States
CATEGORIES:Community,Family,Screening
ORGANIZER;CN="JJPI":MAILTO:cverdeur@jjpi.phmc.org
END:VEVENT
BEGIN:VEVENT
DTSTART;TZID=America/New_York:20230614T190000
DTEND;TZID=America/New_York:20230614T200000
DTSTAMP:20260421T204102
CREATED:20230713T131411Z
LAST-MODIFIED:20230713T131411Z
UID:10001340-1686769200-1686772800@healthymindsphilly.org
SUMMARY:Survivors of Suicide Loss Support Group [ Online / By Phone ] - Methodist Hospital
DESCRIPTION:The Survivors of Suicide Loss Support Group seeks to help loss survivors cope\, connect\, and work toward healing. Trained group facilitators are suicide loss survivors who know firsthand how difficult it can be to find your way after losing someone to suicide. The group is open to anyone 18 years or older who is grieving a loss due to suicide. \nThe group is free and confidential. For more information\, please contact philadelphiasptf@phila.gov \nCOVID19 Update: We want to prioritize your health and safety while still offering our support in your grief. In response to the social distancing guidance from the Center for Disease Control\, we hosting support groups online and by phone. \nSecond Wednesday of each month\, 7pm (previously held at Methodist Hospital)\nJoin the Zoom Meeting\nMeeting ID: 873 0275 6074\nPassword: 475418\nDial In: (646) 931-3860 and enter Meeting ID: 87302756074#
URL:https://healthymindsphilly.org/dev/event/survivors-of-suicide-loss-support-group-online-by-phone-methodist-hospital-2/2023-06-14/
LOCATION:Online\, United States
CATEGORIES:Support Group
END:VEVENT
BEGIN:VEVENT
DTSTART;TZID=America/New_York:20230615T110000
DTEND;TZID=America/New_York:20230615T140000
DTSTAMP:20260421T204102
CREATED:20230614T140514Z
LAST-MODIFIED:20230614T140514Z
UID:10000085-1686826800-1686837600@healthymindsphilly.org
SUMMARY:Senior Resource Fair
DESCRIPTION:A resource fair focused on the senior population with vendors and other activities.
URL:https://healthymindsphilly.org/dev/event/senior-resource-fair/
LOCATION:InnovAge LIFE-Pennypack\, 4401 Megargee St\, Philadelphia\, 19136
CATEGORIES:Community,Screening
ATTACH;FMTTYPE=image/jpeg:https://healthymindsphilly.org/dev/wp-content/uploads/2023/06/june15-penny1024_1.jpg
ORGANIZER;CN="6th Council District":MAILTO:Michele.Fleming@Phila.gov
END:VEVENT
BEGIN:VEVENT
DTSTART;TZID=America/New_York:20230615T110000
DTEND;TZID=America/New_York:20230615T160000
DTSTAMP:20260421T204102
CREATED:20230629T143153Z
LAST-MODIFIED:20230629T143153Z
UID:10000013-1686826800-1686844800@healthymindsphilly.org
SUMMARY:PHMC Day
DESCRIPTION:PHMC Day is a chance to enjoy time outdoors with your community and learn more about Public Health Management Corporation’s (PHMC’s) programs and services. Join us for a block par ty hosted by PHMC ’s New Pathways Project!
URL:https://healthymindsphilly.org/dev/event/phmc-day-2/
LOCATION:New Pathways Project\, 2539 Germantown Avenue\, Philadelphia\, PA\, 19133\, United States
CATEGORIES:Community
ATTACH;FMTTYPE=image/jpeg:https://healthymindsphilly.org/dev/wp-content/uploads/2023/06/PHMC-Day_New-Pathways-Flyer-2023-scaled.jpg
ORGANIZER;CN="PHMC Community Engagement":MAILTO:PHMCCommunityEngagement@phmc.org
END:VEVENT
BEGIN:VEVENT
DTSTART;TZID=America/New_York:20230617T100000
DTEND;TZID=America/New_York:20230617T140000
DTSTAMP:20260421T204102
CREATED:20230619T151833Z
LAST-MODIFIED:20230619T151833Z
UID:10000087-1686996000-1687010400@healthymindsphilly.org
SUMMARY:Senior Summit: Seniors Count
DESCRIPTION:To empower Senior Citizens through exposure to governmental agencies\, non-profits\, medical and mental health agencies\, and care-giving agencies that can help them to manage the intricacies of their lives. Participants can engage in breakout sessions on mental health\, diabetes\, hypertension\, and other health issues. There will be information employment\, housing\, life insurance\, wills\, and estates\, nutrition\, and diet and more. There will be healthy refreshments. \nBehavioral Health Wellness will be onsite and will provide Behavioral Health Screenings
URL:https://healthymindsphilly.org/dev/event/senior-summit-seniors-count-5/
LOCATION:Cecil B Moor Rec Ctr\, 2551 N 22nd St\, Phila\, 19132
CATEGORIES:Screening
ORGANIZER;CN="SCOPE Community Based Orginazation":MAILTO:SCOPEForEASE@gmail.com
END:VEVENT
BEGIN:VEVENT
DTSTART;TZID=America/New_York:20230617T120000
DTEND;TZID=America/New_York:20230617T170000
DTSTAMP:20260421T204102
CREATED:20230713T140650Z
LAST-MODIFIED:20230713T140650Z
UID:10001497-1687003200-1687021200@healthymindsphilly.org
SUMMARY:Saturday Afternoon Respite
DESCRIPTION:Caring for a child with behavioral health needs can be demanding. Take a break. Respite care is short-term care for children ages 6-17. Children with a behavioral health diagnosis are eligible for short-term care.
URL:https://healthymindsphilly.org/dev/event/saturday-afternoon-respite-2/2023-06-17/
LOCATION:Shane Victorino Nicetown Boys & Girls Club\, 1721 West Hunting Park Ave\, Philadelphia\, PA\, 19140\, United States
CATEGORIES:Caregiving,Community,Family,Youth
ATTACH;FMTTYPE=image/jpeg:https://healthymindsphilly.org/dev/wp-content/uploads/2023/07/respite.jpg
ORGANIZER;CN="DBHIDS":MAILTO:gabriel.bryant@phila.gov
END:VEVENT
BEGIN:VEVENT
DTSTART;TZID=America/New_York:20230617T130000
DTEND;TZID=America/New_York:20230617T190000
DTSTAMP:20260421T204102
CREATED:20230509T181139Z
LAST-MODIFIED:20230509T181139Z
UID:10000064-1687006800-1687028400@healthymindsphilly.org
SUMMARY:Praise In the Park Community Event
DESCRIPTION:Join us for this all-day FREE Community Event. Music\, Food\, Health Screenings\, Vendors & more! You won’t want to miss it!
URL:https://healthymindsphilly.org/dev/event/praise-in-the-park-community-event/
LOCATION:Cedar Park\, 50th &amp; Baltimore\, 50th Street & Baltimore Avenue\, Philadelphia\, PA\, 19143\, United States
ATTACH;FMTTYPE=image/jpeg:https://healthymindsphilly.org/dev/wp-content/uploads/2023/05/TPBC-061723-Community-Day.jpg
ORGANIZER;CN="The People's Baptist Church":MAILTO:tpbc1917@gmail.com
END:VEVENT
BEGIN:VEVENT
DTSTART;TZID=America/New_York:20230621T150000
DTEND;TZID=America/New_York:20230621T170000
DTSTAMP:20260421T204102
CREATED:20230614T144000Z
LAST-MODIFIED:20230620T171525Z
UID:10000086-1687359600-1687366800@healthymindsphilly.org
SUMMARY:Trigger Film Screening
DESCRIPTION:Trigger Film Screening. Philadelphia Fight Behavioral Health will be providing behavioral health screenings.
URL:https://healthymindsphilly.org/dev/event/trigger-film-screening-2/
LOCATION:Philadelphia School District Building\, 440 North Broad Street\, Grand Atrium\, Philadelphia\, PA\, 19130\, United States
CATEGORIES:Entertainment
ATTACH;FMTTYPE=image/png:https://healthymindsphilly.org/dev/wp-content/uploads/2023/06/image002-1.png
ORGANIZER;CN="Philadelphia School District":MAILTO:nsabatino@philasd.org
END:VEVENT
BEGIN:VEVENT
DTSTART;TZID=America/New_York:20230623T090000
DTEND;TZID=America/New_York:20230623T150000
DTSTAMP:20260421T204102
CREATED:20230607T005112Z
LAST-MODIFIED:20230607T005112Z
UID:10000081-1687510800-1687532400@healthymindsphilly.org
SUMMARY:31st Annual 'My City\, My Place' Brighter Futures Awards
DESCRIPTION:The City of Philadelphia Department of Behavioral Health and Intellectual disAbility Services (DBHIDS) and the IDS Public Awareness Committee will celebrate the 31st Annual Brighter Futures Awards event honoring those who support and serve individuals with intellectual disabilities to help them live an “Everyday Life.” \nThe ceremony\, resource fair\, and workshops will take place at the Hilton Philadelphia City Avenue. The celebration is an in-person event on Friday\, June 23\, from 9 a.m. to 3 p.m. at the Hilton Hotel\, 4200 City Ave.\, Garden Ballroom. Registration is required. \nPlease secure your seat today. For more information\, please contact ids.publicawareness@phila.gov.
URL:https://healthymindsphilly.org/dev/event/31st-annual-my-city-my-place-brighter-futures-awards/
LOCATION:Hilton Philadelphia City Avenue\, 4200 City Avenue\, Philadelphia\, PA\, 19131\, United States
CATEGORIES:Community,Intellectual Disabilities
ATTACH;FMTTYPE=image/png:https://healthymindsphilly.org/dev/wp-content/uploads/2023/06/IDS-BF2023Capture.png
ORGANIZER;CN="IDS Public Awareness Committee":MAILTO:ids.publicawareness@phila.gov
GEO:40.0049705;-75.2184631
X-APPLE-STRUCTURED-LOCATION;VALUE=URI;X-ADDRESS=Hilton Philadelphia City Avenue 4200 City Avenue Philadelphia PA 19131 United States;X-APPLE-RADIUS=500;X-TITLE=4200 City Avenue:geo:-75.2184631,40.0049705
END:VEVENT
BEGIN:VEVENT
DTSTART;TZID=America/New_York:20230624T100000
DTEND;TZID=America/New_York:20230624T140000
DTSTAMP:20260421T204102
CREATED:20230526T130000Z
LAST-MODIFIED:20230526T130000Z
UID:10000006-1687600800-1687615200@healthymindsphilly.org
SUMMARY:St Barnabas 2nd Annual Community Strong
DESCRIPTION:Come out and join us for free food\, music\, games\, vendors\, face painting\, community resources and more. Malvern Community Health will join and will offer free behavioral health screenings and resources for well-being. \nDownload the flyer.
URL:https://healthymindsphilly.org/dev/event/st-barnabas-2nd-annual-community-strong/
LOCATION:St Barnabus\, 6006 Girard Ave\, Phila\, Pa\, 19151
CATEGORIES:Community,Screening
ATTACH;FMTTYPE=image/jpeg:https://healthymindsphilly.org/dev/wp-content/uploads/2023/05/blockparty.jpg
ORGANIZER;CN="ECS St Barnabas":MAILTO:AAshman@malvernchs.com
END:VEVENT
BEGIN:VEVENT
DTSTART;TZID=America/New_York:20230624T120000
DTEND;TZID=America/New_York:20230624T170000
DTSTAMP:20260421T204102
CREATED:20230713T140650Z
LAST-MODIFIED:20230713T140650Z
UID:10001498-1687608000-1687626000@healthymindsphilly.org
SUMMARY:Saturday Afternoon Respite
DESCRIPTION:Caring for a child with behavioral health needs can be demanding. Take a break. Respite care is short-term care for children ages 6-17. Children with a behavioral health diagnosis are eligible for short-term care.
URL:https://healthymindsphilly.org/dev/event/saturday-afternoon-respite-2/2023-06-24/
LOCATION:Shane Victorino Nicetown Boys & Girls Club\, 1721 West Hunting Park Ave\, Philadelphia\, PA\, 19140\, United States
CATEGORIES:Caregiving,Community,Family,Youth
ATTACH;FMTTYPE=image/jpeg:https://healthymindsphilly.org/dev/wp-content/uploads/2023/07/respite.jpg
ORGANIZER;CN="DBHIDS":MAILTO:gabriel.bryant@phila.gov
END:VEVENT
BEGIN:VEVENT
DTSTART;TZID=America/New_York:20230625T140000
DTEND;TZID=America/New_York:20230625T180000
DTSTAMP:20260421T204102
CREATED:20230622T123607Z
LAST-MODIFIED:20230622T123607Z
UID:10000090-1687701600-1687716000@healthymindsphilly.org
SUMMARY:Hispanic Fiesta
DESCRIPTION:PLEASE JOIN US FOR OUR HISPANIC FIESTA – PART OF OUR ANNUAL CULTURAL EVENTS SERIES!\nHispanic Fiesta takes place annually as a part of the PECO Multicultural Series and Wawa Welcome America\, full of culture – a true #LatinoWeekendExperience! This event features entertainment and will include many local vendors offering you the Latino flair in food\, music\, clothing\, and much more. \nThe Children’s Crisis Treatment Center (CCTC) will be present during this event providing information regarding the behavioral health services provided to children and families and will have clinical and administrative staff in attendance to answer any questions visitors to the event may have. CCTC will also have giveaways for all who visit the table.
URL:https://healthymindsphilly.org/dev/event/hispanic-fiesta/
LOCATION:Great Plaza at Penn’s Landing\, Penn's Landing \, Philadelphia PA\, Philadelphia\, PA\, 19106\, United States
CATEGORIES:Community,Screening
ORGANIZER;CN="Concilio":MAILTO:www.elconcilio.net
END:VEVENT
BEGIN:VEVENT
DTSTART;TZID=America/New_York:20230627T100000
DTEND;TZID=America/New_York:20230627T180000
DTSTAMP:20260421T204102
CREATED:20230526T164852Z
LAST-MODIFIED:20230526T164852Z
UID:10000007-1687860000-1687888800@healthymindsphilly.org
SUMMARY:National HIV Testing Day
DESCRIPTION:HIV and STI Testing
URL:https://healthymindsphilly.org/dev/event/national-hiv-testing-day/
LOCATION:Mazzoni Center – Washington West Project\, 1201 Locust St.\, Behavioral Health Department will be tabling outside.\, Philadelphia\, PA\, 19107\, United States
CATEGORIES:Community
ORGANIZER;CN="Mazzoni Center":MAILTO:bjordan@mazzonicenter.org
GEO:39.9559288;-75.1574567
X-APPLE-STRUCTURED-LOCATION;VALUE=URI;X-ADDRESS=Mazzoni Center – Washington West Project 1201 Locust St. Behavioral Health Department will be tabling outside. Philadelphia PA 19107 United States;X-APPLE-RADIUS=500;X-TITLE=1201 Locust St.\, Behavioral Health Department will be tabling outside.:geo:-75.1574567,39.9559288
END:VEVENT
BEGIN:VEVENT
DTSTART;TZID=America/New_York:20230627T190000
DTEND;TZID=America/New_York:20230627T200000
DTSTAMP:20260421T204102
CREATED:20230713T130141Z
LAST-MODIFIED:20230713T130141Z
UID:10001327-1687892400-1687896000@healthymindsphilly.org
SUMMARY:Survivors of Suicide Loss Support Group [ Online / By Phone ] - Palumbo Rec
DESCRIPTION:The Survivors of Suicide Loss Support Group is a group to help loss survivors cope\, connect\, and work toward healing. Trained group facilitators are suicide loss survivors who know firsthand how difficult it can be to find your way after losing someone to suicide. The group is open to anyone 18 years or older who is grieving a loss due to suicide. \nThe group is free\, confidential\, and meets the second Wednesday of each month. For more information\, please contact philadelphiasptf@phila.gov \nCOVID19 Update: We want to prioritize your health and safety while still offering our support in your grief. In response to the social distancing guidance from the Center for Disease Control\, we will host support groups online and by phone. \nFourth Tuesday of each month\, 7pm (previously held at Palumbo Rec)\nJoin the Zoom Meeting\nMeeting ID: 850 7870 0472\nDial In: (646) 931-3860 and enter Meeting ID: 85078700472#
URL:https://healthymindsphilly.org/dev/event/survivors-of-suicide-loss-support-group-online-by-phone-palumbo-rec-2/2023-06-27/
LOCATION:Online\, United States
CATEGORIES:Support Group
END:VEVENT
BEGIN:VEVENT
DTSTART;TZID=America/New_York:20230629T160000
DTEND;TZID=America/New_York:20230629T190000
DTSTAMP:20260421T204102
CREATED:20230623T121215Z
LAST-MODIFIED:20230623T121215Z
UID:10000091-1688054400-1688065200@healthymindsphilly.org
SUMMARY:Wawa Welcome America Neighborhood Event
DESCRIPTION:An event to celebrate July 4th! Vendors will be present to offer a variety of services including blood pressure\, mental health\, and cholesterol screenings. \nEinstein Behavioral Health will provide behavioral health screenings.
URL:https://healthymindsphilly.org/dev/event/wawa-welcome-america-neighborhood-event/
LOCATION:8th and olney\, 851 W Olney Avenue\, Philadelphia\, PA\, 19141
CATEGORIES:Community,Screening
ORGANIZER;CN="Wawa":MAILTO:n/a
END:VEVENT
END:VCALENDAR