BEGIN:VCALENDAR
VERSION:2.0
PRODID:-//Healthy Minds Philly® - ECPv6.15.18//NONSGML v1.0//EN
CALSCALE:GREGORIAN
METHOD:PUBLISH
X-ORIGINAL-URL:https://healthymindsphilly.org/dev
X-WR-CALDESC:Events for Healthy Minds Philly®
REFRESH-INTERVAL;VALUE=DURATION:PT1H
X-Robots-Tag:noindex
X-PUBLISHED-TTL:PT1H
BEGIN:VTIMEZONE
TZID:America/New_York
BEGIN:DAYLIGHT
TZOFFSETFROM:-0500
TZOFFSETTO:-0400
TZNAME:EDT
DTSTART:20220313T070000
END:DAYLIGHT
BEGIN:STANDARD
TZOFFSETFROM:-0400
TZOFFSETTO:-0500
TZNAME:EST
DTSTART:20221106T060000
END:STANDARD
BEGIN:DAYLIGHT
TZOFFSETFROM:-0500
TZOFFSETTO:-0400
TZNAME:EDT
DTSTART:20230312T070000
END:DAYLIGHT
BEGIN:STANDARD
TZOFFSETFROM:-0400
TZOFFSETTO:-0500
TZNAME:EST
DTSTART:20231105T060000
END:STANDARD
BEGIN:DAYLIGHT
TZOFFSETFROM:-0500
TZOFFSETTO:-0400
TZNAME:EDT
DTSTART:20240310T070000
END:DAYLIGHT
BEGIN:STANDARD
TZOFFSETFROM:-0400
TZOFFSETTO:-0500
TZNAME:EST
DTSTART:20241103T060000
END:STANDARD
END:VTIMEZONE
BEGIN:VEVENT
DTSTART;TZID=America/New_York:20231204T090000
DTEND;TZID=America/New_York:20231204T130000
DTSTAMP:20260421T073626
CREATED:20231106T153021Z
LAST-MODIFIED:20231106T153021Z
UID:10003651-1701680400-1701694800@healthymindsphilly.org
SUMMARY:DBHIDS Sponsored Trauma 101 Training
DESCRIPTION:This course introduces trauma theory\, beginning with understanding the brain/body stress response\, and then exploring the short- and long-term impact of adversity\, toxic stress and trauma. We include discussion of the Adverse Childhood Experiences (ACEs) research\, Historical Trauma and Social Determinants of distress as well as buffering factors and resiliency. This course will be held virtually via Zoom.
URL:https://healthymindsphilly.org/dev/event/dbhids-sponsored-trauma-101-training/
LOCATION:DBHIDS Sponsored Trauma 101 Training\, 833 Chestnut Street\, Philadelphia\, PA\, 19107\, United States
CATEGORIES:Community,Mental Health,Peer Specialists,Training,Trauma,Webinar
ATTACH;FMTTYPE=image/jpeg:https://healthymindsphilly.org/dev/wp-content/uploads/2023/11/Trauma-101.jpg
ORGANIZER;CN="Mental Health Partnerships/Institute@MHP":MAILTO:danielmiller@mhphope.org
END:VEVENT
END:VCALENDAR