BEGIN:VCALENDAR
VERSION:2.0
PRODID:-//Healthy Minds Philly® - ECPv6.15.18//NONSGML v1.0//EN
CALSCALE:GREGORIAN
METHOD:PUBLISH
X-WR-CALNAME:Healthy Minds Philly®
X-ORIGINAL-URL:https://healthymindsphilly.org/dev
X-WR-CALDESC:Events for Healthy Minds Philly®
REFRESH-INTERVAL;VALUE=DURATION:PT1H
X-Robots-Tag:noindex
X-PUBLISHED-TTL:PT1H
BEGIN:VTIMEZONE
TZID:America/New_York
BEGIN:DAYLIGHT
TZOFFSETFROM:-0500
TZOFFSETTO:-0400
TZNAME:EDT
DTSTART:20220313T070000
END:DAYLIGHT
BEGIN:STANDARD
TZOFFSETFROM:-0400
TZOFFSETTO:-0500
TZNAME:EST
DTSTART:20221106T060000
END:STANDARD
BEGIN:DAYLIGHT
TZOFFSETFROM:-0500
TZOFFSETTO:-0400
TZNAME:EDT
DTSTART:20230312T070000
END:DAYLIGHT
BEGIN:STANDARD
TZOFFSETFROM:-0400
TZOFFSETTO:-0500
TZNAME:EST
DTSTART:20231105T060000
END:STANDARD
BEGIN:DAYLIGHT
TZOFFSETFROM:-0500
TZOFFSETTO:-0400
TZNAME:EDT
DTSTART:20240310T070000
END:DAYLIGHT
BEGIN:STANDARD
TZOFFSETFROM:-0400
TZOFFSETTO:-0500
TZNAME:EST
DTSTART:20241103T060000
END:STANDARD
END:VTIMEZONE
BEGIN:VEVENT
DTSTART;TZID=America/New_York:20231104T090000
DTEND;TZID=America/New_York:20231104T160000
DTSTAMP:20260421T085830
CREATED:20230830T125637Z
LAST-MODIFIED:20231103T120708Z
UID:10002818-1699088400-1699113600@healthymindsphilly.org
SUMMARY:SHE SHINES CONFERENCE
DESCRIPTION:“To empower you spiritually\, inform you intellectually\, inspire you with hope and determination\, and motivate you with drive and renewed strength to stand bold in your purpose and live out your faith in this ever-changing world.” (A.R. Bernard) \nSHE SHINES Conference is Philadelphia’s premier women’s conference. We focus on empowering\, inspiring\, and offering hope and opportunities by engaging a collective network of women\, particularly black women\, who are disenfranchised and disproportionately represented in various sectors and spaces throughout the region and beyond. \nOur goals are to mobilize\, empower\, and inspire women to:\n· See beyond the impossibilities and visualize the insurmountable opportunities beyond her current circumstances and barriers.\n· Highlight and emphasize that she is endowed with strength\, power\, creativity\, humor\, and intellect.\n· Insulate her heart with God’s love\, her mind with knowledge\, and her body with energy and strength for her journey.\n· Never compromise her convictions\, morals\, principles\, and ethics which will only lead to one’s demise; but rather nourish her spirit and soul with that which brings forth life!\n· Embrace her distinct culture and unique body image and likeness that is beautifully and wonderfully created by God.\nOur objective is for women to pursue their God-inspired purpose and dreams by way of inciting and energizing the consciousness of women by (1) heightening their awareness about civic engagement by way of empowering and mobilizing women to collectively use and exercise their power\, voice\, and voting rights; (2) educating and providing resources focusing on health and self-care\, and (3) to encourage\, inspire\, and support women to realize their dreams\, pursue their purpose\, and to create a legacy for future generations. \nOur conference includes workshops that are facilitated by local and national subject matter experts focusing on our three core pillars:\n(1) Civic Engagement/Voting Rights; (2) Health/Wellness & Safety; and (3) Spiritual Enrichment; Q&A Sessions\, and Networking Opportunities.\nWomen are welcomed and invited to visit our Vendors/Resource Information Marketplace throughout the day. We are committed to supporting black businesses\, especially women entrepreneurs. We also provide healthcare and mental health screenings\, speak with healthcare providers and a relaxation massage area.\nSimply\, our three-word purpose statement: Inspire\, Hope\, and Shine drive our mission to uplift and celebrate sisterhood and to share our stories. \nBethanna will be in attendance and will provide Behavioral Health screenings\, information on behavioral health\, and resources for well-being.
URL:https://healthymindsphilly.org/dev/event/she-shines-conference/
LOCATION:New Covenant Church of Philadelphia\, 7500 Germantown Avenue\, Philadelphia\, PA\, 19119\, United States
CATEGORIES:Community,Event Registration,Faith-Based,Mental Health,Self Care,Women's Health
ATTACH;FMTTYPE=image/jpeg:https://healthymindsphilly.org/dev/wp-content/uploads/2023/08/She-Shines-Conference-Flyer-v2-2023-scaled.jpg
ORGANIZER;CN="Celebrating Sisterhood":MAILTO:celebratingsisterhood1@gmail.com
END:VEVENT
BEGIN:VEVENT
DTSTART;TZID=America/New_York:20231104T120000
DTEND;TZID=America/New_York:20231104T150000
DTSTAMP:20260421T085830
CREATED:20231031T134958Z
LAST-MODIFIED:20231031T134958Z
UID:10003641-1699099200-1699110000@healthymindsphilly.org
SUMMARY:Great Streets PHL
DESCRIPTION:Join Great Streets PHL for their Resource Fair. Come share your ideas about traffic safety improvements for Westminster Ave (between 52nd and 40th) Access information and resources on employment\, transportation\, community services and more. Malvern Community Health will join us\, providing behavioral health screening\, information\, and resources on well-being.
URL:https://healthymindsphilly.org/dev/event/great-streets-phl/
LOCATION:47th St between Wyalusing Ave. & Westminster Ave\, 47th St between Wyalusing Ave. & Westminster Ave\, Philadelphia\, PA\, United States
CATEGORIES:Community
ORGANIZER;CN="City of Philadelphia":MAILTO:Teresa.Saunders@phila.gov
END:VEVENT
BEGIN:VEVENT
DTSTART;TZID=America/New_York:20231104T120000
DTEND;TZID=America/New_York:20231104T170000
DTSTAMP:20260421T085830
CREATED:20230713T122831Z
LAST-MODIFIED:20230713T122906Z
UID:10001247-1699099200-1699117200@healthymindsphilly.org
SUMMARY:Saturday Afternoon Respite
DESCRIPTION:Caring for a child with behavioral health needs can be demanding. Take a break. Respite care is short-term care for children ages 6-17. Children with a behavioral health diagnosis are eligible for short-term care.
URL:https://healthymindsphilly.org/dev/event/saturday-afternoon-respite/2023-11-04/
LOCATION:Shane Victorino Nicetown Boys & Girls Club\, 1721 West Hunting Park Ave\, Philadelphia\, PA\, 19140\, United States
CATEGORIES:Caregiving,Community,Family
ATTACH;FMTTYPE=image/jpeg:https://healthymindsphilly.org/dev/wp-content/uploads/2023/07/respite.jpg
ORGANIZER;CN="DBHIDS":MAILTO:gabriel.bryant@phila.gov
END:VEVENT
END:VCALENDAR