BEGIN:VCALENDAR
VERSION:2.0
PRODID:-//Healthy Minds Philly® - ECPv6.15.18//NONSGML v1.0//EN
CALSCALE:GREGORIAN
METHOD:PUBLISH
X-WR-CALNAME:Healthy Minds Philly®
X-ORIGINAL-URL:https://healthymindsphilly.org/dev
X-WR-CALDESC:Events for Healthy Minds Philly®
REFRESH-INTERVAL;VALUE=DURATION:PT1H
X-Robots-Tag:noindex
X-PUBLISHED-TTL:PT1H
BEGIN:VTIMEZONE
TZID:America/New_York
BEGIN:DAYLIGHT
TZOFFSETFROM:-0500
TZOFFSETTO:-0400
TZNAME:EDT
DTSTART:20220313T070000
END:DAYLIGHT
BEGIN:STANDARD
TZOFFSETFROM:-0400
TZOFFSETTO:-0500
TZNAME:EST
DTSTART:20221106T060000
END:STANDARD
BEGIN:DAYLIGHT
TZOFFSETFROM:-0500
TZOFFSETTO:-0400
TZNAME:EDT
DTSTART:20230312T070000
END:DAYLIGHT
BEGIN:STANDARD
TZOFFSETFROM:-0400
TZOFFSETTO:-0500
TZNAME:EST
DTSTART:20231105T060000
END:STANDARD
BEGIN:DAYLIGHT
TZOFFSETFROM:-0500
TZOFFSETTO:-0400
TZNAME:EDT
DTSTART:20240310T070000
END:DAYLIGHT
BEGIN:STANDARD
TZOFFSETFROM:-0400
TZOFFSETTO:-0500
TZNAME:EST
DTSTART:20241103T060000
END:STANDARD
END:VTIMEZONE
BEGIN:VEVENT
DTSTART;TZID=America/New_York:20231019T120000
DTEND;TZID=America/New_York:20231019T140000
DTSTAMP:20260421T135620
CREATED:20230929T133625Z
LAST-MODIFIED:20230930T153753Z
UID:10003614-1697716800-1697724000@healthymindsphilly.org
SUMMARY:Kensington Hospital Health Fair
DESCRIPTION:Come out and meet the Kensington Hospital Behavioral Health Team. We will offer free blood pressure and behavioral health screenings. There will be promotional items\, free giveaways and other resources to promote well-being.
URL:https://healthymindsphilly.org/dev/event/kensington-hospital-health-fair-2/
LOCATION:Outdoors- Front and Diamond St\, 2100 N Front St\, Philadelphia\, PA\, 19122\, United States
CATEGORIES:Community,Screening
ATTACH;FMTTYPE=image/jpeg:https://healthymindsphilly.org/dev/wp-content/uploads/2023/09/kensington.jpg
ORGANIZER;CN="Kensington Hospital Outpatient":MAILTO:mzukowski@kensingtonhospital.org
END:VEVENT
BEGIN:VEVENT
DTSTART;TZID=America/New_York:20231019T190000
DTEND;TZID=America/New_York:20231019T200000
DTSTAMP:20260421T135620
CREATED:20230713T123505Z
LAST-MODIFIED:20230713T123505Z
UID:10001293-1697742000-1697745600@healthymindsphilly.org
SUMMARY:Survivors of Suicide Loss Support Group [ Online / By Phone ] – DBHIDS
DESCRIPTION:The Survivors of Suicide Loss Support Group is a group to help loss survivors cope\, connect\, and work toward healing. Trained group facilitators are suicide loss survivors who know firsthand how difficult it can be to find your way after losing someone to suicide. The group is open to anyone 18 years or older who is grieving a loss due to suicide. \nThe group is free\, confidential\, and meets the second Wednesday of each month. For more information\, please contact philadelphiasptf@phila.gov \nCOVID19 Update: We want to prioritize your health and safety while still offering our support in your grief. In response to the social distancing guidance from the Center for Disease Control\, we will host support groups online and by phone. \nThird Thursday of each month\, 7pm (previously held at DBHIDS)\nJoin the Zoom Meeting\nMeeting ID: 838 0849 1956\nPassword: 512192\nDial In: (646) 931-3860 and enter Meeting ID: 83808491956#
URL:https://healthymindsphilly.org/dev/event/survivors-of-suicide-loss-support-group-online-by-phone-dbhids/2023-10-19/
LOCATION:Online\, United States
CATEGORIES:Support Group
END:VEVENT
END:VCALENDAR