BEGIN:VCALENDAR
VERSION:2.0
PRODID:-//Healthy Minds Philly® - ECPv6.15.18//NONSGML v1.0//EN
CALSCALE:GREGORIAN
METHOD:PUBLISH
X-ORIGINAL-URL:https://healthymindsphilly.org/dev
X-WR-CALDESC:Events for Healthy Minds Philly®
REFRESH-INTERVAL;VALUE=DURATION:PT1H
X-Robots-Tag:noindex
X-PUBLISHED-TTL:PT1H
BEGIN:VTIMEZONE
TZID:America/New_York
BEGIN:DAYLIGHT
TZOFFSETFROM:-0500
TZOFFSETTO:-0400
TZNAME:EDT
DTSTART:20220313T070000
END:DAYLIGHT
BEGIN:STANDARD
TZOFFSETFROM:-0400
TZOFFSETTO:-0500
TZNAME:EST
DTSTART:20221106T060000
END:STANDARD
BEGIN:DAYLIGHT
TZOFFSETFROM:-0500
TZOFFSETTO:-0400
TZNAME:EDT
DTSTART:20230312T070000
END:DAYLIGHT
BEGIN:STANDARD
TZOFFSETFROM:-0400
TZOFFSETTO:-0500
TZNAME:EST
DTSTART:20231105T060000
END:STANDARD
BEGIN:DAYLIGHT
TZOFFSETFROM:-0500
TZOFFSETTO:-0400
TZNAME:EDT
DTSTART:20240310T070000
END:DAYLIGHT
BEGIN:STANDARD
TZOFFSETFROM:-0400
TZOFFSETTO:-0500
TZNAME:EST
DTSTART:20241103T060000
END:STANDARD
END:VTIMEZONE
BEGIN:VEVENT
DTSTART;TZID=America/New_York:20231014T110000
DTEND;TZID=America/New_York:20231014T140000
DTSTAMP:20260421T135718
CREATED:20230913T193338Z
LAST-MODIFIED:20230914T142322Z
UID:10003583-1697281200-1697292000@healthymindsphilly.org
SUMMARY:PASSi Autumn Festival 2023
DESCRIPTION:This event is a fun and family-friendly event to bring the community together. During this event\, Lower Merion Counseling & Mobile Services will be offering screeners to community members who are interested. We will also be offering supports and resources to community members at the event. The event will have games\, crafts\, prizes\, a bounce house\, live shows\, and delicious food.
URL:https://healthymindsphilly.org/dev/event/passi-autumn-festival-2023/
LOCATION:PASSi\, 6926 Old York Rd.\, Philadelphia\, PA\, 19126\, United States
CATEGORIES:Community,Entertainment,Family,Mental Health,Screening
ATTACH;FMTTYPE=image/jpeg:https://healthymindsphilly.org/dev/wp-content/uploads/2023/09/passi.jpg
ORGANIZER;CN="RHD-Lower Merion Counseling &amp%3B Mobile Services":MAILTO:grace.johnson@rhd.org
END:VEVENT
BEGIN:VEVENT
DTSTART;TZID=America/New_York:20231014T120000
DTEND;TZID=America/New_York:20231014T170000
DTSTAMP:20260421T135718
CREATED:20230713T122831Z
LAST-MODIFIED:20230713T122906Z
UID:10001244-1697284800-1697302800@healthymindsphilly.org
SUMMARY:Saturday Afternoon Respite
DESCRIPTION:Caring for a child with behavioral health needs can be demanding. Take a break. Respite care is short-term care for children ages 6-17. Children with a behavioral health diagnosis are eligible for short-term care.
URL:https://healthymindsphilly.org/dev/event/saturday-afternoon-respite/2023-10-14/
LOCATION:Shane Victorino Nicetown Boys & Girls Club\, 1721 West Hunting Park Ave\, Philadelphia\, PA\, 19140\, United States
CATEGORIES:Caregiving,Community,Family
ATTACH;FMTTYPE=image/jpeg:https://healthymindsphilly.org/dev/wp-content/uploads/2023/07/respite.jpg
ORGANIZER;CN="DBHIDS":MAILTO:gabriel.bryant@phila.gov
END:VEVENT
END:VCALENDAR