BEGIN:VCALENDAR
VERSION:2.0
PRODID:-//Healthy Minds Philly® - ECPv6.15.18//NONSGML v1.0//EN
CALSCALE:GREGORIAN
METHOD:PUBLISH
X-ORIGINAL-URL:https://healthymindsphilly.org/dev
X-WR-CALDESC:Events for Healthy Minds Philly®
REFRESH-INTERVAL;VALUE=DURATION:PT1H
X-Robots-Tag:noindex
X-PUBLISHED-TTL:PT1H
BEGIN:VTIMEZONE
TZID:America/New_York
BEGIN:DAYLIGHT
TZOFFSETFROM:-0500
TZOFFSETTO:-0400
TZNAME:EDT
DTSTART:20220313T070000
END:DAYLIGHT
BEGIN:STANDARD
TZOFFSETFROM:-0400
TZOFFSETTO:-0500
TZNAME:EST
DTSTART:20221106T060000
END:STANDARD
BEGIN:DAYLIGHT
TZOFFSETFROM:-0500
TZOFFSETTO:-0400
TZNAME:EDT
DTSTART:20230312T070000
END:DAYLIGHT
BEGIN:STANDARD
TZOFFSETFROM:-0400
TZOFFSETTO:-0500
TZNAME:EST
DTSTART:20231105T060000
END:STANDARD
BEGIN:DAYLIGHT
TZOFFSETFROM:-0500
TZOFFSETTO:-0400
TZNAME:EDT
DTSTART:20240310T070000
END:DAYLIGHT
BEGIN:STANDARD
TZOFFSETFROM:-0400
TZOFFSETTO:-0500
TZNAME:EST
DTSTART:20241103T060000
END:STANDARD
END:VTIMEZONE
BEGIN:VEVENT
DTSTART;TZID=America/New_York:20231011T170000
DTEND;TZID=America/New_York:20231011T190000
DTSTAMP:20260421T135720
CREATED:20231003T184802Z
LAST-MODIFIED:20231003T184802Z
UID:10003617-1697043600-1697050800@healthymindsphilly.org
SUMMARY:Cured Documentary
DESCRIPTION:DESCRIBED AS “FASCINATING” (HOLLYWOOD REPORTER)\, “RIVETING” (THE QUEER REVIEW)\, AND “ONE OF THE BEST DOCUMENTARIES OFTHIS OR ANY YEAR” (BRITISH FILM INSTITUTE)— AND NOMINATED FOR AN EMMY AWARD —CURED TAKES VIEWERS INSIDE THE DAVID—VERSUS—GOLIATH BATTLE THAT LED THE AMERICAN PSYCHIATRIC ASSOCIATION TO REMOVE THE DIAGNOSIS OF HOMOSEXUALITY FROM ITS MANUAL OF MENTAL ILLNESSES IN 1973.
URL:https://healthymindsphilly.org/dev/event/cured-documentary/
LOCATION:Community College of Philadelphia\, Winnet Student Life Building\,\, 502 N. 17th Street\, Philadelphia\, 19107\, United States
CATEGORIES:Community,Entertainment,Event Registration,LGBTQ,Peer Specialists
ATTACH;FMTTYPE=image/png:https://healthymindsphilly.org/dev/wp-content/uploads/2023/10/Cured.png
ORGANIZER;CN="Mental Health Partnerships":MAILTO:manticoli@mhphope.org
END:VEVENT
BEGIN:VEVENT
DTSTART;TZID=America/New_York:20231011T190000
DTEND;TZID=America/New_York:20231011T200000
DTSTAMP:20260421T135720
CREATED:20230713T123146Z
LAST-MODIFIED:20230713T123146Z
UID:10001281-1697050800-1697054400@healthymindsphilly.org
SUMMARY:Survivors of Suicide Loss Support Group [ Online / By Phone ] – Methodist Hospital
DESCRIPTION:The Survivors of Suicide Loss Support Group seeks to help loss survivors cope\, connect\, and work toward healing. Trained group facilitators are suicide loss survivors who know firsthand how difficult it can be to find your way after losing someone to suicide. The group is open to anyone 18 years or older who is grieving a loss due to suicide. \nThe group is free and confidential. For more information\, please contact philadelphiasptf@phila.gov \nCOVID19 Update: We want to prioritize your health and safety while still offering our support in your grief. In response to the social distancing guidance from the Center for Disease Control\, we hosting support groups online and by phone. \nSecond Wednesday of each month\, 7pm (previously held at Methodist Hospital)\nJoin the Zoom Meeting\nMeeting ID: 873 0275 6074\nPassword: 475418\nDial In: (646) 931-3860 and enter Meeting ID: 87302756074#
URL:https://healthymindsphilly.org/dev/event/survivors-of-suicide-loss-support-group-online-by-phone-methodist-hospital/2023-10-11/
LOCATION:Online\, United States
CATEGORIES:Support Group
END:VEVENT
END:VCALENDAR