BEGIN:VCALENDAR
VERSION:2.0
PRODID:-//Healthy Minds Philly® - ECPv6.15.18//NONSGML v1.0//EN
CALSCALE:GREGORIAN
METHOD:PUBLISH
X-WR-CALNAME:Healthy Minds Philly®
X-ORIGINAL-URL:https://healthymindsphilly.org/dev
X-WR-CALDESC:Events for Healthy Minds Philly®
REFRESH-INTERVAL;VALUE=DURATION:PT1H
X-Robots-Tag:noindex
X-PUBLISHED-TTL:PT1H
BEGIN:VTIMEZONE
TZID:America/New_York
BEGIN:DAYLIGHT
TZOFFSETFROM:-0500
TZOFFSETTO:-0400
TZNAME:EDT
DTSTART:20220313T070000
END:DAYLIGHT
BEGIN:STANDARD
TZOFFSETFROM:-0400
TZOFFSETTO:-0500
TZNAME:EST
DTSTART:20221106T060000
END:STANDARD
BEGIN:DAYLIGHT
TZOFFSETFROM:-0500
TZOFFSETTO:-0400
TZNAME:EDT
DTSTART:20230312T070000
END:DAYLIGHT
BEGIN:STANDARD
TZOFFSETFROM:-0400
TZOFFSETTO:-0500
TZNAME:EST
DTSTART:20231105T060000
END:STANDARD
BEGIN:DAYLIGHT
TZOFFSETFROM:-0500
TZOFFSETTO:-0400
TZNAME:EDT
DTSTART:20240310T070000
END:DAYLIGHT
BEGIN:STANDARD
TZOFFSETFROM:-0400
TZOFFSETTO:-0500
TZNAME:EST
DTSTART:20241103T060000
END:STANDARD
END:VTIMEZONE
BEGIN:VEVENT
DTSTART;TZID=America/New_York:20231007T100000
DTEND;TZID=America/New_York:20231007T140000
DTSTAMP:20260421T135543
CREATED:20230804T155411Z
LAST-MODIFIED:20230906T180832Z
UID:10002782-1696672800-1696687200@healthymindsphilly.org
SUMMARY:NAMI Walks Philly
DESCRIPTION:Join us to raise awareness for mental health and spread the word that treatment works and recovery is possible! Elwyn will be on site providing behavioral health screenings and giveaways. Get a check up from the neck up! \nWe’re on the road. Together. \nIt’s not how far we walk. It’s how far we have come. And now\, powered by your dedication to the cause\, it’s how far we will go. \nWhen NAMIWalks\, we knock down walls. We topple obstacles. We realize dreams. Our rallying call\, “Mental Health for All\,” is closer than ever before. \nNo one is alone — because everyone is encouraged. There is a spirit of inclusion at NAMIWalks that makes the event feel special. So many stories are shared and traditions started. Participants are united by the knowledge that they are making the difference by coming together for mental health. \nBehind the fundraising is the fun. NAMIWalks are more than just an event. They are festive gatherings filled with smiles\, celebrations and meaningful moments. Will you join us? You deserve it!
URL:https://healthymindsphilly.org/dev/event/nami-walks-philly/
LOCATION:Friends Hospital\, 4641 Roosevelt Blvd\, Philadelphia\, 19124\, United States
CATEGORIES:Community
ATTACH;FMTTYPE=image/jpeg:https://healthymindsphilly.org/dev/wp-content/uploads/2023/08/Flyer-2023-NAMIWalks-Philly-scaled.jpg
GEO:40.0266061;-75.0994722
X-APPLE-STRUCTURED-LOCATION;VALUE=URI;X-ADDRESS=Friends Hospital 4641 Roosevelt Blvd Philadelphia 19124 United States;X-APPLE-RADIUS=500;X-TITLE=4641 Roosevelt Blvd:geo:-75.0994722,40.0266061
END:VEVENT
BEGIN:VEVENT
DTSTART;TZID=America/New_York:20231007T100000
DTEND;TZID=America/New_York:20231007T140000
DTSTAMP:20260421T135543
CREATED:20230929T140149Z
LAST-MODIFIED:20231002T201427Z
UID:10003608-1696672800-1696687200@healthymindsphilly.org
SUMMARY:CORAFest
DESCRIPTION:A community event! Join us for Health and Wellness Activities\, Games\, Prizes\, Food Music. This year we are hosting our first Community Baby Shower! \nCora Services will be providing free Behavioral Health screenings.
URL:https://healthymindsphilly.org/dev/event/corafest/
LOCATION:CORA Services\, 8540 Verree Road\, Philadelphia\, PA\, 19111\, United States
CATEGORIES:Community
ATTACH;FMTTYPE=image/png:https://healthymindsphilly.org/dev/wp-content/uploads/2023/09/2023-CORAFest-Flyer-Side-1.png
ORGANIZER;CN="CORA Services":MAILTO:kcardone@coraservices.org
END:VEVENT
BEGIN:VEVENT
DTSTART;TZID=America/New_York:20231007T100000
DTEND;TZID=America/New_York:20231007T150000
DTSTAMP:20260421T135543
CREATED:20230729T145147Z
LAST-MODIFIED:20230921T193239Z
UID:10002760-1696672800-1696690800@healthymindsphilly.org
SUMMARY:Family Day
DESCRIPTION:Join Behavioral Wellness Center at Girard as we celebrate recovery and hope. We will have information on job readiness\, vocational training\, health screenings\, mental health information and screenings. Fun activities for families and children\, including face painting\, games and music\, Lunch will be provided! water ice\, candy\, pretzels coffee and donuts!
URL:https://healthymindsphilly.org/dev/event/family-day/
LOCATION:The Behavioral Wellness Center at Girard\, 801 W Girard Ave.\, Philadelphia\, 19122
CATEGORIES:Community,Family
ORGANIZER;CN="Behavioral Wellness Center":MAILTO:swilliams@bewellctr.org
END:VEVENT
BEGIN:VEVENT
DTSTART;TZID=America/New_York:20231007T110000
DTEND;TZID=America/New_York:20231007T170000
DTSTAMP:20260421T135543
CREATED:20231005T191147Z
LAST-MODIFIED:20231005T191147Z
UID:10003618-1696676400-1696698000@healthymindsphilly.org
SUMMARY:Kimchi Festival
DESCRIPTION:JJPI will provide behavioral health screenings and resources to community members.
URL:https://healthymindsphilly.org/dev/event/kimchi-festival-2/
LOCATION:Love Park – JFK Blvd.\, United States
CATEGORIES:Community,Screening
ORGANIZER;CN="Catherine Verdeur":MAILTO:cverdeur@jjpi.phmc.org
END:VEVENT
BEGIN:VEVENT
DTSTART;TZID=America/New_York:20231007T120000
DTEND;TZID=America/New_York:20231007T170000
DTSTAMP:20260421T135543
CREATED:20230713T122831Z
LAST-MODIFIED:20230713T122906Z
UID:10001243-1696680000-1696698000@healthymindsphilly.org
SUMMARY:Saturday Afternoon Respite
DESCRIPTION:Caring for a child with behavioral health needs can be demanding. Take a break. Respite care is short-term care for children ages 6-17. Children with a behavioral health diagnosis are eligible for short-term care.
URL:https://healthymindsphilly.org/dev/event/saturday-afternoon-respite/2023-10-07/
LOCATION:Shane Victorino Nicetown Boys & Girls Club\, 1721 West Hunting Park Ave\, Philadelphia\, PA\, 19140\, United States
CATEGORIES:Caregiving,Community,Family
ATTACH;FMTTYPE=image/jpeg:https://healthymindsphilly.org/dev/wp-content/uploads/2023/07/respite.jpg
ORGANIZER;CN="DBHIDS":MAILTO:gabriel.bryant@phila.gov
END:VEVENT
BEGIN:VEVENT
DTSTART;TZID=America/New_York:20231007T130000
DTEND;TZID=America/New_York:20231007T150000
DTSTAMP:20260421T135543
CREATED:20230921T133425Z
LAST-MODIFIED:20230926T132531Z
UID:10003595-1696683600-1696690800@healthymindsphilly.org
SUMMARY:Fall Family Festival
DESCRIPTION:Join us for a day of children’s health & wellness information\, information on early intervention strategies\, behavioral health screenings\, literacy activities\, arts & crafts\, and much\, much more! Children’s Crisis Treatment Center will be providing Behavioral Health screenings.
URL:https://healthymindsphilly.org/dev/event/fall-family-festival/
LOCATION:Penn Treaty Park\, 1199 Delaware Avenue\, Philadelphia\, 19125\, United States
CATEGORIES:Community,Entertainment,Family,Mental Health,Screening
ORGANIZER;CN="Belinda Patrone":MAILTO:belinda.patrone@cctckids.org
END:VEVENT
BEGIN:VEVENT
DTSTART;TZID=America/New_York:20231007T133000
DTEND;TZID=America/New_York:20231007T170000
DTSTAMP:20260421T135543
CREATED:20230921T134309Z
LAST-MODIFIED:20230921T135854Z
UID:10003594-1696685400-1696698000@healthymindsphilly.org
SUMMARY:Geoffrey Voice Suicidal Awareness & Prevention
DESCRIPTION:Join us for the free event to increase suicide awareness and prevention. An event for the whole family\, activities and resources. HCCS will be participating and will provide Behavioral Health screening\, and resources.
URL:https://healthymindsphilly.org/dev/event/geoffrey-voice/
LOCATION:Norris square park\, 2100 Howard Street\, Philadelphia\, PA\, 19122\, United States
CATEGORIES:Community,Screening
ORGANIZER;CN="Melissa Camacho":MAILTO:Elizabeth_ayala@hccsphila.org
END:VEVENT
END:VCALENDAR