BEGIN:VCALENDAR
VERSION:2.0
PRODID:-//Healthy Minds Philly® - ECPv6.15.18//NONSGML v1.0//EN
CALSCALE:GREGORIAN
METHOD:PUBLISH
X-ORIGINAL-URL:https://healthymindsphilly.org/dev
X-WR-CALDESC:Events for Healthy Minds Philly®
REFRESH-INTERVAL;VALUE=DURATION:PT1H
X-Robots-Tag:noindex
X-PUBLISHED-TTL:PT1H
BEGIN:VTIMEZONE
TZID:America/New_York
BEGIN:DAYLIGHT
TZOFFSETFROM:-0500
TZOFFSETTO:-0400
TZNAME:EDT
DTSTART:20220313T070000
END:DAYLIGHT
BEGIN:STANDARD
TZOFFSETFROM:-0400
TZOFFSETTO:-0500
TZNAME:EST
DTSTART:20221106T060000
END:STANDARD
BEGIN:DAYLIGHT
TZOFFSETFROM:-0500
TZOFFSETTO:-0400
TZNAME:EDT
DTSTART:20230312T070000
END:DAYLIGHT
BEGIN:STANDARD
TZOFFSETFROM:-0400
TZOFFSETTO:-0500
TZNAME:EST
DTSTART:20231105T060000
END:STANDARD
BEGIN:DAYLIGHT
TZOFFSETFROM:-0500
TZOFFSETTO:-0400
TZNAME:EDT
DTSTART:20240310T070000
END:DAYLIGHT
BEGIN:STANDARD
TZOFFSETFROM:-0400
TZOFFSETTO:-0500
TZNAME:EST
DTSTART:20241103T060000
END:STANDARD
END:VTIMEZONE
BEGIN:VEVENT
DTSTART;TZID=America/New_York:20231005T100000
DTEND;TZID=America/New_York:20231005T130000
DTSTAMP:20260421T135721
CREATED:20230913T172924Z
LAST-MODIFIED:20230914T131438Z
UID:10003580-1696500000-1696510800@healthymindsphilly.org
SUMMARY:Center City National Depression Screening Day Event
DESCRIPTION:Come by the lobby of the Land Title Building to learn more about Depression\, how it may impact you and your loved ones\, and take a free assessment provided by Shannon Ruane Counseling.
URL:https://healthymindsphilly.org/dev/event/center-city-national-depression-screening-day-event/
LOCATION:Land Title Building Lobby\, 100 South Broad Street\, Philadelphia\, 19110\, United States
CATEGORIES:Mental Health,Screening
ORGANIZER;CN="Shannon Ruane":MAILTO:shannon@ruanecounseling.com
END:VEVENT
BEGIN:VEVENT
DTSTART;TZID=America/New_York:20231005T110000
DTEND;TZID=America/New_York:20231005T140000
DTSTAMP:20260421T135721
CREATED:20230907T173004Z
LAST-MODIFIED:20230912T152916Z
UID:10002829-1696503600-1696514400@healthymindsphilly.org
SUMMARY:University City Screening
DESCRIPTION:Get a checkup from the neck up! Join Elwyn in support of National Depression Screening Day! Clinicians will be on site providing behavioral health screenings. Resources and giveaways will be available.
URL:https://healthymindsphilly.org/dev/event/celebrate-national-depression-screening-day-with-elwyn/
LOCATION:Philadelphia Free Library Walnut St West\, 201 S 40th St\, Philadelphia\, 19104\, United States
CATEGORIES:Community,Screening
ORGANIZER;CN="Elwyn":MAILTO:krystal.gamez@elwyn.org
END:VEVENT
BEGIN:VEVENT
DTSTART;TZID=America/New_York:20231005T120000
DTEND;TZID=America/New_York:20231005T150000
DTSTAMP:20260421T135721
CREATED:20230912T010807Z
LAST-MODIFIED:20230912T010807Z
UID:10003572-1696507200-1696518000@healthymindsphilly.org
SUMMARY:West Philly Screenings
DESCRIPTION:Community event with Intercultural Family Services Inc providing depression screenings\, resources\, and giveaways.
URL:https://healthymindsphilly.org/dev/event/west-philly-screenings/
LOCATION:National Depression Screening Day\, 4225 Chestnut St.\, Philadelphia\, PA\, 19104\, United States
CATEGORIES:Community,Screening
ATTACH;FMTTYPE=image/jpeg:https://healthymindsphilly.org/dev/wp-content/uploads/2023/09/1-Depression-Screening-Flyer-Oct.-5th-page-0-scaled.jpg
ORGANIZER;CN="Intercultural Family Services Inc. (Angela Parsley)":MAILTO:angela.parsley@ifsinc.org
END:VEVENT
BEGIN:VEVENT
DTSTART;TZID=America/New_York:20231005T120000
DTEND;TZID=America/New_York:20231005T150000
DTSTAMP:20260421T135721
CREATED:20230912T010940Z
LAST-MODIFIED:20230912T152932Z
UID:10003574-1696507200-1696518000@healthymindsphilly.org
SUMMARY:South Philly Screenings
DESCRIPTION:Community event with Intercultural Family Services Inc providing depression screenings\, resources\, and giveaways.
URL:https://healthymindsphilly.org/dev/event/west-passyunk-screenings/
LOCATION:Intercultural Family Services Inc. (South location)\, 2317 S. 23rd Street Philadelphia\, PA 19145\, Philadelphia\, PA\, 19145\, United States
CATEGORIES:Community,Screening
ATTACH;FMTTYPE=image/jpeg:https://healthymindsphilly.org/dev/wp-content/uploads/2023/09/1-Depression-Screening-Flyer-Oct.-5th-page-0-scaled.jpg
ORGANIZER;CN="Intercultural Family Services Inc. (Angela Parsley)":MAILTO:angela.parsley@ifsinc.org
END:VEVENT
BEGIN:VEVENT
DTSTART;TZID=America/New_York:20231005T130000
DTEND;TZID=America/New_York:20231005T160000
DTSTAMP:20260421T135721
CREATED:20230926T133229Z
LAST-MODIFIED:20230926T133333Z
UID:10003603-1696510800-1696521600@healthymindsphilly.org
SUMMARY:Northeast Philly Wellness and Depression Screenings
DESCRIPTION:PATH (People Acting To Help)\, Inc. will be providing free Wellness and Depression screenings. The screening is part of National Depression Screening Day\, and are free\, anonymous\, and open to all members of the Philadelphia community.
URL:https://healthymindsphilly.org/dev/event/wellness-and-depression-screenings/
LOCATION:PATH\, 1919 Cottman Ave\, PA\, United States
CATEGORIES:Screening
ORGANIZER;CN="PATH":MAILTO:fsrolis@pathcenter.org
END:VEVENT
BEGIN:VEVENT
DTSTART;TZID=America/New_York:20231005T140000
DTEND;TZID=America/New_York:20231005T170000
DTSTAMP:20260421T135721
CREATED:20230913T182052Z
LAST-MODIFIED:20230926T132415Z
UID:10003577-1696514400-1696525200@healthymindsphilly.org
SUMMARY:Mt Airy National Depression Screening Day Event
DESCRIPTION:Free mental health screenings and resources for the community. Learn how to access care and supports in Philly. \nGemma Services will provide behavioral health screenings.
URL:https://healthymindsphilly.org/dev/event/mt-airy-national-depression-screening-day-event/
LOCATION:United Lutheran Seminary campus\, 7301 Germantown Ave\, Philadelphia\, PA\, 19119\, United States
CATEGORIES:Mental Health,Screening
ATTACH;FMTTYPE=image/jpeg:https://healthymindsphilly.org/dev/wp-content/uploads/2023/09/gemma.jpg
ORGANIZER;CN="Gemma Services":MAILTO:eeby@gemmaservices.org
END:VEVENT
END:VCALENDAR