BEGIN:VCALENDAR
VERSION:2.0
PRODID:-//Healthy Minds Philly® - ECPv6.15.18//NONSGML v1.0//EN
CALSCALE:GREGORIAN
METHOD:PUBLISH
X-ORIGINAL-URL:https://healthymindsphilly.org/dev
X-WR-CALDESC:Events for Healthy Minds Philly®
REFRESH-INTERVAL;VALUE=DURATION:PT1H
X-Robots-Tag:noindex
X-PUBLISHED-TTL:PT1H
BEGIN:VTIMEZONE
TZID:America/New_York
BEGIN:DAYLIGHT
TZOFFSETFROM:-0500
TZOFFSETTO:-0400
TZNAME:EDT
DTSTART:20220313T070000
END:DAYLIGHT
BEGIN:STANDARD
TZOFFSETFROM:-0400
TZOFFSETTO:-0500
TZNAME:EST
DTSTART:20221106T060000
END:STANDARD
BEGIN:DAYLIGHT
TZOFFSETFROM:-0500
TZOFFSETTO:-0400
TZNAME:EDT
DTSTART:20230312T070000
END:DAYLIGHT
BEGIN:STANDARD
TZOFFSETFROM:-0400
TZOFFSETTO:-0500
TZNAME:EST
DTSTART:20231105T060000
END:STANDARD
BEGIN:DAYLIGHT
TZOFFSETFROM:-0500
TZOFFSETTO:-0400
TZNAME:EDT
DTSTART:20240310T070000
END:DAYLIGHT
BEGIN:STANDARD
TZOFFSETFROM:-0400
TZOFFSETTO:-0500
TZNAME:EST
DTSTART:20241103T060000
END:STANDARD
END:VTIMEZONE
BEGIN:VEVENT
DTSTART;TZID=America/New_York:20230930T100000
DTEND;TZID=America/New_York:20230930T150000
DTSTAMP:20260421T154357
CREATED:20230926T132244Z
LAST-MODIFIED:20230926T132244Z
UID:10003601-1696068000-1696086000@healthymindsphilly.org
SUMMARY:Deliverence Intergenerational Community Day
DESCRIPTION:Celebration of Disability Awareness Month. Focus on families\, caretakers\, and professionals who work with IDD/Autism. The goal is to help create a plan and vision for their lives. There will be workshops\, presentations and resource information. Geo-Re-Entry will provide behavioral health screenings.
URL:https://healthymindsphilly.org/dev/event/deliverence-intergenerational-community-day/
LOCATION:Deliverance Church\, 2001 W. Lehigh Ave.\, Philadelphia\, PA\, 19132\, United States
CATEGORIES:Autism,Screening
END:VEVENT
BEGIN:VEVENT
DTSTART;TZID=America/New_York:20230930T110000
DTEND;TZID=America/New_York:20230930T150000
DTSTAMP:20260421T154357
CREATED:20230921T150029Z
LAST-MODIFIED:20230921T150029Z
UID:10003596-1696071600-1696086000@healthymindsphilly.org
SUMMARY:Unity in the Community
DESCRIPTION:Join JJPI\, Philadelphia Department of Behavioral Health (DBH) and Greater Exodus Church for Unity in the Community Event. JJPI and DBH will provide mental health screenings and resources!
URL:https://healthymindsphilly.org/dev/event/unity-in-the-community-3/
LOCATION:Greater Exodus Church\, 704 N. Broad Street\, Philadelphia\, PA\, 19130\, United States
CATEGORIES:Community,Screening
ORGANIZER;CN="Catherine Verdeur":MAILTO:cverdeur@jjpi.phmc.org
END:VEVENT
BEGIN:VEVENT
DTSTART;TZID=America/New_York:20230930T110000
DTEND;TZID=America/New_York:20230930T150000
DTSTAMP:20260421T154357
CREATED:20230921T195347Z
LAST-MODIFIED:20230921T195347Z
UID:10003599-1696071600-1696086000@healthymindsphilly.org
SUMMARY:11th Brothas Stroll
DESCRIPTION:Join the Mayor’s Office of Black Male Engaement for the 11th Brothas Stroll in collaboration with the Mayor’s Commission of African American Males\, Mayor’s Office of Youth Engagement\, the Department of Public Health\, and DBHIDS’s Engaging Men of Color. \nThe Brothas Stroll is a neighborhood-based walk for Black men and boys to connect with each other\, family\, friends\, neighbors\, and raise awareness about Black men’s health. This month the Brothas Stroll Health Walk will take place at the Pennypack Park Trail to bring Black males\, their families\, and community together. \n 
URL:https://healthymindsphilly.org/dev/event/11th-brothas-stroll/
LOCATION:Penny Pack Park Trail\, 8500 Pine Rd\, Philadelphia\, PA\, 19111\, United States
CATEGORIES:Community
ATTACH;FMTTYPE=image/png:https://healthymindsphilly.org/dev/wp-content/uploads/2023/09/Screenshot-2023-09-21-3.45.45-PM.png
ORGANIZER;CN="Mayor's Office of Black Male Engagement":MAILTO:obme@phila.gov
END:VEVENT
BEGIN:VEVENT
DTSTART;TZID=America/New_York:20230930T120000
DTEND;TZID=America/New_York:20230930T150000
DTSTAMP:20260421T154357
CREATED:20230926T145421Z
LAST-MODIFIED:20230926T163257Z
UID:10003605-1696075200-1696086000@healthymindsphilly.org
SUMMARY:Grown Folks Fall Festival
DESCRIPTION:Rep. Christopher Rabb is hosting his 6th annual Grown Folks Fall Festival this year on Saturday\, September 30th from 12pm-3pm at Woodcrest United Church of Christ on the 8100 Block of Thouron Ave.\, Philadelphia PA. Each year\, this event is a chance to provide important information and resources\, as well as a day of fun\, for all attendees. \nGemma Services will participate providing Behavioral Health Screenings.
URL:https://healthymindsphilly.org/dev/event/grown-folks-fall-festival/
LOCATION:Woodcrest United Church of Christ\, 8107 Thouron Ave\, Philadelphia\, 19150\, United States
CATEGORIES:Community
ATTACH;FMTTYPE=image/jpeg:https://healthymindsphilly.org/dev/wp-content/uploads/2023/09/grown-folks-flyer.jpg
END:VEVENT
END:VCALENDAR