BEGIN:VCALENDAR
VERSION:2.0
PRODID:-//Healthy Minds Philly® - ECPv6.15.18//NONSGML v1.0//EN
CALSCALE:GREGORIAN
METHOD:PUBLISH
X-WR-CALNAME:Healthy Minds Philly®
X-ORIGINAL-URL:https://healthymindsphilly.org/dev
X-WR-CALDESC:Events for Healthy Minds Philly®
REFRESH-INTERVAL;VALUE=DURATION:PT1H
X-Robots-Tag:noindex
X-PUBLISHED-TTL:PT1H
BEGIN:VTIMEZONE
TZID:America/New_York
BEGIN:DAYLIGHT
TZOFFSETFROM:-0500
TZOFFSETTO:-0400
TZNAME:EDT
DTSTART:20220313T070000
END:DAYLIGHT
BEGIN:STANDARD
TZOFFSETFROM:-0400
TZOFFSETTO:-0500
TZNAME:EST
DTSTART:20221106T060000
END:STANDARD
BEGIN:DAYLIGHT
TZOFFSETFROM:-0500
TZOFFSETTO:-0400
TZNAME:EDT
DTSTART:20230312T070000
END:DAYLIGHT
BEGIN:STANDARD
TZOFFSETFROM:-0400
TZOFFSETTO:-0500
TZNAME:EST
DTSTART:20231105T060000
END:STANDARD
BEGIN:DAYLIGHT
TZOFFSETFROM:-0500
TZOFFSETTO:-0400
TZNAME:EDT
DTSTART:20240310T070000
END:DAYLIGHT
BEGIN:STANDARD
TZOFFSETFROM:-0400
TZOFFSETTO:-0500
TZNAME:EST
DTSTART:20241103T060000
END:STANDARD
END:VTIMEZONE
BEGIN:VEVENT
DTSTART;TZID=America/New_York:20230928T090000
DTEND;TZID=America/New_York:20230928T160000
DTSTAMP:20260421T154221
CREATED:20230912T175907Z
LAST-MODIFIED:20230912T175907Z
UID:10002835-1695891600-1695916800@healthymindsphilly.org
SUMMARY:DBHIDS Sponsored WRAP II:  Facilitator's Training
DESCRIPTION:WRAP 2 Facilitator is a 30 hour training building on the foundations of Wellness Recovery Action Plan. It will teach participants to facilitate WRAP groups and work with others to develop their own WRAP.
URL:https://healthymindsphilly.org/dev/event/dbhids-sponsored-wrap-ii-facilitators-training/2023-09-28/
LOCATION:WRAP II: Facilitator’s Training\, 833 Chestnut Street\, Philadelphia\, PA\, 19107\, United States
CATEGORIES:Community,Event Registration,Mental Health,Training
ATTACH;FMTTYPE=image/jpeg:https://healthymindsphilly.org/dev/wp-content/uploads/2023/09/CPS-Training.jpg
ORGANIZER;CN="Mental Health Partnerships/Institute@MHP":MAILTO:danielmiller@mhphope.org
END:VEVENT
BEGIN:VEVENT
DTSTART;TZID=America/New_York:20230928T123000
DTEND;TZID=America/New_York:20230928T163000
DTSTAMP:20260421T154221
CREATED:20230906T204758Z
LAST-MODIFIED:20230906T204758Z
UID:10002825-1695904200-1695918600@healthymindsphilly.org
SUMMARY:Promoting Community Wellbeing
DESCRIPTION:Greater Philadelphia Health Action\, Inc. (GPHA) is partnering with Keystone to address physical\, social and mental wellbeing in our community. GPHA will be providing behavioral health screenings.
URL:https://healthymindsphilly.org/dev/event/promoting-community-wellbeing/
LOCATION:Kensington High School\, 2051 E. Cumberland Street\, Philadelphia\, 19125\, United States
CATEGORIES:Screening
END:VEVENT
BEGIN:VEVENT
DTSTART;TZID=America/New_York:20230928T163000
DTEND;TZID=America/New_York:20230928T180000
DTSTAMP:20260421T154221
CREATED:20230920T022639Z
LAST-MODIFIED:20230921T193314Z
UID:10003591-1695918600-1695924000@healthymindsphilly.org
SUMMARY:Benjamin Franklin Back to School Night
DESCRIPTION:Mental Health Screenings provided by Bethanna. This event is not open to the public.
URL:https://healthymindsphilly.org/dev/event/benjamin-franklin-back-to-school-night/
LOCATION:Benjamin Franklin High School\, 550 N Broad Street\, Philadelphia\, PA\, 19130\, United States
CATEGORIES:Community,Screening
ATTACH;FMTTYPE=image/jpeg:https://healthymindsphilly.org/dev/wp-content/uploads/2023/09/2023-Back-to-School-Night-Flyer-A-1.jpg
ORGANIZER;CN="Bethanna":MAILTO:kcarr@bethanna.org
END:VEVENT
END:VCALENDAR