BEGIN:VCALENDAR
VERSION:2.0
PRODID:-//Healthy Minds Philly® - ECPv6.15.18//NONSGML v1.0//EN
CALSCALE:GREGORIAN
METHOD:PUBLISH
X-WR-CALNAME:Healthy Minds Philly®
X-ORIGINAL-URL:https://healthymindsphilly.org/dev
X-WR-CALDESC:Events for Healthy Minds Philly®
REFRESH-INTERVAL;VALUE=DURATION:PT1H
X-Robots-Tag:noindex
X-PUBLISHED-TTL:PT1H
BEGIN:VTIMEZONE
TZID:America/New_York
BEGIN:DAYLIGHT
TZOFFSETFROM:-0500
TZOFFSETTO:-0400
TZNAME:EDT
DTSTART:20220313T070000
END:DAYLIGHT
BEGIN:STANDARD
TZOFFSETFROM:-0400
TZOFFSETTO:-0500
TZNAME:EST
DTSTART:20221106T060000
END:STANDARD
BEGIN:DAYLIGHT
TZOFFSETFROM:-0500
TZOFFSETTO:-0400
TZNAME:EDT
DTSTART:20230312T070000
END:DAYLIGHT
BEGIN:STANDARD
TZOFFSETFROM:-0400
TZOFFSETTO:-0500
TZNAME:EST
DTSTART:20231105T060000
END:STANDARD
BEGIN:DAYLIGHT
TZOFFSETFROM:-0500
TZOFFSETTO:-0400
TZNAME:EDT
DTSTART:20240310T070000
END:DAYLIGHT
BEGIN:STANDARD
TZOFFSETFROM:-0400
TZOFFSETTO:-0500
TZNAME:EST
DTSTART:20241103T060000
END:STANDARD
END:VTIMEZONE
BEGIN:VEVENT
DTSTART;TZID=America/New_York:20230926T090000
DTEND;TZID=America/New_York:20230926T160000
DTSTAMP:20260421T154246
CREATED:20230912T175907Z
LAST-MODIFIED:20230912T175907Z
UID:10002833-1695718800-1695744000@healthymindsphilly.org
SUMMARY:DBHIDS Sponsored WRAP II:  Facilitator's Training
DESCRIPTION:WRAP 2 Facilitator is a 30 hour training building on the foundations of Wellness Recovery Action Plan. It will teach participants to facilitate WRAP groups and work with others to develop their own WRAP.
URL:https://healthymindsphilly.org/dev/event/dbhids-sponsored-wrap-ii-facilitators-training/2023-09-26/
LOCATION:WRAP II: Facilitator’s Training\, 833 Chestnut Street\, Philadelphia\, PA\, 19107\, United States
CATEGORIES:Community,Event Registration,Mental Health,Training
ATTACH;FMTTYPE=image/jpeg:https://healthymindsphilly.org/dev/wp-content/uploads/2023/09/CPS-Training.jpg
ORGANIZER;CN="Mental Health Partnerships/Institute@MHP":MAILTO:danielmiller@mhphope.org
END:VEVENT
BEGIN:VEVENT
DTSTART;TZID=America/New_York:20230926T190000
DTEND;TZID=America/New_York:20230926T200000
DTSTAMP:20260421T154246
CREATED:20230713T123840Z
LAST-MODIFIED:20230713T123840Z
UID:10001304-1695754800-1695758400@healthymindsphilly.org
SUMMARY:Survivors of Suicide Loss Support Group [ Online / By Phone ] – Palumbo Rec
DESCRIPTION:The Survivors of Suicide Loss Support Group is a group to help loss survivors cope\, connect\, and work toward healing. Trained group facilitators are suicide loss survivors who know firsthand how difficult it can be to find your way after losing someone to suicide. The group is open to anyone 18 years or older who is grieving a loss due to suicide. \nThe group is free\, confidential\, and meets the second Wednesday of each month. For more information\, please contact philadelphiasptf@phila.gov \nCOVID19 Update: We want to prioritize your health and safety while still offering our support in your grief. In response to the social distancing guidance from the Center for Disease Control\, we will host support groups online and by phone. \nFourth Tuesday of each month\, 7pm (previously held at Palumbo Rec)\nJoin the Zoom Meeting\nMeeting ID: 850 7870 0472\nDial In: (646) 931-3860 and enter Meeting ID: 85078700472#
URL:https://healthymindsphilly.org/dev/event/survivors-of-suicide-loss-support-group-online-by-phone-palumbo-rec/2023-09-26/
LOCATION:Online\, United States
CATEGORIES:Support Group
END:VEVENT
END:VCALENDAR