BEGIN:VCALENDAR
VERSION:2.0
PRODID:-//Healthy Minds Philly® - ECPv6.15.18//NONSGML v1.0//EN
CALSCALE:GREGORIAN
METHOD:PUBLISH
X-ORIGINAL-URL:https://healthymindsphilly.org/dev
X-WR-CALDESC:Events for Healthy Minds Philly®
REFRESH-INTERVAL;VALUE=DURATION:PT1H
X-Robots-Tag:noindex
X-PUBLISHED-TTL:PT1H
BEGIN:VTIMEZONE
TZID:America/New_York
BEGIN:DAYLIGHT
TZOFFSETFROM:-0500
TZOFFSETTO:-0400
TZNAME:EDT
DTSTART:20220313T070000
END:DAYLIGHT
BEGIN:STANDARD
TZOFFSETFROM:-0400
TZOFFSETTO:-0500
TZNAME:EST
DTSTART:20221106T060000
END:STANDARD
BEGIN:DAYLIGHT
TZOFFSETFROM:-0500
TZOFFSETTO:-0400
TZNAME:EDT
DTSTART:20230312T070000
END:DAYLIGHT
BEGIN:STANDARD
TZOFFSETFROM:-0400
TZOFFSETTO:-0500
TZNAME:EST
DTSTART:20231105T060000
END:STANDARD
BEGIN:DAYLIGHT
TZOFFSETFROM:-0500
TZOFFSETTO:-0400
TZNAME:EDT
DTSTART:20240310T070000
END:DAYLIGHT
BEGIN:STANDARD
TZOFFSETFROM:-0400
TZOFFSETTO:-0500
TZNAME:EST
DTSTART:20241103T060000
END:STANDARD
END:VTIMEZONE
BEGIN:VEVENT
DTSTART;TZID=America/New_York:20230923T100000
DTEND;TZID=America/New_York:20230923T140000
DTSTAMP:20260421T154356
CREATED:20230721T154448Z
LAST-MODIFIED:20230912T174232Z
UID:10002744-1695463200-1695477600@healthymindsphilly.org
SUMMARY:Socks for the Streets Resource Fair
DESCRIPTION:Socks For The Streets and 8th Police District Advisory Council is Hosting a Resource Fair to help bring Resources and Awareness in the Northeast
URL:https://healthymindsphilly.org/dev/event/socks-for-the-streets-resource-fair/
LOCATION:St. Martha Parish School\, 11321 Academy Road\, Philadelphia\, 19154\, United States
CATEGORIES:Community
ATTACH;FMTTYPE=image/jpeg:https://healthymindsphilly.org/dev/wp-content/uploads/2023/09/communityfair923.jpg
ORGANIZER;CN="SockfortheStreets.org":MAILTO:Jen@socksforthestreets.org
END:VEVENT
BEGIN:VEVENT
DTSTART;TZID=America/New_York:20230923T120000
DTEND;TZID=America/New_York:20230923T150000
DTSTAMP:20260421T154356
CREATED:20230921T194626Z
LAST-MODIFIED:20230921T194626Z
UID:10003598-1695470400-1695481200@healthymindsphilly.org
SUMMARY:Civic Saturday
DESCRIPTION:City Hall Courtyard\, 1 S Penn Sq\, Philadelphia\, PA 19107 \nA strong democracy depends on strong citizens and a strong civic culture to thrive. We are at a crossroads in a time when our democracy\, women’s rights\, LGBTQ rights\, voting rights\, civil rights and human rights are under siege. \nJoin the Philadelphia Commission for Women\, the City Commissioner’s Office\, the Mayor’s Office of Youth Engagement\, the Philadelphia Chapter of the National Organization for Women\, the League of Women Voters and the Mayor’s Internship Program for Civic Saturday Philadelphia when we celebrate civic engagement on Saturday\, September 30\, 2023 at City Hall Courtyard from 12:00 p.m. to 3:00 p.m. \nIf you plan to go: \nHydrate or BYO–water will be provided\nWear comfortable clothes\nUse sunscreen
URL:https://healthymindsphilly.org/dev/event/civic-saturday/
LOCATION:City Hall Courtyard\, 1400 JFK Blvd\, Philadelphia\, 19107\, United States
CATEGORIES:Community
END:VEVENT
END:VCALENDAR