BEGIN:VCALENDAR
VERSION:2.0
PRODID:-//Healthy Minds Philly® - ECPv6.15.18//NONSGML v1.0//EN
CALSCALE:GREGORIAN
METHOD:PUBLISH
X-ORIGINAL-URL:https://healthymindsphilly.org/dev
X-WR-CALDESC:Events for Healthy Minds Philly®
REFRESH-INTERVAL;VALUE=DURATION:PT1H
X-Robots-Tag:noindex
X-PUBLISHED-TTL:PT1H
BEGIN:VTIMEZONE
TZID:America/New_York
BEGIN:DAYLIGHT
TZOFFSETFROM:-0500
TZOFFSETTO:-0400
TZNAME:EDT
DTSTART:20220313T070000
END:DAYLIGHT
BEGIN:STANDARD
TZOFFSETFROM:-0400
TZOFFSETTO:-0500
TZNAME:EST
DTSTART:20221106T060000
END:STANDARD
BEGIN:DAYLIGHT
TZOFFSETFROM:-0500
TZOFFSETTO:-0400
TZNAME:EDT
DTSTART:20230312T070000
END:DAYLIGHT
BEGIN:STANDARD
TZOFFSETFROM:-0400
TZOFFSETTO:-0500
TZNAME:EST
DTSTART:20231105T060000
END:STANDARD
BEGIN:DAYLIGHT
TZOFFSETFROM:-0500
TZOFFSETTO:-0400
TZNAME:EDT
DTSTART:20240310T070000
END:DAYLIGHT
BEGIN:STANDARD
TZOFFSETFROM:-0400
TZOFFSETTO:-0500
TZNAME:EST
DTSTART:20241103T060000
END:STANDARD
END:VTIMEZONE
BEGIN:VEVENT
DTSTART;TZID=America/New_York:20230922T100000
DTEND;TZID=America/New_York:20230922T140000
DTSTAMP:20260421T154359
CREATED:20230814T011557Z
LAST-MODIFIED:20230912T161014Z
UID:10002789-1695376800-1695391200@healthymindsphilly.org
SUMMARY:Healthy Minds and Bodies Event (in sign language)
DESCRIPTION:Join PAHrtners Deaf Services as we provide the following in English and America Sign Language. \nBehavior Health Screenings\nNutrition and Exercise Info\nBlood Pressure Testing\nSelf-Care Tips \n 
URL:https://healthymindsphilly.org/dev/event/healthy-minds-and-bodies-event-in-sign-language/
LOCATION:PAHrtners Deaf Services\, 614 N. Easton Road\, Glenside\, PA\, 19038\, United States
CATEGORIES:Mental Health,Screening
ORGANIZER;CN="Elena":MAILTO:elena.moore@rhanet.org
END:VEVENT
END:VCALENDAR