BEGIN:VCALENDAR
VERSION:2.0
PRODID:-//Healthy Minds Philly® - ECPv6.15.18//NONSGML v1.0//EN
CALSCALE:GREGORIAN
METHOD:PUBLISH
X-ORIGINAL-URL:https://healthymindsphilly.org/dev
X-WR-CALDESC:Events for Healthy Minds Philly®
REFRESH-INTERVAL;VALUE=DURATION:PT1H
X-Robots-Tag:noindex
X-PUBLISHED-TTL:PT1H
BEGIN:VTIMEZONE
TZID:America/New_York
BEGIN:DAYLIGHT
TZOFFSETFROM:-0500
TZOFFSETTO:-0400
TZNAME:EDT
DTSTART:20220313T070000
END:DAYLIGHT
BEGIN:STANDARD
TZOFFSETFROM:-0400
TZOFFSETTO:-0500
TZNAME:EST
DTSTART:20221106T060000
END:STANDARD
BEGIN:DAYLIGHT
TZOFFSETFROM:-0500
TZOFFSETTO:-0400
TZNAME:EDT
DTSTART:20230312T070000
END:DAYLIGHT
BEGIN:STANDARD
TZOFFSETFROM:-0400
TZOFFSETTO:-0500
TZNAME:EST
DTSTART:20231105T060000
END:STANDARD
BEGIN:DAYLIGHT
TZOFFSETFROM:-0500
TZOFFSETTO:-0400
TZNAME:EDT
DTSTART:20240310T070000
END:DAYLIGHT
BEGIN:STANDARD
TZOFFSETFROM:-0400
TZOFFSETTO:-0500
TZNAME:EST
DTSTART:20241103T060000
END:STANDARD
END:VTIMEZONE
BEGIN:VEVENT
DTSTART;TZID=America/New_York:20230921T093000
DTEND;TZID=America/New_York:20230921T123000
DTSTAMP:20260421T154548
CREATED:20230816T201736Z
LAST-MODIFIED:20230816T201736Z
UID:10002799-1695288600-1695299400@healthymindsphilly.org
SUMMARY:Ur Storytellers Story Telling Training
DESCRIPTION:Storytelling is a training facilitated by UrStorytellers and in collaboration with the City of Department of Behavioral Health and Intellectual DisAbility Services (DBHIDS). This training is one of many training’s that is an approved a required prerequisite for applicants who want to pursue goals of becoming a Certified Peer Specialist. Our goal is to inform the recovery and faith-based communities on how to share their stories in addition to the importance of sharing them in community settings. This training will be 4hrs. at length\, delivered in a power point format\, and interactive activities enhance this training. At the conclusion of the training\, all participants will receive a certificate of completion.
URL:https://healthymindsphilly.org/dev/event/ur-storytellers-story-telling-training-2/
LOCATION:Pentecostal Faith Assembly Church\, 5347-53 Pulaski Ave\, Philadelphia\, PA\, 19144\, United States
CATEGORIES:Storytelling
ATTACH;FMTTYPE=image/jpeg:https://healthymindsphilly.org/dev/wp-content/uploads/2023/08/UrStory-logo-1.jpg
ORGANIZER;CN="Ur Storytellers Foundation Inc":MAILTO:urstorytellers.info@gmail.com
END:VEVENT
BEGIN:VEVENT
DTSTART;TZID=America/New_York:20230921T100000
DTEND;TZID=America/New_York:20230921T130000
DTSTAMP:20260421T154548
CREATED:20230824T182754Z
LAST-MODIFIED:20230824T182754Z
UID:10002809-1695290400-1695301200@healthymindsphilly.org
SUMMARY:Rep Tarik Khan’s Heath & Wellness Expo
DESCRIPTION:Northern Children’s Service will be providing Behavioral Health Screenings.
URL:https://healthymindsphilly.org/dev/event/rep-tarik-khans-heath-wellness-expo/
LOCATION:Roxborough Memorial Hospital\, 5800 Ridge Ave.\, Phila\, 19128\, United States
CATEGORIES:Community,Screening
ORGANIZER;CN="Rep Tarik Khan":MAILTO:Dgeorge@northernchildren.org
END:VEVENT
BEGIN:VEVENT
DTSTART;TZID=America/New_York:20230921T190000
DTEND;TZID=America/New_York:20230921T200000
DTSTAMP:20260421T154548
CREATED:20230713T123505Z
LAST-MODIFIED:20230713T123505Z
UID:10001292-1695322800-1695326400@healthymindsphilly.org
SUMMARY:Survivors of Suicide Loss Support Group [ Online / By Phone ] – DBHIDS
DESCRIPTION:The Survivors of Suicide Loss Support Group is a group to help loss survivors cope\, connect\, and work toward healing. Trained group facilitators are suicide loss survivors who know firsthand how difficult it can be to find your way after losing someone to suicide. The group is open to anyone 18 years or older who is grieving a loss due to suicide. \nThe group is free\, confidential\, and meets the second Wednesday of each month. For more information\, please contact philadelphiasptf@phila.gov \nCOVID19 Update: We want to prioritize your health and safety while still offering our support in your grief. In response to the social distancing guidance from the Center for Disease Control\, we will host support groups online and by phone. \nThird Thursday of each month\, 7pm (previously held at DBHIDS)\nJoin the Zoom Meeting\nMeeting ID: 838 0849 1956\nPassword: 512192\nDial In: (646) 931-3860 and enter Meeting ID: 83808491956#
URL:https://healthymindsphilly.org/dev/event/survivors-of-suicide-loss-support-group-online-by-phone-dbhids/2023-09-21/
LOCATION:Online\, United States
CATEGORIES:Support Group
END:VEVENT
END:VCALENDAR