BEGIN:VCALENDAR
VERSION:2.0
PRODID:-//Healthy Minds Philly® - ECPv6.15.18//NONSGML v1.0//EN
CALSCALE:GREGORIAN
METHOD:PUBLISH
X-WR-CALNAME:Healthy Minds Philly®
X-ORIGINAL-URL:https://healthymindsphilly.org/dev
X-WR-CALDESC:Events for Healthy Minds Philly®
REFRESH-INTERVAL;VALUE=DURATION:PT1H
X-Robots-Tag:noindex
X-PUBLISHED-TTL:PT1H
BEGIN:VTIMEZONE
TZID:America/New_York
BEGIN:DAYLIGHT
TZOFFSETFROM:-0500
TZOFFSETTO:-0400
TZNAME:EDT
DTSTART:20220313T070000
END:DAYLIGHT
BEGIN:STANDARD
TZOFFSETFROM:-0400
TZOFFSETTO:-0500
TZNAME:EST
DTSTART:20221106T060000
END:STANDARD
BEGIN:DAYLIGHT
TZOFFSETFROM:-0500
TZOFFSETTO:-0400
TZNAME:EDT
DTSTART:20230312T070000
END:DAYLIGHT
BEGIN:STANDARD
TZOFFSETFROM:-0400
TZOFFSETTO:-0500
TZNAME:EST
DTSTART:20231105T060000
END:STANDARD
BEGIN:DAYLIGHT
TZOFFSETFROM:-0500
TZOFFSETTO:-0400
TZNAME:EDT
DTSTART:20240310T070000
END:DAYLIGHT
BEGIN:STANDARD
TZOFFSETFROM:-0400
TZOFFSETTO:-0500
TZNAME:EST
DTSTART:20241103T060000
END:STANDARD
END:VTIMEZONE
BEGIN:VEVENT
DTSTART;TZID=America/New_York:20230916T090000
DTEND;TZID=America/New_York:20230916T160000
DTSTAMP:20260421T154220
CREATED:20230724T021951Z
LAST-MODIFIED:20230724T135004Z
UID:10002748-1694854800-1694880000@healthymindsphilly.org
SUMMARY:ST PEREGRINE DAY
DESCRIPTION:THIS IS THE SECOND ANNUAL FREE EVENT TO SUPPORT CANCER PATIENTS THEIR CARE GIVERS/ FAMILY AND THOSE WHO LOST SOMEONE TO CANCER.
URL:https://healthymindsphilly.org/dev/event/st-peregrine-day/
LOCATION:Resurrection of Our Lord Church\, 2000 shelmire ave\, Philadelphia\, 19152\, United States
CATEGORIES:Community
ATTACH;FMTTYPE=image/jpeg:https://healthymindsphilly.org/dev/wp-content/uploads/2023/07/stperegrine.jpg
ORGANIZER;CN="Resurrection of Our Lord Church (Catholic)":MAILTO:JENNIECFRANKLIN@GMAIL.COM
END:VEVENT
BEGIN:VEVENT
DTSTART;TZID=America/New_York:20230916T100000
DTEND;TZID=America/New_York:20230916T130000
DTSTAMP:20260421T154220
CREATED:20230911T145710Z
LAST-MODIFIED:20230911T145710Z
UID:10003571-1694858400-1694869200@healthymindsphilly.org
SUMMARY:The Welcome Table Block Party
DESCRIPTION:Annual block party for the neighborhood to introduce learn more about the Welcome Table’s Adult Education Community Action.
URL:https://healthymindsphilly.org/dev/event/the-welcome-table-block-party/
LOCATION:St. James School\, 3217 W Clearfield St\, Philadelphia\, PA\, 19132\, United States
CATEGORIES:Community
END:VEVENT
BEGIN:VEVENT
DTSTART;TZID=America/New_York:20230916T100000
DTEND;TZID=America/New_York:20230916T170000
DTSTAMP:20260421T154220
CREATED:20230826T141228Z
LAST-MODIFIED:20230915T150936Z
UID:10002815-1694858400-1694883600@healthymindsphilly.org
SUMMARY:35th District and PDAC Unity Day
DESCRIPTION:Fun for the whole family! JJPI will provide mental health screenings. Einstein Behavioral Health and Philadelphia Fight will also be participating
URL:https://healthymindsphilly.org/dev/event/35th-district-and-pdac-unity-day/
LOCATION:Across from Einstein/Jefferson\, 5500 North Broad Street\, Philadelphia\, 19141\, United States
CATEGORIES:Screening
ATTACH;FMTTYPE=image/jpeg:https://healthymindsphilly.org/dev/wp-content/uploads/2023/08/unityday.jpg
ORGANIZER;CN="JJPI":MAILTO:cverdeur@jjpi.phmc.org
END:VEVENT
END:VCALENDAR