BEGIN:VCALENDAR
VERSION:2.0
PRODID:-//Healthy Minds Philly® - ECPv6.15.18//NONSGML v1.0//EN
CALSCALE:GREGORIAN
METHOD:PUBLISH
X-WR-CALNAME:Healthy Minds Philly®
X-ORIGINAL-URL:https://healthymindsphilly.org/dev
X-WR-CALDESC:Events for Healthy Minds Philly®
REFRESH-INTERVAL;VALUE=DURATION:PT1H
X-Robots-Tag:noindex
X-PUBLISHED-TTL:PT1H
BEGIN:VTIMEZONE
TZID:America/New_York
BEGIN:DAYLIGHT
TZOFFSETFROM:-0500
TZOFFSETTO:-0400
TZNAME:EDT
DTSTART:20220313T070000
END:DAYLIGHT
BEGIN:STANDARD
TZOFFSETFROM:-0400
TZOFFSETTO:-0500
TZNAME:EST
DTSTART:20221106T060000
END:STANDARD
BEGIN:DAYLIGHT
TZOFFSETFROM:-0500
TZOFFSETTO:-0400
TZNAME:EDT
DTSTART:20230312T070000
END:DAYLIGHT
BEGIN:STANDARD
TZOFFSETFROM:-0400
TZOFFSETTO:-0500
TZNAME:EST
DTSTART:20231105T060000
END:STANDARD
BEGIN:DAYLIGHT
TZOFFSETFROM:-0500
TZOFFSETTO:-0400
TZNAME:EDT
DTSTART:20240310T070000
END:DAYLIGHT
BEGIN:STANDARD
TZOFFSETFROM:-0400
TZOFFSETTO:-0500
TZNAME:EST
DTSTART:20241103T060000
END:STANDARD
END:VTIMEZONE
BEGIN:VEVENT
DTSTART;TZID=America/New_York:20230913T130000
DTEND;TZID=America/New_York:20230913T153000
DTSTAMP:20260421T154248
CREATED:20230911T183245Z
LAST-MODIFIED:20230911T183245Z
UID:10003573-1694610000-1694619000@healthymindsphilly.org
SUMMARY:Penn Medicine Total Recovery Open House
DESCRIPTION:Penn Medicine Presbyterian Hospital’s Total Recovery Intensive Outpatient and Outpatient Treatment Program hosting open house to showcase programs\, mental health screenings\, opioid reversal techniques and panel discussion
URL:https://healthymindsphilly.org/dev/event/penn-medicine-total-recovery-open-house/
LOCATION:Total Recovery outpatient Treatment Program\, 4040 Market Street\, 2nd Floor\, Suite 200 & 220\, Philadelphia\, PA\, 19104\, United States
CATEGORIES:Addiction,Community,Narcan Training,Pandemic,Screening
ATTACH;FMTTYPE=image/png:https://healthymindsphilly.org/dev/wp-content/uploads/2023/09/Total-Recovery.png
ORGANIZER;CN="Angela M. Burdick-McPhee":MAILTO:angela.burdick-mcphee@pennmedicine.upenn.edu
END:VEVENT
BEGIN:VEVENT
DTSTART;TZID=America/New_York:20230913T170000
DTEND;TZID=America/New_York:20230913T200000
DTSTAMP:20260421T154248
CREATED:20230705T173458Z
LAST-MODIFIED:20230814T012641Z
UID:10000035-1694624400-1694635200@healthymindsphilly.org
SUMMARY:Mount Airy Supper Sessions
DESCRIPTION:Allied Associates in Mental Health will be offering mental health screenings and literature during the Mount Airy CDC Supper Sessions on the blocks of 7100 to 7200 Germantown Avenue\, 19119. \nAllied Associates in Mental Health is based in Mount Airy and is dedicated to supporting and providing resources to our community.
URL:https://healthymindsphilly.org/dev/event/mount-airy-supper-sessions/
LOCATION:7100 to 7200 Germantown Avenue\, 19119\, 7100 to 7200 Germantown Avenue\, Philadelphia\, PA\, 19119
CATEGORIES:Community,Screening
ORGANIZER;CN="ALLIED ASSOCIATES IN MENTAL":MAILTO:carla.q@aamhinc.org
END:VEVENT
BEGIN:VEVENT
DTSTART;TZID=America/New_York:20230913T180000
DTEND;TZID=America/New_York:20230913T200000
DTSTAMP:20260421T154248
CREATED:20230828T145849Z
LAST-MODIFIED:20230828T145849Z
UID:10002811-1694628000-1694635200@healthymindsphilly.org
SUMMARY:A Different Kind of Love
DESCRIPTION:Inviting all spiritual leaders\, join us for a transformative event designed to equip faith leaders with the knowledge and understanding necessary to provide effective support to individuals living with autism spectrum disorder (ASD) and their families. This unique gathering aims to foster a more inclusive and compassionate environment within religious communities\, enabling them to become safe havens of acceptance\, understanding\, and support for individuals and families affected by ASD.
URL:https://healthymindsphilly.org/dev/event/a-different-kind-of-love/
LOCATION:Zoom meeting\, N/A\, N/A\, PA\, N/A\, United States
CATEGORIES:Autism,Caregiving,Community,Event Registration,Faith-Based,Family,Intellectual Disabilities,Older Adults,Peer Specialists,Racial Equality,Support Group,Training,Youth
ATTACH;FMTTYPE=image/jpeg:https://healthymindsphilly.org/dev/wp-content/uploads/2023/08/Educating-our-leaders-about-Autism-and-other-Interlecual-disabilities-for-an-inclusive-spiritual-3-1.jpg
ORGANIZER;CN="Jamiel Owens":MAILTO:owensjd@chop.edu
END:VEVENT
BEGIN:VEVENT
DTSTART;TZID=America/New_York:20230913T184000
DTEND;TZID=America/New_York:20230913T224000
DTSTAMP:20260421T154248
CREATED:20230830T164231Z
LAST-MODIFIED:20230830T164231Z
UID:10002820-1694630400-1694644800@healthymindsphilly.org
SUMMARY:Recovery Works! at the Phillies Game
DESCRIPTION:Join us to watch the Phillies play the Atlanta Braves.
URL:https://healthymindsphilly.org/dev/event/recovery-works-at-the-phillies-game/
LOCATION:Citizens Bank Park\, 1 Citizens Bank Way\, Philadelphia\, 19148\, United States
CATEGORIES:Addiction,Entertainment
END:VEVENT
BEGIN:VEVENT
DTSTART;TZID=America/New_York:20230913T190000
DTEND;TZID=America/New_York:20230913T200000
DTSTAMP:20260421T154248
CREATED:20230713T123146Z
LAST-MODIFIED:20230713T123146Z
UID:10001280-1694631600-1694635200@healthymindsphilly.org
SUMMARY:Survivors of Suicide Loss Support Group [ Online / By Phone ] – Methodist Hospital
DESCRIPTION:The Survivors of Suicide Loss Support Group seeks to help loss survivors cope\, connect\, and work toward healing. Trained group facilitators are suicide loss survivors who know firsthand how difficult it can be to find your way after losing someone to suicide. The group is open to anyone 18 years or older who is grieving a loss due to suicide. \nThe group is free and confidential. For more information\, please contact philadelphiasptf@phila.gov \nCOVID19 Update: We want to prioritize your health and safety while still offering our support in your grief. In response to the social distancing guidance from the Center for Disease Control\, we hosting support groups online and by phone. \nSecond Wednesday of each month\, 7pm (previously held at Methodist Hospital)\nJoin the Zoom Meeting\nMeeting ID: 873 0275 6074\nPassword: 475418\nDial In: (646) 931-3860 and enter Meeting ID: 87302756074#
URL:https://healthymindsphilly.org/dev/event/survivors-of-suicide-loss-support-group-online-by-phone-methodist-hospital/2023-09-13/
LOCATION:Online\, United States
CATEGORIES:Support Group
END:VEVENT
END:VCALENDAR