BEGIN:VCALENDAR
VERSION:2.0
PRODID:-//Healthy Minds Philly® - ECPv6.15.18//NONSGML v1.0//EN
CALSCALE:GREGORIAN
METHOD:PUBLISH
X-WR-CALNAME:Healthy Minds Philly®
X-ORIGINAL-URL:https://healthymindsphilly.org/dev
X-WR-CALDESC:Events for Healthy Minds Philly®
REFRESH-INTERVAL;VALUE=DURATION:PT1H
X-Robots-Tag:noindex
X-PUBLISHED-TTL:PT1H
BEGIN:VTIMEZONE
TZID:America/New_York
BEGIN:DAYLIGHT
TZOFFSETFROM:-0500
TZOFFSETTO:-0400
TZNAME:EDT
DTSTART:20220313T070000
END:DAYLIGHT
BEGIN:STANDARD
TZOFFSETFROM:-0400
TZOFFSETTO:-0500
TZNAME:EST
DTSTART:20221106T060000
END:STANDARD
BEGIN:DAYLIGHT
TZOFFSETFROM:-0500
TZOFFSETTO:-0400
TZNAME:EDT
DTSTART:20230312T070000
END:DAYLIGHT
BEGIN:STANDARD
TZOFFSETFROM:-0400
TZOFFSETTO:-0500
TZNAME:EST
DTSTART:20231105T060000
END:STANDARD
BEGIN:DAYLIGHT
TZOFFSETFROM:-0500
TZOFFSETTO:-0400
TZNAME:EDT
DTSTART:20240310T070000
END:DAYLIGHT
BEGIN:STANDARD
TZOFFSETFROM:-0400
TZOFFSETTO:-0500
TZNAME:EST
DTSTART:20241103T060000
END:STANDARD
END:VTIMEZONE
BEGIN:VEVENT
DTSTART;TZID=America/New_York:20230911T100000
DTEND;TZID=America/New_York:20230911T140000
DTSTAMP:20260421T154246
CREATED:20230814T011420Z
LAST-MODIFIED:20230814T011420Z
UID:10002790-1694426400-1694440800@healthymindsphilly.org
SUMMARY:Hair Cut and Mental Health Awareness Day
DESCRIPTION:Women’s Institute for Family Health is sponsoring a mental health awareness event in collaboration with Chosen 300 Ministries’ “Hair Cut Day”. The event will include information on depression and mental health screenings along with free hair cuts. September 11\, 2023\, 10:00 a.m. to 2:00 p.m. at 1116 Spring Garden St\, Philadelphia\, PA 19123
URL:https://healthymindsphilly.org/dev/event/hair-cut-and-mental-health-awareness-day/
LOCATION:Chosen 300 Ministries\, 1116 Spring Garden St\, Philadelphia\, 19123\, United States
CATEGORIES:Community,Mental Health,Screening
ORGANIZER;CN="Women's Institute for Family Health":MAILTO:wifh2@aol.com
END:VEVENT
END:VCALENDAR