BEGIN:VCALENDAR
VERSION:2.0
PRODID:-//Healthy Minds Philly® - ECPv6.15.18//NONSGML v1.0//EN
CALSCALE:GREGORIAN
METHOD:PUBLISH
X-WR-CALNAME:Healthy Minds Philly®
X-ORIGINAL-URL:https://healthymindsphilly.org/dev
X-WR-CALDESC:Events for Healthy Minds Philly®
REFRESH-INTERVAL;VALUE=DURATION:PT1H
X-Robots-Tag:noindex
X-PUBLISHED-TTL:PT1H
BEGIN:VTIMEZONE
TZID:America/New_York
BEGIN:DAYLIGHT
TZOFFSETFROM:-0500
TZOFFSETTO:-0400
TZNAME:EDT
DTSTART:20220313T070000
END:DAYLIGHT
BEGIN:STANDARD
TZOFFSETFROM:-0400
TZOFFSETTO:-0500
TZNAME:EST
DTSTART:20221106T060000
END:STANDARD
BEGIN:DAYLIGHT
TZOFFSETFROM:-0500
TZOFFSETTO:-0400
TZNAME:EDT
DTSTART:20230312T070000
END:DAYLIGHT
BEGIN:STANDARD
TZOFFSETFROM:-0400
TZOFFSETTO:-0500
TZNAME:EST
DTSTART:20231105T060000
END:STANDARD
BEGIN:DAYLIGHT
TZOFFSETFROM:-0500
TZOFFSETTO:-0400
TZNAME:EDT
DTSTART:20240310T070000
END:DAYLIGHT
BEGIN:STANDARD
TZOFFSETFROM:-0400
TZOFFSETTO:-0500
TZNAME:EST
DTSTART:20241103T060000
END:STANDARD
END:VTIMEZONE
BEGIN:VEVENT
DTSTART;TZID=America/New_York:20230826T080000
DTEND;TZID=America/New_York:20230826T170000
DTSTAMP:20260421T204059
CREATED:20230911T010417Z
LAST-MODIFIED:20230911T010417Z
UID:10002831-1693036800-1693069200@healthymindsphilly.org
SUMMARY:Back to school
DESCRIPTION:School supply give away in the dental office.
URL:https://healthymindsphilly.org/dev/event/back-to-school/
LOCATION:GPHA\, 4510 Frankford Av.\, Philadelphia\, 19131\, United States
CATEGORIES:Community
END:VEVENT
BEGIN:VEVENT
DTSTART;TZID=America/New_York:20230826T083000
DTEND;TZID=America/New_York:20230826T123000
DTSTAMP:20260421T204059
CREATED:20230825T174141Z
LAST-MODIFIED:20230825T174141Z
UID:10002812-1693038600-1693053000@healthymindsphilly.org
SUMMARY:Celebrate Back-To-School with UHC and Frankford
DESCRIPTION:Join us for a fantastic Back-to-School event in collaboration with United Health Community Plan (UHC) at GPHA Frankford Avenue Health Center! Fun activities for all ages\, school supplies for UHC members\, educational resources\, and more…! Greater Philadelphia Health Action\, Inc. (GPHA) will be providing behavioral health screenings.
URL:https://healthymindsphilly.org/dev/event/celebrate-back-to-school-with-uhc-and-frankford/
LOCATION:Greater Philadelphia Health Action\, Inc.\, 4500-10 Frankford Avenue\, Philadelphia\, PA\, 19124\, United States
CATEGORIES:Community,Family,Screening
ATTACH;FMTTYPE=image/jpeg:https://healthymindsphilly.org/dev/wp-content/uploads/2023/08/Back-To-School-Event-GPHA-Frankford-Avenue.jpg
GEO:39.9359407;-75.1951199
X-APPLE-STRUCTURED-LOCATION;VALUE=URI;X-ADDRESS=Greater Philadelphia Health Action Inc. 4500-10 Frankford Avenue Philadelphia PA 19124 United States;X-APPLE-RADIUS=500;X-TITLE=4500-10 Frankford Avenue:geo:-75.1951199,39.9359407
END:VEVENT
BEGIN:VEVENT
DTSTART;TZID=America/New_York:20230826T090000
DTEND;TZID=America/New_York:20230826T093000
DTSTAMP:20260421T204059
CREATED:20230713T122236Z
LAST-MODIFIED:20230713T122236Z
UID:10001241-1693040400-1693042200@healthymindsphilly.org
SUMMARY:Summer Sweat Series at King of Prussia Town Center
DESCRIPTION:Grab your yoga mat and meet CUTLOOSE STUDIO as they FLOURISH every Saturday on the green in front of Davio’s with a 30-minute bodyweight flow to kick off your weekend. Coach Emily and Coach Jordan will lead you through a series of movements designed for anybody with a body while focusing on breath work\, intention setting\, and dynamic movements. This class is sure to leave you feeling light\, uplifted\, and limber!
URL:https://healthymindsphilly.org/dev/event/summer-sweat-series-at-king-of-prussia-town-center/2023-08-26/
LOCATION:King of Prussia Town Center\, 155 Village Drive\, King of Prussia\, PA\, 19406\, United States
CATEGORIES:Community
ORGANIZER;CN="King of Prussia Town Center":MAILTO:emily@cashmanandassociates.com
END:VEVENT
BEGIN:VEVENT
DTSTART;TZID=America/New_York:20230826T100000
DTEND;TZID=America/New_York:20230826T140000
DTSTAMP:20260421T204059
CREATED:20230821T202124Z
LAST-MODIFIED:20230822T134820Z
UID:10002804-1693044000-1693058400@healthymindsphilly.org
SUMMARY:CBS Annual Back to School Event and Mental Health Screening
DESCRIPTION:Free backpacks and school essentials\, free food and drinks. Cognitive Behavioral Services is providing behavioral health screenings.
URL:https://healthymindsphilly.org/dev/event/cbs-annual-back-to-school-event-and-mental-health-screening/
LOCATION:Cognitive Behavioral Services\, 3253 N 6th St\, Philadelphia\, 19140\, United States
CATEGORIES:Community,Family,Mental Health,Screening
ATTACH;FMTTYPE=image/png:https://healthymindsphilly.org/dev/wp-content/uploads/2023/08/Back-to-school.png
ORGANIZER;CN="Cognitive Behavioral Services%2C INC":MAILTO:dsanchez@cognitivebehavioralservice.org
END:VEVENT
BEGIN:VEVENT
DTSTART;TZID=America/New_York:20230826T110000
DTEND;TZID=America/New_York:20230826T140000
DTSTAMP:20260421T204059
CREATED:20230817T025330Z
LAST-MODIFIED:20230823T194103Z
UID:10002800-1693047600-1693058400@healthymindsphilly.org
SUMMARY:Commnity  Mental Health Day
DESCRIPTION:FunTimes Magazine is teaming up with the offices of Pennsylvania State Rep. Joanna McClinton and Philadelphia City Councilwoman Jamie Gauthier to host a free family-health community event to raise awareness about mental health resources and services that are available through the new 988 national crisis hotline. FunTimes is committed to promoting wellness in communities of color where the growing mental-health crisis hits hardest. The focus is on high-risk underserved communities\, which are less likely to seek treatment when experiencing mental-health issues. The key message is that Hope has a number: 988. Meet State Rep. McClinton and Councilwoman Gauthier. Find out about helpful local government and neighborhood services including mental health information and giveaways at the event’s FunTimes community table. Also\, get free back-to-school supplies. Job seekers can bring resumes and connect with potential employers.
URL:https://healthymindsphilly.org/dev/event/commnity-mental-health-day/
LOCATION:Pa. State Rep. Joanna McClinton’s Office\, 149 S. 60th Street\, Philadelphia\, PA\, 19131\, United States
CATEGORIES:Community
ATTACH;FMTTYPE=image/jpeg:https://healthymindsphilly.org/dev/wp-content/uploads/2023/08/Back-to-School-Fair-B-2.jpg
ORGANIZER;CN="FunTimes Magazine":MAILTO:info@funtimesmagazine.com
END:VEVENT
BEGIN:VEVENT
DTSTART;TZID=America/New_York:20230826T130000
DTEND;TZID=America/New_York:20230826T170000
DTSTAMP:20260421T204059
CREATED:20230814T013138Z
LAST-MODIFIED:20230818T151159Z
UID:10002786-1693054800-1693069200@healthymindsphilly.org
SUMMARY:2nd Annual Community Day
DESCRIPTION:We are thrilled to announce a special occasion that will bring us all together – Trust Factor Org presents our 2nd Annual Community Day Event. \nMark your calendars for August 26th at Fernhill Park as we plan to gather all our esteemed resource vendors to celebrate the spirit of collaboration and partnership that has been the cornerstone of our community’s growth. This event promises to be an exciting opportunity to connect\, share insights\, and foster even stronger relationships. \nGPHA will participate\, providing free behavioral health screenings\, information and resources on behavioral health and well-being.
URL:https://healthymindsphilly.org/dev/event/2nd-annual-community-day-2/
LOCATION:Fernhill Park\, Roberts Ave & Wissahickon Ave\, Philadelphia\, 19144\, United States
CATEGORIES:Community
ATTACH;FMTTYPE=image/jpeg:https://healthymindsphilly.org/dev/wp-content/uploads/2023/08/8003B4EE-0E2A-4D7C-9DA8-16AF656827CB.jpeg
ORGANIZER;CN="Trust Factor Org":MAILTO:Info@trustfactororg.com
END:VEVENT
END:VCALENDAR