BEGIN:VCALENDAR
VERSION:2.0
PRODID:-//Healthy Minds Philly® - ECPv6.15.18//NONSGML v1.0//EN
CALSCALE:GREGORIAN
METHOD:PUBLISH
X-WR-CALNAME:Healthy Minds Philly®
X-ORIGINAL-URL:https://healthymindsphilly.org/dev
X-WR-CALDESC:Events for Healthy Minds Philly®
REFRESH-INTERVAL;VALUE=DURATION:PT1H
X-Robots-Tag:noindex
X-PUBLISHED-TTL:PT1H
BEGIN:VTIMEZONE
TZID:America/New_York
BEGIN:DAYLIGHT
TZOFFSETFROM:-0500
TZOFFSETTO:-0400
TZNAME:EDT
DTSTART:20220313T070000
END:DAYLIGHT
BEGIN:STANDARD
TZOFFSETFROM:-0400
TZOFFSETTO:-0500
TZNAME:EST
DTSTART:20221106T060000
END:STANDARD
BEGIN:DAYLIGHT
TZOFFSETFROM:-0500
TZOFFSETTO:-0400
TZNAME:EDT
DTSTART:20230312T070000
END:DAYLIGHT
BEGIN:STANDARD
TZOFFSETFROM:-0400
TZOFFSETTO:-0500
TZNAME:EST
DTSTART:20231105T060000
END:STANDARD
BEGIN:DAYLIGHT
TZOFFSETFROM:-0500
TZOFFSETTO:-0400
TZNAME:EDT
DTSTART:20240310T070000
END:DAYLIGHT
BEGIN:STANDARD
TZOFFSETFROM:-0400
TZOFFSETTO:-0500
TZNAME:EST
DTSTART:20241103T060000
END:STANDARD
END:VTIMEZONE
BEGIN:VEVENT
DTSTART;TZID=America/New_York:20230818T110000
DTEND;TZID=America/New_York:20230818T150000
DTSTAMP:20260421T172732
CREATED:20230719T175157Z
LAST-MODIFIED:20230719T175157Z
UID:10002739-1692356400-1692370800@healthymindsphilly.org
SUMMARY:Merakey Back to School Day
DESCRIPTION:Come get connected to community resources and participate in mental health screenings! Free food\, giveaways\, music\, and more. Merakey Children’s Services – 265 E Lehigh Ave. Philadelphia\, PA 19125.
URL:https://healthymindsphilly.org/dev/event/merakey-back-to-school-day/
LOCATION:Merakey\, 27 E. Mt. Airy Ave\, Philadelphia\, PA\, 19119\, United States
CATEGORIES:Community
ORGANIZER;CN="Merakey Children's Services":MAILTO:265referrals@merakey.org
END:VEVENT
BEGIN:VEVENT
DTSTART;TZID=America/New_York:20230818T190000
DTEND;TZID=America/New_York:20230818T220000
DTSTAMP:20260421T172732
CREATED:20230727T141052Z
LAST-MODIFIED:20230727T141052Z
UID:10002753-1692385200-1692396000@healthymindsphilly.org
SUMMARY:Outdoor Movie Night
DESCRIPTION:Please join us for our 3rd Annual Movie Night! Free admission and free snacks! We will be watching the movie “Sing!” \nWe will have information about CFAR services\, and Center for Families and Relationships will provide behavioral health screenings. We also plan to have community partners join us at the event. You won’t want to miss it!
URL:https://healthymindsphilly.org/dev/event/outdoor-movie-night/
LOCATION:Pelbano Recreation Center\, 8101 Bustleton Ave\, Philadelphia\, PA\, 19152\, United States
CATEGORIES:Community,Family,Mental Health,Screening,Youth
ATTACH;FMTTYPE=image/jpeg:https://healthymindsphilly.org/dev/wp-content/uploads/2023/07/MicrosoftTeams-image-18-scaled.jpg
ORGANIZER;CN="Center for Families and Relationships":MAILTO:jcropper-pam@cfarcounseling.org
END:VEVENT
END:VCALENDAR