BEGIN:VCALENDAR
VERSION:2.0
PRODID:-//Healthy Minds Philly® - ECPv6.15.18//NONSGML v1.0//EN
CALSCALE:GREGORIAN
METHOD:PUBLISH
X-WR-CALNAME:Healthy Minds Philly®
X-ORIGINAL-URL:https://healthymindsphilly.org/dev
X-WR-CALDESC:Events for Healthy Minds Philly®
REFRESH-INTERVAL;VALUE=DURATION:PT1H
X-Robots-Tag:noindex
X-PUBLISHED-TTL:PT1H
BEGIN:VTIMEZONE
TZID:America/New_York
BEGIN:DAYLIGHT
TZOFFSETFROM:-0500
TZOFFSETTO:-0400
TZNAME:EDT
DTSTART:20220313T070000
END:DAYLIGHT
BEGIN:STANDARD
TZOFFSETFROM:-0400
TZOFFSETTO:-0500
TZNAME:EST
DTSTART:20221106T060000
END:STANDARD
BEGIN:DAYLIGHT
TZOFFSETFROM:-0500
TZOFFSETTO:-0400
TZNAME:EDT
DTSTART:20230312T070000
END:DAYLIGHT
BEGIN:STANDARD
TZOFFSETFROM:-0400
TZOFFSETTO:-0500
TZNAME:EST
DTSTART:20231105T060000
END:STANDARD
BEGIN:DAYLIGHT
TZOFFSETFROM:-0500
TZOFFSETTO:-0400
TZNAME:EDT
DTSTART:20240310T070000
END:DAYLIGHT
BEGIN:STANDARD
TZOFFSETFROM:-0400
TZOFFSETTO:-0500
TZNAME:EST
DTSTART:20241103T060000
END:STANDARD
END:VTIMEZONE
BEGIN:VEVENT
DTSTART;TZID=America/New_York:20230816T100000
DTEND;TZID=America/New_York:20230816T140000
DTSTAMP:20260421T172718
CREATED:20230731T171412Z
LAST-MODIFIED:20230731T171412Z
UID:10002763-1692180000-1692194400@healthymindsphilly.org
SUMMARY:Hub 4 Health Resource Fair
DESCRIPTION:Food\, clothing\, housing\, and more resources provided by: \nThe Simple Way Food Choice Pantry\nCircle Thrift Clothing\nNKCDC\nThe City of Philadelphia\nIMPACT Services \nEsperanza will be providing Behavioral Health screenings. \nEnglish and Spanish representation present.
URL:https://healthymindsphilly.org/dev/event/hub-4-health-resource-fair/
LOCATION:CORE Center\, 3222 H St\, Philadelphia\, 19134
CATEGORIES:Community,Screening
ORGANIZER;CN="Simple Way":MAILTO:gail.nazarene@esperanzahealth.com
END:VEVENT
BEGIN:VEVENT
DTSTART;TZID=America/New_York:20230816T100000
DTEND;TZID=America/New_York:20230816T140000
DTSTAMP:20260421T172718
CREATED:20230801T225649Z
LAST-MODIFIED:20230802T203100Z
UID:10002768-1692180000-1692194400@healthymindsphilly.org
SUMMARY:Community Councils’ Community Event
DESCRIPTION:CCHS will host our annual “Community Day.” It is important that we continue to celebrate the caregivers and provide support and encouragement to our families and the community while focusing on mental wellness. There will be:\n– free resources\n-bouncy houses\n-raffles & prizes\n-food truck\n-local vendors\n-music\n-free book bags and back-to-school supplies\n-free mental health screenings\n-job fair with on-site interviews \nCommunity Council Health System will provide behavioral health screenings.
URL:https://healthymindsphilly.org/dev/event/community-councils-community-event/
LOCATION:Family Matters\, 4900 Wyalusing Ave\, Philadelphia\, 19131\, United States
CATEGORIES:Community,Screening
ORGANIZER;CN="Kein McClendon &amp%3B Gina Sweet":MAILTO:ops@cchss.org
END:VEVENT
BEGIN:VEVENT
DTSTART;TZID=America/New_York:20230816T170000
DTEND;TZID=America/New_York:20230816T190000
DTSTAMP:20260421T172718
CREATED:20230727T153926Z
LAST-MODIFIED:20230727T153926Z
UID:10002752-1692205200-1692212400@healthymindsphilly.org
SUMMARY:Garces Foundation End of Summer Fundraiser
DESCRIPTION:Join us for an extraordinary End of Summer Celebration hosted by Garces Foundation! As the sun sets on the season\, enjoy an evening filled with tacos and more by Chef Jose Garces’ Baja-Inspired taqueria\, Buena Onda\, and live music by Philly’s favorite band\, SNACKTIME Philly! This event is a perfect blend of great food\, sensational live music\, all in support of the Garces Foundation’s mission. Don’t miss your chance to be a part of this unforgettable celebration and make a difference in our community. Food\, drink\, and entertainment all included in admission. \nLocation: West Gym in Bok 800 Mifflin Street Philadelphia\, PA 19148
URL:https://healthymindsphilly.org/dev/event/garces-foundation-end-of-summer-fundraiser/
LOCATION:West Gym in Bok\, 800 Mifflin Street\, Philadelphia\, 19148\, United States
CATEGORIES:Community
ATTACH;FMTTYPE=image/jpeg:https://healthymindsphilly.org/dev/wp-content/uploads/2023/07/1862655.jpg
ORGANIZER;CN="Garces Foundation":MAILTO:hailey@cashmanandassociates.com
END:VEVENT
BEGIN:VEVENT
DTSTART;TZID=America/New_York:20230816T173000
DTEND;TZID=America/New_York:20230816T193000
DTSTAMP:20260421T172718
CREATED:20230803T180317Z
LAST-MODIFIED:20240105T022723Z
UID:10002774-1692207000-1692214200@healthymindsphilly.org
SUMMARY:Overdose Prevention and Reversal Training
DESCRIPTION:*Trigger Warning*: This training involves detailed discussions of drug use\, overdoses\, and demonstrations on how to use Narcan. If you have any concerns\, please feel free to email SUPHR staff at overdose.prevention@phila.gov \nThis training provides background information and data on opioid use\, Philadelphia’s drug supply\, and overdoses in our city. There is also a detailed description of how to recognize and respond to an opioid-related overdose with naloxone\, or Narcan. The training is approximately 1.5 hours with an additional 15 minutes for questions. \nYou can choose to have Narcan discreetly mailed to you after the training. We aim to prioritize our Narcan supply for those with the least access to Narcan and those most likely to witness an overdose. If you have the resources to acquire Narcan on your own\, please consider going to your local pharmacy to get it.
URL:https://healthymindsphilly.org/dev/event/overdose-prevention-and-reversal-training/2023-08-16/
CATEGORIES:Addiction
ATTACH;FMTTYPE=image/png:https://healthymindsphilly.org/dev/wp-content/uploads/2023/08/SUPHR.png
ORGANIZER;CN="Substance Use Prevention &amp%3B Harm Reduction":MAILTO:overdose.prevention@phila.gov
END:VEVENT
END:VCALENDAR