BEGIN:VCALENDAR
VERSION:2.0
PRODID:-//Healthy Minds Philly® - ECPv6.15.18//NONSGML v1.0//EN
CALSCALE:GREGORIAN
METHOD:PUBLISH
X-ORIGINAL-URL:https://healthymindsphilly.org/dev
X-WR-CALDESC:Events for Healthy Minds Philly®
REFRESH-INTERVAL;VALUE=DURATION:PT1H
X-Robots-Tag:noindex
X-PUBLISHED-TTL:PT1H
BEGIN:VTIMEZONE
TZID:America/New_York
BEGIN:DAYLIGHT
TZOFFSETFROM:-0500
TZOFFSETTO:-0400
TZNAME:EDT
DTSTART:20220313T070000
END:DAYLIGHT
BEGIN:STANDARD
TZOFFSETFROM:-0400
TZOFFSETTO:-0500
TZNAME:EST
DTSTART:20221106T060000
END:STANDARD
BEGIN:DAYLIGHT
TZOFFSETFROM:-0500
TZOFFSETTO:-0400
TZNAME:EDT
DTSTART:20230312T070000
END:DAYLIGHT
BEGIN:STANDARD
TZOFFSETFROM:-0400
TZOFFSETTO:-0500
TZNAME:EST
DTSTART:20231105T060000
END:STANDARD
BEGIN:DAYLIGHT
TZOFFSETFROM:-0500
TZOFFSETTO:-0400
TZNAME:EDT
DTSTART:20240310T070000
END:DAYLIGHT
BEGIN:STANDARD
TZOFFSETFROM:-0400
TZOFFSETTO:-0500
TZNAME:EST
DTSTART:20241103T060000
END:STANDARD
END:VTIMEZONE
BEGIN:VEVENT
DTSTART;TZID=America/New_York:20230727T110000
DTEND;TZID=America/New_York:20230727T140000
DTSTAMP:20260422T000528
CREATED:20230705T141908Z
LAST-MODIFIED:20230705T141908Z
UID:10000022-1690455600-1690466400@healthymindsphilly.org
SUMMARY:PHMC Day
DESCRIPTION:PHMC Day is a chance to enjoy time outdoors with your community and learn more about Public Health Management Corporation’s (PHMC’s) programs and services. Join us for a block party hosted by The National Nurse-Led Consortium!\nFood / Music/ Games & Activities/ Giveaway Items\nPHMC’s Addiction Services will provide free Behavioral Health Screenings.
URL:https://healthymindsphilly.org/dev/event/phmc-day-3/
LOCATION:4601 Market Street\, Philadelphia PA 19139\, 4601 Market Street\, Philadelphia\, 19139
CATEGORIES:Community,Screening
ATTACH;FMTTYPE=image/png:https://healthymindsphilly.org/dev/wp-content/uploads/2023/06/2023-07-27-PHMC-Day-Flyer.png
ORGANIZER;CN="PHMC Community Engagement":MAILTO:PHMCCommunityEngagement@phmc.org
END:VEVENT
BEGIN:VEVENT
DTSTART;TZID=America/New_York:20230727T110000
DTEND;TZID=America/New_York:20230727T140000
DTSTAMP:20260422T000528
CREATED:20230725T173123Z
LAST-MODIFIED:20230725T173123Z
UID:10002749-1690455600-1690466400@healthymindsphilly.org
SUMMARY:PHMC Day- update
DESCRIPTION:PHMC Day is a chance to enjoy time outdoors with your community and learn more about Public Health\nManagement Corporation’s (PHMC’s) programs and services. Join us for a block party hosted by The National Nurse-Led Care Consortium!\nFood / Music / Games & Activities / Giveaway Items\nPHMC’s Addiction Services will provide free Behavioral Health Screenings. \nUPDATE: Please Note! If there is inclement weather\, the Rain Date for this event will be Tuesday\, August 1\, 2023\, same time\, same location: 11am to 2pm \, 4601 Market Street\, Philadelphia PA 19139.
URL:https://healthymindsphilly.org/dev/event/phmc-day-update/
LOCATION:4601 Market Street\, Philadelphia PA 19139\, 4601 Market Street\, Philadelphia\, 19139
CATEGORIES:Community,Screening
ATTACH;FMTTYPE=image/png:https://healthymindsphilly.org/dev/wp-content/uploads/2023/07/2023-07-27-PHMC-Day-Flyer.png
ORGANIZER;CN="PHMC Community Engagement":MAILTO:PHMCCommunityEngagement@phmc.org
END:VEVENT
END:VCALENDAR