BEGIN:VCALENDAR
VERSION:2.0
PRODID:-//Healthy Minds Philly® - ECPv6.15.18//NONSGML v1.0//EN
CALSCALE:GREGORIAN
METHOD:PUBLISH
X-WR-CALNAME:Healthy Minds Philly®
X-ORIGINAL-URL:https://healthymindsphilly.org/dev
X-WR-CALDESC:Events for Healthy Minds Philly®
REFRESH-INTERVAL;VALUE=DURATION:PT1H
X-Robots-Tag:noindex
X-PUBLISHED-TTL:PT1H
BEGIN:VTIMEZONE
TZID:America/New_York
BEGIN:DAYLIGHT
TZOFFSETFROM:-0500
TZOFFSETTO:-0400
TZNAME:EDT
DTSTART:20220313T070000
END:DAYLIGHT
BEGIN:STANDARD
TZOFFSETFROM:-0400
TZOFFSETTO:-0500
TZNAME:EST
DTSTART:20221106T060000
END:STANDARD
BEGIN:DAYLIGHT
TZOFFSETFROM:-0500
TZOFFSETTO:-0400
TZNAME:EDT
DTSTART:20230312T070000
END:DAYLIGHT
BEGIN:STANDARD
TZOFFSETFROM:-0400
TZOFFSETTO:-0500
TZNAME:EST
DTSTART:20231105T060000
END:STANDARD
BEGIN:DAYLIGHT
TZOFFSETFROM:-0500
TZOFFSETTO:-0400
TZNAME:EDT
DTSTART:20240310T070000
END:DAYLIGHT
BEGIN:STANDARD
TZOFFSETFROM:-0400
TZOFFSETTO:-0500
TZNAME:EST
DTSTART:20241103T060000
END:STANDARD
END:VTIMEZONE
BEGIN:VEVENT
DTSTART;TZID=America/New_York:20230724T110000
DTEND;TZID=America/New_York:20230724T130000
DTSTAMP:20260422T000350
CREATED:20230719T160716Z
LAST-MODIFIED:20230719T160716Z
UID:10002737-1690196400-1690203600@healthymindsphilly.org
SUMMARY:Lunch and Lounge for City Interns
DESCRIPTION:Celebrate International Self-Care day with a Lunch and Lounge for city interns! Please drop in for any amount of time to the Innovation Lab on the 16th floor of the Municipal Services Building from 11 am to 1 pm on Monday\, July 24th for a networking opportunity with fellow interns and various self-care related stations. Stations will include yoga\, mindfulness\, “Bring a Book\, Take a Book\,” professional headshots\, create-your-own self-care plan\, mental health screenings from Kirkbride Behavioral Health (must be 18 or older)\, and a visit from Campus Philly. Bring your own lunch and a book to trade!
URL:https://healthymindsphilly.org/dev/event/lunch-and-lounge-for-city-interns/
LOCATION:Municipal Services Building\, 1401 JFK Blvd\, 16th floor Innovation Lab\, Philadelphia\, PA\, ME\, 19102\, United States
CATEGORIES:Self Care
ATTACH;FMTTYPE=image/png:https://healthymindsphilly.org/dev/wp-content/uploads/2023/07/Intern-Self-Care-Event.png
ORGANIZER;CN="DBHIDS":MAILTO:gabriel.bryant@phila.gov
END:VEVENT
END:VCALENDAR