BEGIN:VCALENDAR
VERSION:2.0
PRODID:-//Healthy Minds Philly® - ECPv6.15.18//NONSGML v1.0//EN
CALSCALE:GREGORIAN
METHOD:PUBLISH
X-ORIGINAL-URL:https://healthymindsphilly.org/dev
X-WR-CALDESC:Events for Healthy Minds Philly®
REFRESH-INTERVAL;VALUE=DURATION:PT1H
X-Robots-Tag:noindex
X-PUBLISHED-TTL:PT1H
BEGIN:VTIMEZONE
TZID:America/New_York
BEGIN:DAYLIGHT
TZOFFSETFROM:-0500
TZOFFSETTO:-0400
TZNAME:EDT
DTSTART:20220313T070000
END:DAYLIGHT
BEGIN:STANDARD
TZOFFSETFROM:-0400
TZOFFSETTO:-0500
TZNAME:EST
DTSTART:20221106T060000
END:STANDARD
BEGIN:DAYLIGHT
TZOFFSETFROM:-0500
TZOFFSETTO:-0400
TZNAME:EDT
DTSTART:20230312T070000
END:DAYLIGHT
BEGIN:STANDARD
TZOFFSETFROM:-0400
TZOFFSETTO:-0500
TZNAME:EST
DTSTART:20231105T060000
END:STANDARD
BEGIN:DAYLIGHT
TZOFFSETFROM:-0500
TZOFFSETTO:-0400
TZNAME:EDT
DTSTART:20240310T070000
END:DAYLIGHT
BEGIN:STANDARD
TZOFFSETFROM:-0400
TZOFFSETTO:-0500
TZNAME:EST
DTSTART:20241103T060000
END:STANDARD
END:VTIMEZONE
BEGIN:VEVENT
DTSTART;TZID=America/New_York:20230723T123000
DTEND;TZID=America/New_York:20230723T150000
DTSTAMP:20260422T000529
CREATED:20230718T193648Z
LAST-MODIFIED:20230718T193648Z
UID:10002735-1690115400-1690124400@healthymindsphilly.org
SUMMARY:Bethany Baptist Church Resource Fair
DESCRIPTION:The Bethany Church has organized this fair and invited several other community serving institutions such as HCCS (Hispanic Community Counseling Services) from Kensington Avenue and Allegheny Avenue (2 locations) in North Philadelphia to participate. \nHCCS will provide FREE Mental Health Awareness information materials to attendees and will make available FREE Behavioral Health Screenings to everyone interested in completing it on site thanks to the support of DBHIDS (Department of Behavioral Health and Intellectual Disability Services of the City of Philadelphia.
URL:https://healthymindsphilly.org/dev/event/bethany-baptist-church-resource-fair/
LOCATION:Bethany Baptist Church\, 5747 Warrington AVe\, Philadelphia\, PA\, 19143\, United States
CATEGORIES:Community,Faith-Based,Family,Mental Health,Screening
END:VEVENT
BEGIN:VEVENT
DTSTART;TZID=America/New_York:20230723T140000
DTEND;TZID=America/New_York:20230723T180000
DTSTAMP:20260422T000529
CREATED:20230720T180402Z
LAST-MODIFIED:20230720T180402Z
UID:10002740-1690120800-1690135200@healthymindsphilly.org
SUMMARY:Community Fun Day
DESCRIPTION:Come out and join us for free resources\, fun activities and more. Pan American will be Providing Behavioral Health screenings
URL:https://healthymindsphilly.org/dev/event/community-fun-day/
LOCATION:Outdoor\, 4600 N Front Street\, Philadelphia\, PA\, 19140\, United States
CATEGORIES:Community,Screening
ORGANIZER;CN="Rochelle Gordan":MAILTO:rochelle.gordan@phila.gv
END:VEVENT
BEGIN:VEVENT
DTSTART;TZID=America/New_York:20230723T140000
DTEND;TZID=America/New_York:20230723T180000
DTSTAMP:20260422T000529
CREATED:20230724T140557Z
LAST-MODIFIED:20230724T140557Z
UID:10002747-1690120800-1690135200@healthymindsphilly.org
SUMMARY:Community Fun Day – Pan American Behavioral Health Screenings
DESCRIPTION:Come out and join us for free resources\, fun activities and more. Pan American will be providing Behavioral Health screenings.
URL:https://healthymindsphilly.org/dev/event/community-fun-day-pan-american-behavioral-health-screenings/
CATEGORIES:Community,Screening
ORGANIZER;CN="Council Woman Sharon Vaughan at Large":MAILTO:rochelle.gordon@phila.gov
END:VEVENT
END:VCALENDAR