BEGIN:VCALENDAR
VERSION:2.0
PRODID:-//Healthy Minds Philly® - ECPv6.15.18//NONSGML v1.0//EN
CALSCALE:GREGORIAN
METHOD:PUBLISH
X-WR-CALNAME:Healthy Minds Philly®
X-ORIGINAL-URL:https://healthymindsphilly.org/dev
X-WR-CALDESC:Events for Healthy Minds Philly®
REFRESH-INTERVAL;VALUE=DURATION:PT1H
X-Robots-Tag:noindex
X-PUBLISHED-TTL:PT1H
BEGIN:VTIMEZONE
TZID:America/New_York
BEGIN:DAYLIGHT
TZOFFSETFROM:-0500
TZOFFSETTO:-0400
TZNAME:EDT
DTSTART:20220313T070000
END:DAYLIGHT
BEGIN:STANDARD
TZOFFSETFROM:-0400
TZOFFSETTO:-0500
TZNAME:EST
DTSTART:20221106T060000
END:STANDARD
BEGIN:DAYLIGHT
TZOFFSETFROM:-0500
TZOFFSETTO:-0400
TZNAME:EDT
DTSTART:20230312T070000
END:DAYLIGHT
BEGIN:STANDARD
TZOFFSETFROM:-0400
TZOFFSETTO:-0500
TZNAME:EST
DTSTART:20231105T060000
END:STANDARD
BEGIN:DAYLIGHT
TZOFFSETFROM:-0500
TZOFFSETTO:-0400
TZNAME:EDT
DTSTART:20240310T070000
END:DAYLIGHT
BEGIN:STANDARD
TZOFFSETFROM:-0400
TZOFFSETTO:-0500
TZNAME:EST
DTSTART:20241103T060000
END:STANDARD
END:VTIMEZONE
BEGIN:VEVENT
DTSTART;TZID=America/New_York:20230719T100000
DTEND;TZID=America/New_York:20230719T120000
DTSTAMP:20260422T000352
CREATED:20230715T141212Z
LAST-MODIFIED:20230717T150623Z
UID:10002492-1689760800-1689768000@healthymindsphilly.org
SUMMARY:Resource Fair  (English and Spanish representation present)
DESCRIPTION:Food\, clothing\, housing\, and more resources provided by: \nThe Simple Way Food Choice Pantry\nCircle Thrift Clothing\nNKCDC\nThe City of Philadelphia\nIMPACT Services \nEsperanza will be providing Behavioral Health screenings. \nDownload the flyer in English and Spanish.
URL:https://healthymindsphilly.org/dev/event/resource-fair-english-and-spanish-representation-present/
LOCATION:CORE Center\, 3222 H St\, Philadelphia\, 19134
CATEGORIES:Faith-Based,Family,Mental Health,Peer Specialists,Screening
ATTACH;FMTTYPE=image/jpeg:https://healthymindsphilly.org/dev/wp-content/uploads/2023/07/hub4health.jpg
END:VEVENT
END:VCALENDAR