BEGIN:VCALENDAR
VERSION:2.0
PRODID:-//Healthy Minds Philly® - ECPv6.15.18//NONSGML v1.0//EN
CALSCALE:GREGORIAN
METHOD:PUBLISH
X-WR-CALNAME:Healthy Minds Philly®
X-ORIGINAL-URL:https://healthymindsphilly.org/dev
X-WR-CALDESC:Events for Healthy Minds Philly®
REFRESH-INTERVAL;VALUE=DURATION:PT1H
X-Robots-Tag:noindex
X-PUBLISHED-TTL:PT1H
BEGIN:VTIMEZONE
TZID:America/New_York
BEGIN:DAYLIGHT
TZOFFSETFROM:-0500
TZOFFSETTO:-0400
TZNAME:EDT
DTSTART:20220313T070000
END:DAYLIGHT
BEGIN:STANDARD
TZOFFSETFROM:-0400
TZOFFSETTO:-0500
TZNAME:EST
DTSTART:20221106T060000
END:STANDARD
BEGIN:DAYLIGHT
TZOFFSETFROM:-0500
TZOFFSETTO:-0400
TZNAME:EDT
DTSTART:20230312T070000
END:DAYLIGHT
BEGIN:STANDARD
TZOFFSETFROM:-0400
TZOFFSETTO:-0500
TZNAME:EST
DTSTART:20231105T060000
END:STANDARD
BEGIN:DAYLIGHT
TZOFFSETFROM:-0500
TZOFFSETTO:-0400
TZNAME:EDT
DTSTART:20240310T070000
END:DAYLIGHT
BEGIN:STANDARD
TZOFFSETFROM:-0400
TZOFFSETTO:-0500
TZNAME:EST
DTSTART:20241103T060000
END:STANDARD
END:VTIMEZONE
BEGIN:VEVENT
DTSTART;TZID=America/New_York:20230712T093000
DTEND;TZID=America/New_York:20230712T123000
DTSTAMP:20260421T204048
CREATED:20230713T125459Z
LAST-MODIFIED:20230713T125459Z
UID:10001314-1689154200-1689165000@healthymindsphilly.org
SUMMARY:Ur Storytellers Online Storytelling Training
DESCRIPTION:Storytelling is a training facilitated by UrStorytellers in collaboration with the City of Department of Behavioral Health and Intellectual DisAbility Services (DBHIDS). This training is one of many trainings approved as a required prerequisite for applicants who want to pursue becoming a Certified Peer Specialist. Our goal is to inform the recovery and faith-based communities on how to share their stories and the importance of sharing them in community settings. This training will be three hrs. at length\, delivered in a power point format\, and interactive activities enhance this training. After the conclusion of the training\, all participants will receive a certificate of completion.
URL:https://healthymindsphilly.org/dev/event/ur-storytellers-online-storytelling-training/2023-07-12/
LOCATION:UrStorytellers Zoom
CATEGORIES:Storytelling
ATTACH;FMTTYPE=image/png:https://healthymindsphilly.org/dev/wp-content/uploads/2023/06/UR-Facebook-image-2.png
ORGANIZER;CN="UrStorytellers Foundation Inc":MAILTO:sanders.urstorytellers@gmail.com
END:VEVENT
BEGIN:VEVENT
DTSTART;TZID=America/New_York:20230712T170000
DTEND;TZID=America/New_York:20230712T200000
DTSTAMP:20260421T204048
CREATED:20230705T173423Z
LAST-MODIFIED:20230705T173423Z
UID:10000032-1689181200-1689192000@healthymindsphilly.org
SUMMARY:Mount Airy CDC Supper Sessions
DESCRIPTION:Allied Associates in Mental Health will be offering mental health screenings and literature during the Mount Airy CDC Supper Sessions on the blocks of 7100 to 7200 Germantown Avenue\, 19119. \nAllied Associates in Mental Health is based in Mount Airy and is dedicated to supporting and providing resources to our community.
URL:https://healthymindsphilly.org/dev/event/mount-airy-cdc-supper-sessions/
LOCATION:2557 N 5th St\, Philadelphia\, 19133\, United States
CATEGORIES:Community,Screening
ORGANIZER;CN="ALLIED ASSOCIATES IN MENTAL":MAILTO:carla.q@aamhinc.org
END:VEVENT
BEGIN:VEVENT
DTSTART;TZID=America/New_York:20230712T190000
DTEND;TZID=America/New_York:20230712T200000
DTSTAMP:20260421T204048
CREATED:20230713T123146Z
LAST-MODIFIED:20230713T123146Z
UID:10001278-1689188400-1689192000@healthymindsphilly.org
SUMMARY:Survivors of Suicide Loss Support Group [ Online / By Phone ] – Methodist Hospital
DESCRIPTION:The Survivors of Suicide Loss Support Group seeks to help loss survivors cope\, connect\, and work toward healing. Trained group facilitators are suicide loss survivors who know firsthand how difficult it can be to find your way after losing someone to suicide. The group is open to anyone 18 years or older who is grieving a loss due to suicide. \nThe group is free and confidential. For more information\, please contact philadelphiasptf@phila.gov \nCOVID19 Update: We want to prioritize your health and safety while still offering our support in your grief. In response to the social distancing guidance from the Center for Disease Control\, we hosting support groups online and by phone. \nSecond Wednesday of each month\, 7pm (previously held at Methodist Hospital)\nJoin the Zoom Meeting\nMeeting ID: 873 0275 6074\nPassword: 475418\nDial In: (646) 931-3860 and enter Meeting ID: 87302756074#
URL:https://healthymindsphilly.org/dev/event/survivors-of-suicide-loss-support-group-online-by-phone-methodist-hospital/2023-07-12/
LOCATION:Online\, United States
CATEGORIES:Support Group
END:VEVENT
END:VCALENDAR