BEGIN:VCALENDAR
VERSION:2.0
PRODID:-//Healthy Minds Philly® - ECPv6.15.18//NONSGML v1.0//EN
CALSCALE:GREGORIAN
METHOD:PUBLISH
X-WR-CALNAME:Healthy Minds Philly®
X-ORIGINAL-URL:https://healthymindsphilly.org/dev
X-WR-CALDESC:Events for Healthy Minds Philly®
REFRESH-INTERVAL;VALUE=DURATION:PT1H
X-Robots-Tag:noindex
X-PUBLISHED-TTL:PT1H
BEGIN:VTIMEZONE
TZID:America/New_York
BEGIN:DAYLIGHT
TZOFFSETFROM:-0500
TZOFFSETTO:-0400
TZNAME:EDT
DTSTART:20220313T070000
END:DAYLIGHT
BEGIN:STANDARD
TZOFFSETFROM:-0400
TZOFFSETTO:-0500
TZNAME:EST
DTSTART:20221106T060000
END:STANDARD
BEGIN:DAYLIGHT
TZOFFSETFROM:-0500
TZOFFSETTO:-0400
TZNAME:EDT
DTSTART:20230312T070000
END:DAYLIGHT
BEGIN:STANDARD
TZOFFSETFROM:-0400
TZOFFSETTO:-0500
TZNAME:EST
DTSTART:20231105T060000
END:STANDARD
BEGIN:DAYLIGHT
TZOFFSETFROM:-0500
TZOFFSETTO:-0400
TZNAME:EDT
DTSTART:20240310T070000
END:DAYLIGHT
BEGIN:STANDARD
TZOFFSETFROM:-0400
TZOFFSETTO:-0500
TZNAME:EST
DTSTART:20241103T060000
END:STANDARD
END:VTIMEZONE
BEGIN:VEVENT
DTSTART;TZID=America/New_York:20230625T140000
DTEND;TZID=America/New_York:20230625T180000
DTSTAMP:20260421T204046
CREATED:20230622T123607Z
LAST-MODIFIED:20230622T123607Z
UID:10000090-1687701600-1687716000@healthymindsphilly.org
SUMMARY:Hispanic Fiesta
DESCRIPTION:PLEASE JOIN US FOR OUR HISPANIC FIESTA – PART OF OUR ANNUAL CULTURAL EVENTS SERIES!\nHispanic Fiesta takes place annually as a part of the PECO Multicultural Series and Wawa Welcome America\, full of culture – a true #LatinoWeekendExperience! This event features entertainment and will include many local vendors offering you the Latino flair in food\, music\, clothing\, and much more. \nThe Children’s Crisis Treatment Center (CCTC) will be present during this event providing information regarding the behavioral health services provided to children and families and will have clinical and administrative staff in attendance to answer any questions visitors to the event may have. CCTC will also have giveaways for all who visit the table.
URL:https://healthymindsphilly.org/dev/event/hispanic-fiesta/
LOCATION:Great Plaza at Penn’s Landing\, Penn's Landing \, Philadelphia PA\, Philadelphia\, PA\, 19106\, United States
CATEGORIES:Community,Screening
ORGANIZER;CN="Concilio":MAILTO:www.elconcilio.net
END:VEVENT
END:VCALENDAR