BEGIN:VCALENDAR
VERSION:2.0
PRODID:-//Healthy Minds Philly® - ECPv6.15.18//NONSGML v1.0//EN
CALSCALE:GREGORIAN
METHOD:PUBLISH
X-WR-CALNAME:Healthy Minds Philly®
X-ORIGINAL-URL:https://healthymindsphilly.org/dev
X-WR-CALDESC:Events for Healthy Minds Philly®
REFRESH-INTERVAL;VALUE=DURATION:PT1H
X-Robots-Tag:noindex
X-PUBLISHED-TTL:PT1H
BEGIN:VTIMEZONE
TZID:America/New_York
BEGIN:DAYLIGHT
TZOFFSETFROM:-0500
TZOFFSETTO:-0400
TZNAME:EDT
DTSTART:20220313T070000
END:DAYLIGHT
BEGIN:STANDARD
TZOFFSETFROM:-0400
TZOFFSETTO:-0500
TZNAME:EST
DTSTART:20221106T060000
END:STANDARD
BEGIN:DAYLIGHT
TZOFFSETFROM:-0500
TZOFFSETTO:-0400
TZNAME:EDT
DTSTART:20230312T070000
END:DAYLIGHT
BEGIN:STANDARD
TZOFFSETFROM:-0400
TZOFFSETTO:-0500
TZNAME:EST
DTSTART:20231105T060000
END:STANDARD
BEGIN:DAYLIGHT
TZOFFSETFROM:-0500
TZOFFSETTO:-0400
TZNAME:EDT
DTSTART:20240310T070000
END:DAYLIGHT
BEGIN:STANDARD
TZOFFSETFROM:-0400
TZOFFSETTO:-0500
TZNAME:EST
DTSTART:20241103T060000
END:STANDARD
END:VTIMEZONE
BEGIN:VEVENT
DTSTART;TZID=America/New_York:20230531T123000
DTEND;TZID=America/New_York:20230531T133000
DTSTAMP:20260422T000401
CREATED:20230526T021531Z
LAST-MODIFIED:20230526T021531Z
UID:10000005-1685536200-1685539800@healthymindsphilly.org
SUMMARY:[Webinar] Shattering the Stigma: Addressing Mental Wellness Solutions and Support in Communities of Color
DESCRIPTION:FunTimes Magazine is taking action and shedding light on mental health’s darkness. Did you know that 21 percent\, or 50 million adults\, experience mental illness in the United States? Many do not seek available professional services or treatment\, especially in communities of color. FunTimes will host a free special virtual event to support public awareness about the pressing mental wellness and behavioral health crises. The event\, Shattering the Stigma: Addressing Mental Wellness Solutions and Support in Communities of Color will be held in partnership with the 24-hour 988 suicide and crisis lifeline. Free\, 12:30 p.m. to 1:30 p.m.
URL:https://healthymindsphilly.org/dev/event/webinar-shattering-the-stigma-addressing-mental-wellness-solutions-and-support-in-communities-of-color/
CATEGORIES:Community,Mental Health,Racial Equality,Screening
ATTACH;FMTTYPE=image/png:https://healthymindsphilly.org/dev/wp-content/uploads/2023/05/Fun-Times-Mental-Health-image.png
ORGANIZER;CN="FunTimes Magazine":MAILTO:eric@funtimesmagazine.com
END:VEVENT
END:VCALENDAR