BEGIN:VCALENDAR
VERSION:2.0
PRODID:-//Healthy Minds Philly® - ECPv6.15.18//NONSGML v1.0//EN
CALSCALE:GREGORIAN
METHOD:PUBLISH
X-WR-CALNAME:Healthy Minds Philly®
X-ORIGINAL-URL:https://healthymindsphilly.org/dev
X-WR-CALDESC:Events for Healthy Minds Philly®
REFRESH-INTERVAL;VALUE=DURATION:PT1H
X-Robots-Tag:noindex
X-PUBLISHED-TTL:PT1H
BEGIN:VTIMEZONE
TZID:America/New_York
BEGIN:DAYLIGHT
TZOFFSETFROM:-0500
TZOFFSETTO:-0400
TZNAME:EDT
DTSTART:20220313T070000
END:DAYLIGHT
BEGIN:STANDARD
TZOFFSETFROM:-0400
TZOFFSETTO:-0500
TZNAME:EST
DTSTART:20221106T060000
END:STANDARD
BEGIN:DAYLIGHT
TZOFFSETFROM:-0500
TZOFFSETTO:-0400
TZNAME:EDT
DTSTART:20230312T070000
END:DAYLIGHT
BEGIN:STANDARD
TZOFFSETFROM:-0400
TZOFFSETTO:-0500
TZNAME:EST
DTSTART:20231105T060000
END:STANDARD
BEGIN:DAYLIGHT
TZOFFSETFROM:-0500
TZOFFSETTO:-0400
TZNAME:EDT
DTSTART:20240310T070000
END:DAYLIGHT
BEGIN:STANDARD
TZOFFSETFROM:-0400
TZOFFSETTO:-0500
TZNAME:EST
DTSTART:20241103T060000
END:STANDARD
END:VTIMEZONE
BEGIN:VEVENT
DTSTART;TZID=America/New_York:20230524T093000
DTEND;TZID=America/New_York:20230524T123000
DTSTAMP:20260422T000359
CREATED:20230713T132435Z
LAST-MODIFIED:20230713T132435Z
UID:10001368-1684920600-1684931400@healthymindsphilly.org
SUMMARY:UrStorytellers Online Storytelling Training
DESCRIPTION:Storytelling is a training facilitated by UrStorytellers in collaboration with the City of Department of Behavioral Health and Intellectual DisAbility Services (DBHIDS). This training is one of many trainings that is approved as a required prerequisite for applicants who want to pursue the goals of becoming a Certified Peer Specialist. Our goal is to inform the recovery and faith-based communities on how to share their stories and in addition to the importance of sharing them in community settings. This training will be 3 hrs. at length\, delivered in a power point format\, and interactive activities enhance this training. After the conclusion of the training\, all participants will receive a certificate of completion.
URL:https://healthymindsphilly.org/dev/event/urstorytellers-online-storytelling-training/2023-05-24/
LOCATION:Online\, United States
CATEGORIES:Storytelling,Training
ORGANIZER;CN="UrStorytellers Foundation Inc":MAILTO:sanders.urstorytellers@gmail.com
END:VEVENT
BEGIN:VEVENT
DTSTART;TZID=America/New_York:20230524T100000
DTEND;TZID=America/New_York:20230524T130000
DTSTAMP:20260422T000359
CREATED:20230402T140532Z
LAST-MODIFIED:20230419T134419Z
UID:10000037-1684922400-1684933200@healthymindsphilly.org
SUMMARY:NAMI/Friends Hospital Resource Collaboration Event
DESCRIPTION:Collaboration between NAMI and Friends: Resource Fair\, Giveaway\, and Networking Event \nOver 30 community health organizations coming together to network\, provide resources to community\, and collaborate on community health. \nNECCBH will partner with this event and will provide free mental health screenings.
URL:https://healthymindsphilly.org/dev/event/nami-friends-hospital-resource-collaboration-event/
LOCATION:4641 East Roosevelt Blvd Philadelphia\, Pa 19124\, 4641 East Roosevelt Blvd\, Philadelphia\, PA\, 19124\, United States
ORGANIZER;CN="NAMI/Friends":MAILTO:allison.bruchwalski@uhsinc.com&gt;
END:VEVENT
BEGIN:VEVENT
DTSTART;TZID=America/New_York:20230524T120000
DTEND;TZID=America/New_York:20230524T170000
DTSTAMP:20260422T000359
CREATED:20230502T152728Z
LAST-MODIFIED:20230505T145618Z
UID:10000058-1684929600-1684947600@healthymindsphilly.org
SUMMARY:Stay Safe Community Initiative
DESCRIPTION:This community event hosted by One Bright Ray Community High School will provide resources and onsite mental health counseling\, substance abuse support groups\, and other community outreach initiatives. \nThe Consortium will be providing Behavioral Health Screenings
URL:https://healthymindsphilly.org/dev/event/stay-safe-community-initiative/
LOCATION:Strawberry Mansion High School\, 3133 Ridge Avenue\, Philadelphia\, PA\, 19121\, United States
CATEGORIES:Community,Screening
ORGANIZER;CN="One Bright Ray Community High School":MAILTO:jrodgers@onebrightray.com
END:VEVENT
END:VCALENDAR