BEGIN:VCALENDAR
VERSION:2.0
PRODID:-//Healthy Minds Philly® - ECPv6.15.18//NONSGML v1.0//EN
CALSCALE:GREGORIAN
METHOD:PUBLISH
X-ORIGINAL-URL:https://healthymindsphilly.org/dev
X-WR-CALDESC:Events for Healthy Minds Philly®
REFRESH-INTERVAL;VALUE=DURATION:PT1H
X-Robots-Tag:noindex
X-PUBLISHED-TTL:PT1H
BEGIN:VTIMEZONE
TZID:America/New_York
BEGIN:DAYLIGHT
TZOFFSETFROM:-0500
TZOFFSETTO:-0400
TZNAME:EDT
DTSTART:20220313T070000
END:DAYLIGHT
BEGIN:STANDARD
TZOFFSETFROM:-0400
TZOFFSETTO:-0500
TZNAME:EST
DTSTART:20221106T060000
END:STANDARD
BEGIN:DAYLIGHT
TZOFFSETFROM:-0500
TZOFFSETTO:-0400
TZNAME:EDT
DTSTART:20230312T070000
END:DAYLIGHT
BEGIN:STANDARD
TZOFFSETFROM:-0400
TZOFFSETTO:-0500
TZNAME:EST
DTSTART:20231105T060000
END:STANDARD
BEGIN:DAYLIGHT
TZOFFSETFROM:-0500
TZOFFSETTO:-0400
TZNAME:EDT
DTSTART:20240310T070000
END:DAYLIGHT
BEGIN:STANDARD
TZOFFSETFROM:-0400
TZOFFSETTO:-0500
TZNAME:EST
DTSTART:20241103T060000
END:STANDARD
END:VTIMEZONE
BEGIN:VEVENT
DTSTART;TZID=America/New_York:20230513T110000
DTEND;TZID=America/New_York:20230513T130000
DTSTAMP:20260422T000608
CREATED:20230309T014651Z
LAST-MODIFIED:20230309T141659Z
UID:10000017-1683975600-1683982800@healthymindsphilly.org
SUMMARY:Interact Family May Fair
DESCRIPTION:As we know\, rates of child abuse\, domestic violence\, and gun violence dramatically increase in the summertime. That’s why we’re doing our part to bring the community together in our family strengthening efforts\, to promote mental health awareness and link our local youth to safe\, structured activities like summer camps\, summer jobs\, and apprenticeships. \nIntercommunity Action will provide behavioral health screenings.
URL:https://healthymindsphilly.org/dev/event/interact-family-may-fair/
LOCATION:7372 Henry Avenue\, 7372 Henry Avenue\, Philadelphia\, PA
CATEGORIES:Community,Mental Health
ATTACH;FMTTYPE=image/jpeg:https://healthymindsphilly.org/dev/wp-content/uploads/2023/03/Interact-May-Fair-Flyer.jpg
ORGANIZER;CN="Intercommunity Action":MAILTO:tdrames@intercommunityaction.org
END:VEVENT
BEGIN:VEVENT
DTSTART;TZID=America/New_York:20230513T120000
DTEND;TZID=America/New_York:20230513T170000
DTSTAMP:20260422T000608
CREATED:20230713T140650Z
LAST-MODIFIED:20230713T140650Z
UID:10001492-1683979200-1683997200@healthymindsphilly.org
SUMMARY:Saturday Afternoon Respite
DESCRIPTION:Caring for a child with behavioral health needs can be demanding. Take a break. Respite care is short-term care for children ages 6-17. Children with a behavioral health diagnosis are eligible for short-term care.
URL:https://healthymindsphilly.org/dev/event/saturday-afternoon-respite-2/2023-05-13/
LOCATION:Shane Victorino Nicetown Boys & Girls Club\, 1721 West Hunting Park Ave\, Philadelphia\, PA\, 19140\, United States
CATEGORIES:Caregiving,Community,Family,Youth
ATTACH;FMTTYPE=image/jpeg:https://healthymindsphilly.org/dev/wp-content/uploads/2023/07/respite.jpg
ORGANIZER;CN="DBHIDS":MAILTO:gabriel.bryant@phila.gov
END:VEVENT
END:VCALENDAR