BEGIN:VCALENDAR
VERSION:2.0
PRODID:-//Healthy Minds Philly® - ECPv6.15.18//NONSGML v1.0//EN
CALSCALE:GREGORIAN
METHOD:PUBLISH
X-ORIGINAL-URL:https://healthymindsphilly.org/dev
X-WR-CALDESC:Events for Healthy Minds Philly®
REFRESH-INTERVAL;VALUE=DURATION:PT1H
X-Robots-Tag:noindex
X-PUBLISHED-TTL:PT1H
BEGIN:VTIMEZONE
TZID:America/New_York
BEGIN:DAYLIGHT
TZOFFSETFROM:-0500
TZOFFSETTO:-0400
TZNAME:EDT
DTSTART:20220313T070000
END:DAYLIGHT
BEGIN:STANDARD
TZOFFSETFROM:-0400
TZOFFSETTO:-0500
TZNAME:EST
DTSTART:20221106T060000
END:STANDARD
BEGIN:DAYLIGHT
TZOFFSETFROM:-0500
TZOFFSETTO:-0400
TZNAME:EDT
DTSTART:20230312T070000
END:DAYLIGHT
BEGIN:STANDARD
TZOFFSETFROM:-0400
TZOFFSETTO:-0500
TZNAME:EST
DTSTART:20231105T060000
END:STANDARD
BEGIN:DAYLIGHT
TZOFFSETFROM:-0500
TZOFFSETTO:-0400
TZNAME:EDT
DTSTART:20240310T070000
END:DAYLIGHT
BEGIN:STANDARD
TZOFFSETFROM:-0400
TZOFFSETTO:-0500
TZNAME:EST
DTSTART:20241103T060000
END:STANDARD
END:VTIMEZONE
BEGIN:VEVENT
DTSTART;TZID=America/New_York:20230511T093000
DTEND;TZID=America/New_York:20230511T133000
DTSTAMP:20260422T000622
CREATED:20230713T132102Z
LAST-MODIFIED:20230713T132102Z
UID:10001364-1683797400-1683811800@healthymindsphilly.org
SUMMARY:UrStorytellers Story Telling Training
DESCRIPTION:Storytelling is a training facilitated by UrStorytellers in collaboration with the City of Department of Behavioral Health and Intellectual DisAbility Services (DBHIDS). This training is one of many that is approved as a required prerequisite for applicants who want to become a Certified Peer Specialists. Our goal is to inform the recovery and faith-based communities on how to share their stories in addition to the importance of sharing them in community settings. This training will be 4hrs. at length\, delivered in a power point format\, and interactive activities enhance this training. At the conclusion of the training\, all participants will receive a certificate of completion.
URL:https://healthymindsphilly.org/dev/event/urstorytellers-story-telling-training/2023-05-11/
LOCATION:Philadelphia Recovery Community Center (PRCC)\, 1701 W. Lehigh Ave.\, Philadelphia\, 19132\, United States
CATEGORIES:Storytelling,Training
ATTACH;FMTTYPE=image/png:https://healthymindsphilly.org/dev/wp-content/uploads/2023/06/UR-Facebook-image-2.png
ORGANIZER;CN="UrStorytellers Foundation Inc":MAILTO:sanders.urstorytellers@gmail.com
END:VEVENT
BEGIN:VEVENT
DTSTART;TZID=America/New_York:20230511T120000
DTEND;TZID=America/New_York:20230511T130000
DTSTAMP:20260422T000622
CREATED:20230713T133007Z
LAST-MODIFIED:20230713T135116Z
UID:10001373-1683806400-1683810000@healthymindsphilly.org
SUMMARY:Philadelphia Autism Project Listening Sessions
DESCRIPTION:Are you an autistic person\, caregiver and/or provider in Philadelphia? Tell us what is working well\, what needs improvement\, and what we should focus on in the coming years. Virtual listening sessions are available throughout May. We may host more sessions based on your feedback. \nZoom Listening Sessions:\nTeens & Young Adults: Tues.\, May 2 • 4:30 pm – 5:30 pm\nAutistic Adults: Thurs.\, May 4 • 12 – 1 pm & 7 – 8 pm\nOlder Adults: Tues.\, May 9 • 12 – 1 pm & 7 – 8 pm\nParents & Caregivers: Thurs.\, May 11 • 12 – 1 pm & 7 – 8 pm\nProviders: Wed.\, May 17 • 12 – 1 pm & 7 – 8 pm \nClick here to download the flyer.
URL:https://healthymindsphilly.org/dev/event/philadelphia-autism-project-listening-sessions/2023-05-11/1/
LOCATION:Online\, United States
ATTACH;FMTTYPE=image/png:https://healthymindsphilly.org/dev/wp-content/uploads/2023/07/listening-sessions.png
ORGANIZER;CN="Philadelphia Autism Project":MAILTO:phillyap@drexel.edu
END:VEVENT
BEGIN:VEVENT
DTSTART;TZID=America/New_York:20230511T190000
DTEND;TZID=America/New_York:20230511T200000
DTSTAMP:20260422T000622
CREATED:20230713T133007Z
LAST-MODIFIED:20230713T135116Z
UID:10001374-1683831600-1683835200@healthymindsphilly.org
SUMMARY:Philadelphia Autism Project Listening Sessions
DESCRIPTION:Are you an autistic person\, caregiver and/or provider in Philadelphia? Tell us what is working well\, what needs improvement\, and what we should focus on in the coming years. Virtual listening sessions are available throughout May. We may host more sessions based on your feedback. \nZoom Listening Sessions:\nTeens & Young Adults: Tues.\, May 2 • 4:30 pm – 5:30 pm\nAutistic Adults: Thurs.\, May 4 • 12 – 1 pm & 7 – 8 pm\nOlder Adults: Tues.\, May 9 • 12 – 1 pm & 7 – 8 pm\nParents & Caregivers: Thurs.\, May 11 • 12 – 1 pm & 7 – 8 pm\nProviders: Wed.\, May 17 • 12 – 1 pm & 7 – 8 pm \nClick here to download the flyer.
URL:https://healthymindsphilly.org/dev/event/philadelphia-autism-project-listening-sessions/2023-05-11/2/
LOCATION:Online\, United States
ATTACH;FMTTYPE=image/png:https://healthymindsphilly.org/dev/wp-content/uploads/2023/07/listening-sessions.png
ORGANIZER;CN="Philadelphia Autism Project":MAILTO:phillyap@drexel.edu
END:VEVENT
END:VCALENDAR