BEGIN:VCALENDAR
VERSION:2.0
PRODID:-//Healthy Minds Philly® - ECPv6.15.18//NONSGML v1.0//EN
CALSCALE:GREGORIAN
METHOD:PUBLISH
X-WR-CALNAME:Healthy Minds Philly®
X-ORIGINAL-URL:https://healthymindsphilly.org/dev
X-WR-CALDESC:Events for Healthy Minds Philly®
REFRESH-INTERVAL;VALUE=DURATION:PT1H
X-Robots-Tag:noindex
X-PUBLISHED-TTL:PT1H
BEGIN:VTIMEZONE
TZID:America/New_York
BEGIN:DAYLIGHT
TZOFFSETFROM:-0500
TZOFFSETTO:-0400
TZNAME:EDT
DTSTART:20220313T070000
END:DAYLIGHT
BEGIN:STANDARD
TZOFFSETFROM:-0400
TZOFFSETTO:-0500
TZNAME:EST
DTSTART:20221106T060000
END:STANDARD
BEGIN:DAYLIGHT
TZOFFSETFROM:-0500
TZOFFSETTO:-0400
TZNAME:EDT
DTSTART:20230312T070000
END:DAYLIGHT
BEGIN:STANDARD
TZOFFSETFROM:-0400
TZOFFSETTO:-0500
TZNAME:EST
DTSTART:20231105T060000
END:STANDARD
BEGIN:DAYLIGHT
TZOFFSETFROM:-0500
TZOFFSETTO:-0400
TZNAME:EDT
DTSTART:20240310T070000
END:DAYLIGHT
BEGIN:STANDARD
TZOFFSETFROM:-0400
TZOFFSETTO:-0500
TZNAME:EST
DTSTART:20241103T060000
END:STANDARD
END:VTIMEZONE
BEGIN:VEVENT
DTSTART;TZID=America/New_York:20230506T100000
DTEND;TZID=America/New_York:20230506T140000
DTSTAMP:20260422T000348
CREATED:20230417T153532Z
LAST-MODIFIED:20230417T153532Z
UID:10000048-1683367200-1683381600@healthymindsphilly.org
SUMMARY:Senior Summit: Seniors Count
DESCRIPTION:To empower Senior Citizens through exposure to governmental agencies\, non-profits\, medical and mental health agencies\, and care-giving agencies that can help them to manage the intricacies of their lives. Participants can engage in breakout sessions on mental health\, diabetes\, hypertension\, and other health issues. There will be information employment\, housing\, life insurance\, wills\, and estates\, nutrition\, and diet and more. There will be healthy refreshments. \nComhar will be onsite and will provide free bheavioral health screenings and resources for well-being
URL:https://healthymindsphilly.org/dev/event/senior-summit-seniors-count-3/
LOCATION:Salt &amp; Light Church\, 5736 Chester Ave\, Philadelphia\, PA\, 19143
CATEGORIES:Screening
ORGANIZER;CN="SCOPE Community Based Orginazation":MAILTO:SCOPEForEASE@gmail.com
END:VEVENT
BEGIN:VEVENT
DTSTART;TZID=America/New_York:20230506T110000
DTEND;TZID=America/New_York:20230506T140000
DTSTAMP:20260422T000348
CREATED:20230418T145600Z
LAST-MODIFIED:20230418T145600Z
UID:10000051-1683370800-1683381600@healthymindsphilly.org
SUMMARY:Black Woman Wellness Fair & Expo
DESCRIPTION:A free event that will provide resource tables and panel discussion topics that significantly impact black women – maternal health\, donor awareness\, long-term covid\, etc. \nCommunity Council Health Systems will provide free mental health screenings.
URL:https://healthymindsphilly.org/dev/event/black-woman-wellness-fair-expo/
LOCATION:Center in the Park\, 5818 Germantown Avenue\, Philadelphia\, 19144\, United States
CATEGORIES:Community,Screening,Women's Health
ATTACH;FMTTYPE=image/jpeg:https://healthymindsphilly.org/dev/wp-content/uploads/2023/04/black-women-expo-may-6.jpg
ORGANIZER;CN="Sisters of Service":MAILTO:sistersofservice23@gmail.com
END:VEVENT
BEGIN:VEVENT
DTSTART;TZID=America/New_York:20230506T110000
DTEND;TZID=America/New_York:20230506T150000
DTSTAMP:20260422T000348
CREATED:20230406T012514Z
LAST-MODIFIED:20230503T145358Z
UID:10000042-1683370800-1683385200@healthymindsphilly.org
SUMMARY:Penn Medicine Nurses Week Community Day
DESCRIPTION:To celebrate Nurses Week Penn Medicine hosts an annual health fair where health care workers\, community partners and volunteers engage with local residents to share resources and raise awareness on important health topics. Featured this year will be: \n\nhands on CPR training\,\nNarcan overdose reversal training\,\ncooking demonstrations\,\nhealth screenings\,\nVetri Mobile Teaching Kitchen\,\nprizes\, and more.\n\nHall Mercer and Penn Presby will be providing Behavioral Health screenings
URL:https://healthymindsphilly.org/dev/event/penn-medicine-nurses-week-community-day-2/
LOCATION:Malcolm X Park\, 5100 Pine Street\, Philadelphia\, 19143\, United States
CATEGORIES:Community,Screening
ATTACH;FMTTYPE=image/jpeg:https://healthymindsphilly.org/dev/wp-content/uploads/2023/04/CD-2023-Flyer_External.jpg
ORGANIZER;CN="Penn Medicine":MAILTO:rachel.bradis@pennmedicine.upenn.edu
END:VEVENT
BEGIN:VEVENT
DTSTART;TZID=America/New_York:20230506T120000
DTEND;TZID=America/New_York:20230506T160000
DTSTAMP:20260422T000348
CREATED:20230418T135600Z
LAST-MODIFIED:20230418T135600Z
UID:10000050-1683374400-1683388800@healthymindsphilly.org
SUMMARY:ConsentFest 2023
DESCRIPTION:ConsentFest is an outdoors\, all-ages celebration of consent and bodily autonomy in all its forms! The event invites people to imagine a world where consent is a priority. \nActivities include:\n•Wedge Recovery Centers will be doing Behavioral Health Screenings\n•Face painting\n•Animals to pet (with consent!)\n•Vendors selling merchandise from earrings to children’s books\, body oils to greeting cards\n•Live music\n•Consent-based bodywork/massage\n•Lil Pop Shop popsicles!\n•Drag queen Storytime\n•Community organizers sharing how their various campaigns are part of building consent culture\n•Lots of organizations committed to consent education\n•Breathwork boundaries workshop \nCo-sponsors:\n• Ants on a Log\n• Masculinity Action Project\n• Gender Justice Fund\n• Abortion Liberation Fund of PA\n• Planned Parenthood of Southeastern PA\n• Prevention Meets Fashion\n• University Community Collaborative\n• William Way LGBT Community Center\n• Widener University Center for Human Sexuality Studies
URL:https://healthymindsphilly.org/dev/event/consentfest-2023/
LOCATION:Clark Park\, 4350 Chester Ave\, Philadelphia\, 19104\, United States
CATEGORIES:Community,Screening
ATTACH;FMTTYPE=image/png:https://healthymindsphilly.org/dev/wp-content/uploads/2023/04/consentfest.png
ORGANIZER;CN="YES! (Isy Abraham-Raveson)":MAILTO:isyabrahamraveson@gmail.com
END:VEVENT
BEGIN:VEVENT
DTSTART;TZID=America/New_York:20230506T120000
DTEND;TZID=America/New_York:20230506T170000
DTSTAMP:20260422T000348
CREATED:20230713T140650Z
LAST-MODIFIED:20230713T140650Z
UID:10001491-1683374400-1683392400@healthymindsphilly.org
SUMMARY:Saturday Afternoon Respite
DESCRIPTION:Caring for a child with behavioral health needs can be demanding. Take a break. Respite care is short-term care for children ages 6-17. Children with a behavioral health diagnosis are eligible for short-term care.
URL:https://healthymindsphilly.org/dev/event/saturday-afternoon-respite-2/2023-05-06/
LOCATION:Shane Victorino Nicetown Boys & Girls Club\, 1721 West Hunting Park Ave\, Philadelphia\, PA\, 19140\, United States
CATEGORIES:Caregiving,Community,Family,Youth
ATTACH;FMTTYPE=image/jpeg:https://healthymindsphilly.org/dev/wp-content/uploads/2023/07/respite.jpg
ORGANIZER;CN="DBHIDS":MAILTO:gabriel.bryant@phila.gov
END:VEVENT
END:VCALENDAR