BEGIN:VCALENDAR
VERSION:2.0
PRODID:-//Healthy Minds Philly® - ECPv6.15.18//NONSGML v1.0//EN
CALSCALE:GREGORIAN
METHOD:PUBLISH
X-ORIGINAL-URL:https://healthymindsphilly.org/dev
X-WR-CALDESC:Events for Healthy Minds Philly®
REFRESH-INTERVAL;VALUE=DURATION:PT1H
X-Robots-Tag:noindex
X-PUBLISHED-TTL:PT1H
BEGIN:VTIMEZONE
TZID:America/Halifax
BEGIN:DAYLIGHT
TZOFFSETFROM:-0400
TZOFFSETTO:-0300
TZNAME:ADT
DTSTART:20220313T060000
END:DAYLIGHT
BEGIN:STANDARD
TZOFFSETFROM:-0300
TZOFFSETTO:-0400
TZNAME:AST
DTSTART:20221106T050000
END:STANDARD
BEGIN:DAYLIGHT
TZOFFSETFROM:-0400
TZOFFSETTO:-0300
TZNAME:ADT
DTSTART:20230312T060000
END:DAYLIGHT
BEGIN:STANDARD
TZOFFSETFROM:-0300
TZOFFSETTO:-0400
TZNAME:AST
DTSTART:20231105T050000
END:STANDARD
BEGIN:DAYLIGHT
TZOFFSETFROM:-0400
TZOFFSETTO:-0300
TZNAME:ADT
DTSTART:20240310T060000
END:DAYLIGHT
BEGIN:STANDARD
TZOFFSETFROM:-0300
TZOFFSETTO:-0400
TZNAME:AST
DTSTART:20241103T050000
END:STANDARD
END:VTIMEZONE
BEGIN:VTIMEZONE
TZID:America/New_York
BEGIN:DAYLIGHT
TZOFFSETFROM:-0500
TZOFFSETTO:-0400
TZNAME:EDT
DTSTART:20220313T070000
END:DAYLIGHT
BEGIN:STANDARD
TZOFFSETFROM:-0400
TZOFFSETTO:-0500
TZNAME:EST
DTSTART:20221106T060000
END:STANDARD
BEGIN:DAYLIGHT
TZOFFSETFROM:-0500
TZOFFSETTO:-0400
TZNAME:EDT
DTSTART:20230312T070000
END:DAYLIGHT
BEGIN:STANDARD
TZOFFSETFROM:-0400
TZOFFSETTO:-0500
TZNAME:EST
DTSTART:20231105T060000
END:STANDARD
BEGIN:DAYLIGHT
TZOFFSETFROM:-0500
TZOFFSETTO:-0400
TZNAME:EDT
DTSTART:20240310T070000
END:DAYLIGHT
BEGIN:STANDARD
TZOFFSETFROM:-0400
TZOFFSETTO:-0500
TZNAME:EST
DTSTART:20241103T060000
END:STANDARD
END:VTIMEZONE
BEGIN:VEVENT
DTSTART;TZID=America/Halifax:20230504T100000
DTEND;TZID=America/Halifax:20230504T111500
DTSTAMP:20260422T000610
CREATED:20230420T133826Z
LAST-MODIFIED:20230420T133826Z
UID:10000054-1683194400-1683198900@healthymindsphilly.org
SUMMARY:How to Plan for Aging in Place: Free Educational Seminar from Friends Life Care
DESCRIPTION:Friends Life Care may be your certainty in uncertain times. Explore options to get peace of mind and ensure long term care needs are covered. Get a plan in place to successfully age in your own home rather than moving to a facility in your later years. This informational long-term care workshop is for individuals ages 40-85 who are in good health and residing in southeastern Pennsylvania or Delaware. \nTopics will include:\n– If you want to stay in your home for the rest of your life\, what options are available?\n– What is the difference between long-term care insurance and membership in a Friends Life Care plan?\n– How do Medicare\, Medicaid\, and your current healthcare insurance fit in?\n– What are the affordable alternatives this offers for quality care in your own home? \nOnsite parking available. Beverages will be served. \nRSVP required. \nThe seminar is intended for prospective Friends Life Care members who are thinking more about their plans for their retirement years.
URL:https://healthymindsphilly.org/dev/event/how-to-plan-for-aging-in-place-free-educational-seminar-from-friends-life-care/
LOCATION:Friends Life Care\, 460 Norristown Road Suite 300\, Blue Bell\, PA\, 19422\, United States
CATEGORIES:Community,Older Adults
ATTACH;FMTTYPE=image/jpeg:https://healthymindsphilly.org/dev/wp-content/uploads/2023/04/1681412.jpg
ORGANIZER;CN="Friends Life Care":MAILTO:info@flcpartners.org
END:VEVENT
BEGIN:VEVENT
DTSTART;TZID=America/New_York:20230504T120000
DTEND;TZID=America/New_York:20230504T130000
DTSTAMP:20260422T000610
CREATED:20230713T133007Z
LAST-MODIFIED:20230713T135116Z
UID:10001451-1683201600-1683205200@healthymindsphilly.org
SUMMARY:Philadelphia Autism Project Listening Sessions
DESCRIPTION:Are you an autistic person\, caregiver and/or provider in Philadelphia? Tell us what is working well\, what needs improvement\, and what we should focus on in the coming years. Virtual listening sessions are available throughout May. We may host more sessions based on your feedback. \nZoom Listening Sessions:\nTeens & Young Adults: Tues.\, May 2 • 4:30 pm – 5:30 pm\nAutistic Adults: Thurs.\, May 4 • 12 – 1 pm & 7 – 8 pm\nOlder Adults: Tues.\, May 9 • 12 – 1 pm & 7 – 8 pm\nParents & Caregivers: Thurs.\, May 11 • 12 – 1 pm & 7 – 8 pm\nProviders: Wed.\, May 17 • 12 – 1 pm & 7 – 8 pm \nClick here to download the flyer.
URL:https://healthymindsphilly.org/dev/event/philadelphia-autism-project-listening-sessions/2023-05-04/1/
LOCATION:Online\, United States
ATTACH;FMTTYPE=image/png:https://healthymindsphilly.org/dev/wp-content/uploads/2023/07/listening-sessions.png
ORGANIZER;CN="Philadelphia Autism Project":MAILTO:phillyap@drexel.edu
END:VEVENT
BEGIN:VEVENT
DTSTART;TZID=America/New_York:20230504T190000
DTEND;TZID=America/New_York:20230504T200000
DTSTAMP:20260422T000610
CREATED:20230713T133007Z
LAST-MODIFIED:20230713T135116Z
UID:10001371-1683226800-1683230400@healthymindsphilly.org
SUMMARY:Philadelphia Autism Project Listening Sessions
DESCRIPTION:Are you an autistic person\, caregiver and/or provider in Philadelphia? Tell us what is working well\, what needs improvement\, and what we should focus on in the coming years. Virtual listening sessions are available throughout May. We may host more sessions based on your feedback. \nZoom Listening Sessions:\nTeens & Young Adults: Tues.\, May 2 • 4:30 pm – 5:30 pm\nAutistic Adults: Thurs.\, May 4 • 12 – 1 pm & 7 – 8 pm\nOlder Adults: Tues.\, May 9 • 12 – 1 pm & 7 – 8 pm\nParents & Caregivers: Thurs.\, May 11 • 12 – 1 pm & 7 – 8 pm\nProviders: Wed.\, May 17 • 12 – 1 pm & 7 – 8 pm \nClick here to download the flyer.
URL:https://healthymindsphilly.org/dev/event/philadelphia-autism-project-listening-sessions/2023-05-04/2/
LOCATION:Online\, United States
ATTACH;FMTTYPE=image/png:https://healthymindsphilly.org/dev/wp-content/uploads/2023/07/listening-sessions.png
ORGANIZER;CN="Philadelphia Autism Project":MAILTO:phillyap@drexel.edu
END:VEVENT
END:VCALENDAR