BEGIN:VCALENDAR
VERSION:2.0
PRODID:-//Healthy Minds Philly® - ECPv6.15.18//NONSGML v1.0//EN
CALSCALE:GREGORIAN
METHOD:PUBLISH
X-ORIGINAL-URL:https://healthymindsphilly.org/dev
X-WR-CALDESC:Events for Healthy Minds Philly®
REFRESH-INTERVAL;VALUE=DURATION:PT1H
X-Robots-Tag:noindex
X-PUBLISHED-TTL:PT1H
BEGIN:VTIMEZONE
TZID:America/New_York
BEGIN:DAYLIGHT
TZOFFSETFROM:-0500
TZOFFSETTO:-0400
TZNAME:EDT
DTSTART:20220313T070000
END:DAYLIGHT
BEGIN:STANDARD
TZOFFSETFROM:-0400
TZOFFSETTO:-0500
TZNAME:EST
DTSTART:20221106T060000
END:STANDARD
BEGIN:DAYLIGHT
TZOFFSETFROM:-0500
TZOFFSETTO:-0400
TZNAME:EDT
DTSTART:20230312T070000
END:DAYLIGHT
BEGIN:STANDARD
TZOFFSETFROM:-0400
TZOFFSETTO:-0500
TZNAME:EST
DTSTART:20231105T060000
END:STANDARD
BEGIN:DAYLIGHT
TZOFFSETFROM:-0500
TZOFFSETTO:-0400
TZNAME:EDT
DTSTART:20240310T070000
END:DAYLIGHT
BEGIN:STANDARD
TZOFFSETFROM:-0400
TZOFFSETTO:-0500
TZNAME:EST
DTSTART:20241103T060000
END:STANDARD
END:VTIMEZONE
BEGIN:VEVENT
DTSTART;TZID=America/New_York:20230429T093000
DTEND;TZID=America/New_York:20230429T130000
DTSTAMP:20260422T015019
CREATED:20230306T135730Z
LAST-MODIFIED:20230306T135730Z
UID:10000015-1682760600-1682773200@healthymindsphilly.org
SUMMARY:Best Buddies Friendship Walk
DESCRIPTION:If you believe that everyone deserves to be included – at school\, at work and in the community- then we invite you to meet us in King of Prussia for the 2023 Best Buddies Friendship Walk! Join hundreds of local community members\, including participants from over 85 of our eastern PA school chapters\, who support inclusion for people with disabilities and celebrate the joy that friendship can bring! \nThe Best Buddies Friendship Walk is the number one walk in the country raising awareness and funds to support individuals with intellectual and developmental disabilities (IDD). The walk plays a key role in funding Best Buddies programs dedicated to one-to-one friendships\, leadership development\, integrated employment and inclusive living for individuals with IDD. Each walk provides an opportunity to see the Best Buddies mission in action at a local level. Since the walk’s inception in 2009\, more than 150\,000 participants in 60 cities have walked to raise awareness for inclusion\, friendship and opportunity for people with IDD. \nOur Friendship Walk in King of Prussia will bring together supporters from communities across eastern PA at Freedom Business Center for a fun-filled morning that celebrates our mission and raises funds to help us make an impact in new schools and communities throughout our area. Attendees will enjoy music\, vendors\, refreshments and activities followed by our inspiring opening ceremonies where we’ll recognize some of the outstanding leaders in our community and hear from our Best Buddies Ambassadors about how our mission has impacted their lives. Then we’ll take our symbolic steps toward a more inclusive world by collectively making our way down Freedom Drive\, and up First Avenue returning to 630 Freedom Business Center where the fun\, food and fellowship continues. Register today at www.bestbuddiesfriendshipwalk.org/philadelphia!
URL:https://healthymindsphilly.org/dev/event/best-buddies-friendship-walk/
LOCATION:Freedom Business Center\, 630 Freedom Business Center Drive\, King of Prussia\, PA\, 19406\, United States
CATEGORIES:Community
ATTACH;FMTTYPE=image/png:https://healthymindsphilly.org/dev/wp-content/uploads/2023/03/BBFW23-Save-The-Date.png
ORGANIZER;CN="Best Buddies in Pennsylvania":MAILTO:pennsylvania@bestbuddies.org
END:VEVENT
BEGIN:VEVENT
DTSTART;TZID=America/New_York:20230429T120000
DTEND;TZID=America/New_York:20230429T170000
DTSTAMP:20260422T015019
CREATED:20230713T140650Z
LAST-MODIFIED:20230713T140650Z
UID:10001490-1682769600-1682787600@healthymindsphilly.org
SUMMARY:Saturday Afternoon Respite
DESCRIPTION:Caring for a child with behavioral health needs can be demanding. Take a break. Respite care is short-term care for children ages 6-17. Children with a behavioral health diagnosis are eligible for short-term care.
URL:https://healthymindsphilly.org/dev/event/saturday-afternoon-respite-2/2023-04-29/
LOCATION:Shane Victorino Nicetown Boys & Girls Club\, 1721 West Hunting Park Ave\, Philadelphia\, PA\, 19140\, United States
CATEGORIES:Caregiving,Community,Family,Youth
ATTACH;FMTTYPE=image/jpeg:https://healthymindsphilly.org/dev/wp-content/uploads/2023/07/respite.jpg
ORGANIZER;CN="DBHIDS":MAILTO:gabriel.bryant@phila.gov
END:VEVENT
BEGIN:VEVENT
DTSTART;TZID=America/New_York:20230429T140000
DTEND;TZID=America/New_York:20230429T170000
DTSTAMP:20260422T015019
CREATED:20230319T141232Z
LAST-MODIFIED:20230319T141232Z
UID:10000021-1682776800-1682787600@healthymindsphilly.org
SUMMARY:10th Annual Sojourner Truth Walk: Growing Food Justice\, Honoring Those Who Feed Us
DESCRIPTION:This event is named in honor of Sojourner Truth\, an American abolitionist\, women’s rights and economic justice activist\, who escaped slavery and then fought to end it. She\, along with many others\, has served as an inspiration and role model for generations to come. We are walking in their footsteps! This year we are also lifting up Food Justice and the people who feed us\, as an important political movement in Philadelphia and beyond. \nPlease help build the leadership of Philly girls/youth by joining the 10th Annual Sojourner Truth Walk! All proceeds benefit Camp Sojourner\, Girls’ Leadership Camp\, and help to fund scholarships for summer camp and year-round leadership activities. \nHall Mercer will be providing behavioral health screenings.
URL:https://healthymindsphilly.org/dev/event/10th-annual-sojourner-truth-walk-growing-food-justice-honoring-those-who-feed-us/
LOCATION:Calvery Center for Community and Culture\, 801 S. 48th Street\, Philadelphia\, PA\, 19143\, United States
CATEGORIES:Community,Screening
ORGANIZER;CN="Camp Sojourner":MAILTO:walkinfo@girlsleadershipcamp.org
END:VEVENT
END:VCALENDAR